BEGIN:VCALENDAR
VERSION:2.0
PRODID:-//AIA Triangle - ECPv6.15.20//NONSGML v1.0//EN
CALSCALE:GREGORIAN
METHOD:PUBLISH
X-WR-CALNAME:AIA Triangle
X-ORIGINAL-URL:https://aiatriangle.org
X-WR-CALDESC:Events for AIA Triangle
REFRESH-INTERVAL;VALUE=DURATION:PT1H
X-Robots-Tag:noindex
X-PUBLISHED-TTL:PT1H
BEGIN:VTIMEZONE
TZID:America/New_York
BEGIN:DAYLIGHT
TZOFFSETFROM:-0500
TZOFFSETTO:-0400
TZNAME:EDT
DTSTART:20200308T070000
END:DAYLIGHT
BEGIN:STANDARD
TZOFFSETFROM:-0400
TZOFFSETTO:-0500
TZNAME:EST
DTSTART:20201101T060000
END:STANDARD
BEGIN:DAYLIGHT
TZOFFSETFROM:-0500
TZOFFSETTO:-0400
TZNAME:EDT
DTSTART:20210314T070000
END:DAYLIGHT
BEGIN:STANDARD
TZOFFSETFROM:-0400
TZOFFSETTO:-0500
TZNAME:EST
DTSTART:20211107T060000
END:STANDARD
BEGIN:DAYLIGHT
TZOFFSETFROM:-0500
TZOFFSETTO:-0400
TZNAME:EDT
DTSTART:20220313T070000
END:DAYLIGHT
BEGIN:STANDARD
TZOFFSETFROM:-0400
TZOFFSETTO:-0500
TZNAME:EST
DTSTART:20221106T060000
END:STANDARD
BEGIN:DAYLIGHT
TZOFFSETFROM:-0500
TZOFFSETTO:-0400
TZNAME:EDT
DTSTART:20230312T070000
END:DAYLIGHT
BEGIN:STANDARD
TZOFFSETFROM:-0400
TZOFFSETTO:-0500
TZNAME:EST
DTSTART:20231105T060000
END:STANDARD
END:VTIMEZONE
BEGIN:VEVENT
DTSTART;TZID=America/New_York:20220407T163000
DTEND;TZID=America/New_York:20220407T180000
DTSTAMP:20260423T044529
CREATED:20220310T175854Z
LAST-MODIFIED:20220329T150625Z
UID:10000359-1649349000-1649354400@aiatriangle.org
SUMMARY:Pre-Design Awards Tour of NC Botanical Gardens and Design Team Q&A
DESCRIPTION:LIMITED TO 40 PARTICIPANTS \nApproved for  \n1.5 AIA LU/HSW + 1.5 GBCI Credits \nPRE-DESIGN AWARDS TOUR OF BOTANICAL GARDENS \nNC Botanical Gardens | 100 Old Mason Farm Road | Chapel Hill\, NC \nNOTE: Parking is limited. Please consider sharing a ride if possible and arrive early \nThursday\, April 7\, 2022 \n4:30 PM – 6:00 PM  \n(Check in begins at 4:00 PM) \n $25 per person for tour \nEnvironmental stewardship has become one of the foremost issues of our time. With AIA’s commitment to the 2030 Challenge (carbon neutrality for all new construction)\, examples of radical sustainability are invaluable. Join us for a walking tour led by Facilities Manager\, Sierra Dickerson and participate in a Q&A session with the design team of Frank Harmon\, FAIA and David Swanson\, RLA\, ASLA\, to learn how they navigated challenges to deliver a LEED Platinum Education Center and enhanced conservation garden – a resource for all of North Carolina. \nThe walking tour will include: \nBotanical Garden walking tour led by Facilities Manager\, Sierra Dickerson featuring discussion of the Display Garden\, Education Center\, native habitats\, and the parking area design. \nDesign Team Q&A and discussion led by Frank Harmon\, FAIA and David Swanson\, RLA\, ASLA.  \nTopics of discussion include: \n\nHow the project was conceived\, and how the attitude of the design team supported the goals of the NCBG team\nHow both active and passive sustainability strategies were implemented\, and how the built facility integrates with the garden plan\nWhich community stakeholders were involved in the design\, and how their feedback benefited the project\nHow the theme of education was implemented throughout the building and garden design\nCollaborative process between architect and landscape architect\, and how the thinking and strategy shifted over the course of the design process\nKey challenges the design team faced during design and construction of the facility\n\n\nFrank Harmon\, FAIA is a multi-award winning architect who founded his North Carolina-based practice in 1985. While many architects have embraced the principles of sustainable design over recent years\, Frank has been designing environmentally responsible\, modern buildings for nearly three decades – long before “green architecture” became a part of the general lexicon. Sustainability is the most important architectural issues of our time. As a young architect\, he quickly learned that everything he designed would cause the earth to be stripped or mined. Stunned by that realization\, he knew that the only way he could work as an architect was to promise to make a site better than he found it. Sometimes that meant not building at all. From single-family homes and tiny artists’ studios to corporate headquarters\, commercial educational\, and institutional facilities\, Frank’s practice has gone to great lengths to ensure that the buildings are energy-efficient and environmentally conservative. \nDavid Swanson\, RLA\, ASLA was born in Beirut\, Lebanon. His family moved back to North Carolina when he was a small boy. His first interest was in planning and city management\, but eventually he settled on landscape architecture and graduated with an MLA from North Carolina State University College of Design in 1983. Swanson worked at Lewis Clarke Associates (LCA) when the first master plan for the North Carolina Zoo was developed as well as during the Fayetteville Street Mall Project in Raleigh\, NC. In 1988\, Swanson founded his own firm\, Swanson and Associates\, PA. The firm places particular emphasis on careful analysis through the planning process and preparation of creative and innovative solutions using sustainable design practices. The firm staff has over thirty collective years of experience in landscape architecture and planning in both public and private practice\, with particular experience in sustainable site planning and historic preservation issues. David also specializes in the use of native landscapes and natural settings\, and in the adaptive reuse of landscape and hardscape elements. \nSierra Dickerson is the current Facilities and Events Manager for the North Carolina Botanical Gardens. As part of her role\, she manages the ongoing sustainable policies for weddings and catered events at the facility. She also has given countless walking tours of the grounds to various community groups\, focusing on novel features of the LEED Platinum-rated Education Center and conservation practices of the garden. \nJoining us for the AIA Triangle Design Awards Ceremony?  \nSeparate registration required HERE
URL:https://aiatriangle.org/event/pre-design-awards-tour-of-nc-botanical-gardens-and-design-team-qa/
LOCATION:NC Botanical Garden\, 100 Old Mason Farm Road\, Chapel Hill\, NC\, 27517\, United States
CATEGORIES:Design Awards
ORGANIZER;CN="Chris Stetkiewicz":MAILTO:info@aiatriangle.org
END:VEVENT
BEGIN:VEVENT
DTSTART;TZID=America/New_York:20220407T090000
DTEND;TZID=America/New_York:20220407T110000
DTSTAMP:20260423T044529
CREATED:20220321T183438Z
LAST-MODIFIED:20220321T184058Z
UID:10000375-1649322000-1649329200@aiatriangle.org
SUMMARY:NCNOMA Breakfast with AIAT Jury Chair Peter Cook\, FAIA\, NOMA
DESCRIPTION:NC NOMA Networking Breakfast \nwith Peter Cook\, FAIA\, NOMA \nAIA Triangle Design Awards Jury Chair \nThursday\, April 7 | 9:00 AM \nPlates Neighborhood Kitchen \n301 Glenwood Avenue\, #100 | Raleigh\, NC \nREGISTER HERE
URL:https://aiatriangle.org/event/breakfast-with-aiat-jury-chair-peter-cook-faia-noma/
LOCATION:Plates Neighborhood Kitchen\, 301 Glenwood Avenue #100\, Raleigh\, NC\, 27603\, United States
CATEGORIES:Design Awards
END:VEVENT
BEGIN:VEVENT
DTSTART;TZID=America/New_York:20210416T183000
DTEND;TZID=America/New_York:20210416T193000
DTSTAMP:20260423T044529
CREATED:20210203T190351Z
LAST-MODIFIED:20210416T180825Z
UID:10000271-1618597800-1618601400@aiatriangle.org
SUMMARY:AIA Triangle Virtual Design Awards Ceremony
DESCRIPTION:The AIA Triangle Design Awards recognizes excellence in architectural design throughout the Triangle area. The jury selection of this year’s winning projects will be announced during our virtual ceremony. We will name the projects receiving the prestigious AIA Triangle Honor and Merit Awards as well as announce this year’s Gail Lindsey Award winner and acknowledge student scholarship recipients.  \nWe encourage everyone in the design community to gather online to celebrate the outstanding work architects create. Registration is required to receive a link to the virtual ceremony open for viewing on Friday\, April 16\, 2021 at 6:30 pm. \n\n\nRSVP to receive an email at 3:00 pm today with the link to view the program\nAccess to the link for tonight’s program will be posted on our website after 3:00 pm today\nVideo will go live at 6:30 pm (ET) tonight\nMany will be watching! Be sure to share your congratulatory comments in the chat section on YouTube as you enjoy the program!
URL:https://aiatriangle.org/event/aia-triangle-virtual-design-awards-ceremony/
LOCATION:Online Meeting
CATEGORIES:Design Awards
ORGANIZER;CN="Chris Stetkiewicz":MAILTO:info@aiatriangle.org
END:VEVENT
END:VCALENDAR