BEGIN:VCALENDAR
VERSION:2.0
PRODID:-//AIA Triangle - ECPv6.15.20//NONSGML v1.0//EN
CALSCALE:GREGORIAN
METHOD:PUBLISH
X-WR-CALNAME:AIA Triangle
X-ORIGINAL-URL:https://aiatriangle.org
X-WR-CALDESC:Events for AIA Triangle
REFRESH-INTERVAL;VALUE=DURATION:PT1H
X-Robots-Tag:noindex
X-PUBLISHED-TTL:PT1H
BEGIN:VTIMEZONE
TZID:America/New_York
BEGIN:DAYLIGHT
TZOFFSETFROM:-0500
TZOFFSETTO:-0400
TZNAME:EDT
DTSTART:20240310T070000
END:DAYLIGHT
BEGIN:STANDARD
TZOFFSETFROM:-0400
TZOFFSETTO:-0500
TZNAME:EST
DTSTART:20241103T060000
END:STANDARD
BEGIN:DAYLIGHT
TZOFFSETFROM:-0500
TZOFFSETTO:-0400
TZNAME:EDT
DTSTART:20250309T070000
END:DAYLIGHT
BEGIN:STANDARD
TZOFFSETFROM:-0400
TZOFFSETTO:-0500
TZNAME:EST
DTSTART:20251102T060000
END:STANDARD
BEGIN:DAYLIGHT
TZOFFSETFROM:-0500
TZOFFSETTO:-0400
TZNAME:EDT
DTSTART:20260308T070000
END:DAYLIGHT
BEGIN:STANDARD
TZOFFSETFROM:-0400
TZOFFSETTO:-0500
TZNAME:EST
DTSTART:20261101T060000
END:STANDARD
END:VTIMEZONE
BEGIN:VEVENT
DTSTART;TZID=America/New_York:20250303T180000
DTEND;TZID=America/New_York:20250303T190000
DTSTAMP:20260425T125031
CREATED:20250217T160322Z
LAST-MODIFIED:20250226T123534Z
UID:10000617-1741024800-1741028400@aiatriangle.org
SUMMARY:NCSU 2025 Spring Lectures - Yutaka Sho + Leighton Beaman
DESCRIPTION:The NC State University School of Architecture and AIA Triangle are pleased to announce the Spring 2025 Joint Lecture Series. You can learn more about the speakers and register to attend at this link:\n https://design.ncsu.edu/architecture/news-events/lectures/
URL:https://aiatriangle.org/event/ncsu-2025-spring-lectures-yutaka-sho-leighton-beaman/
LOCATION:NC State College of Design – Burns Auditorium\, 2221 Katherine Stinson Drive\, Raleigh\, NC\, United States
CATEGORIES:Joint Lecture Series
END:VEVENT
BEGIN:VEVENT
DTSTART;TZID=America/New_York:20250317T180000
DTEND;TZID=America/New_York:20250317T190000
DTSTAMP:20260425T125031
CREATED:20250217T160529Z
LAST-MODIFIED:20250311T164051Z
UID:10000618-1742234400-1742238000@aiatriangle.org
SUMMARY:NCSU 2025 Spring Lectures - Roy Decker
DESCRIPTION:The NC State University School of Architecture and AIA Triangle are pleased to announce the Spring 2025 Joint Lecture Series. You can learn more about the speakers and register to attend at this link:\n https://design.ncsu.edu/architecture/news-events/lectures/ \nSchool of Architecture / AIA Triangle Joint Lecture Series\nHarwell Hamilton Harris Endowed Lecture\nRoy Decker\, FAIA\nDuvall Decker Architects: https://www.duvalldecker.com/ \nMonday\, March 17 @ 6pm in Kamphoefner Hall\, Burns Auditorium \nClick the link here for more information and registration: https://calendar.ncsu.edu/event/architecture-lecture-roy-decker \nThe lecture will be followed with a book signing. We will have copies of Duvall Decker’s new book\, Foundations\, for sale. See this link for details on the book: https://www.duvalldecker.com/foundations-book/
URL:https://aiatriangle.org/event/ncsu-2025-spring-lectures-yutaka-sho-leighton-beaman-copy/
LOCATION:NC State College of Design – Burns Auditorium\, 2221 Katherine Stinson Drive\, Raleigh\, NC\, United States
CATEGORIES:Joint Lecture Series
END:VEVENT
BEGIN:VEVENT
DTSTART;TZID=America/New_York:20250324T120000
DTEND;TZID=America/New_York:20250324T130000
DTSTAMP:20260425T125031
CREATED:20250217T160910Z
LAST-MODIFIED:20250217T161132Z
UID:10000619-1742817600-1742821200@aiatriangle.org
SUMMARY:NCSU 2025 Spring Lectures - Salma Samar Damluji
DESCRIPTION:The NC State University School of Architecture and AIA Triangle are pleased to announce the Spring 2025 Joint Lecture Series. You can learn more about the speakers and register to attend at this link:\n https://design.ncsu.edu/architecture/news-events/lectures/
URL:https://aiatriangle.org/event/ncsu-2025-spring-lectures-yutaka-sho-leighton-beaman-copy-copy/
LOCATION:Virtual Event
CATEGORIES:Joint Lecture Series
END:VEVENT
BEGIN:VEVENT
DTSTART;TZID=America/New_York:20250331T180000
DTEND;TZID=America/New_York:20250331T190000
DTSTAMP:20260425T125031
CREATED:20250217T161240Z
LAST-MODIFIED:20250217T161357Z
UID:10000620-1743444000-1743447600@aiatriangle.org
SUMMARY:NCSU 2025 Spring Lectures - Jaron Lubin
DESCRIPTION:The NC State University School of Architecture and AIA Triangle are pleased to announce the Spring 2025 Joint Lecture Series. You can learn more about the speakers and register to attend at this link:\n https://design.ncsu.edu/architecture/news-events/lectures/
URL:https://aiatriangle.org/event/ncsu-2025-spring-lectures-yutaka-sho-leighton-beaman-copy-copy-2/
LOCATION:NC State College of Design – Burns Auditorium\, 2221 Katherine Stinson Drive\, Raleigh\, NC\, United States
CATEGORIES:Joint Lecture Series
END:VEVENT
END:VCALENDAR