BEGIN:VCALENDAR
VERSION:2.0
PRODID:-//AIA Triangle - ECPv6.15.20//NONSGML v1.0//EN
CALSCALE:GREGORIAN
METHOD:PUBLISH
X-ORIGINAL-URL:https://aiatriangle.org
X-WR-CALDESC:Events for AIA Triangle
REFRESH-INTERVAL;VALUE=DURATION:PT1H
X-Robots-Tag:noindex
X-PUBLISHED-TTL:PT1H
BEGIN:VTIMEZONE
TZID:America/New_York
BEGIN:DAYLIGHT
TZOFFSETFROM:-0500
TZOFFSETTO:-0400
TZNAME:EDT
DTSTART:20250309T070000
END:DAYLIGHT
BEGIN:STANDARD
TZOFFSETFROM:-0400
TZOFFSETTO:-0500
TZNAME:EST
DTSTART:20251102T060000
END:STANDARD
BEGIN:DAYLIGHT
TZOFFSETFROM:-0500
TZOFFSETTO:-0400
TZNAME:EDT
DTSTART:20260308T070000
END:DAYLIGHT
BEGIN:STANDARD
TZOFFSETFROM:-0400
TZOFFSETTO:-0500
TZNAME:EST
DTSTART:20261101T060000
END:STANDARD
BEGIN:DAYLIGHT
TZOFFSETFROM:-0500
TZOFFSETTO:-0400
TZNAME:EDT
DTSTART:20270314T070000
END:DAYLIGHT
BEGIN:STANDARD
TZOFFSETFROM:-0400
TZOFFSETTO:-0500
TZNAME:EST
DTSTART:20271107T060000
END:STANDARD
END:VTIMEZONE
BEGIN:VEVENT
DTSTART;TZID=America/New_York:20260206T123000
DTEND;TZID=America/New_York:20260206T133000
DTSTAMP:20260424T163926
CREATED:20260127T192651Z
LAST-MODIFIED:20260127T193807Z
UID:10000683-1770381000-1770384600@aiatriangle.org
SUMMARY:AIAT x NCSU Joint Lecture Series - Wayne Evans Holness
DESCRIPTION:Spring 2026  Joint Lecture Series\nNC State School of Architecture and AIA Triangle \nWayne Evans Holness\n \nFriday\, February 6 | 12:30 PM\nNC State University\nKamphoefner Hall\, Allred Gallery\n2221 Stinson Dr. | Raleigh\, NC \nPlease join the College of Design for the spring 2026 architecture lecture series. This is the Linda and Turan Duda Travel Fellowship Friday Forum.
URL:https://aiatriangle.org/event/aiat-x-ncsu-joint-lecture-series-wayne-evans-holness/
LOCATION:NC State Allred Gallery\, (Next to Burns Auditorium) 2221 Katharine Stinson Drive\, Raleigh\, NC\, 27607\, United States
CATEGORIES:Joint Lecture Series
END:VEVENT
BEGIN:VEVENT
DTSTART;TZID=America/New_York:20260211T173000
DTEND;TZID=America/New_York:20260211T190000
DTSTAMP:20260424T163926
CREATED:20260127T194215Z
LAST-MODIFIED:20260128T230025Z
UID:10000684-1770831000-1770836400@aiatriangle.org
SUMMARY:AIAT x NCSU Joint Lecture Series - Eric Höweler
DESCRIPTION:Spring 2026  Joint Lecture Series\nNC State School of Architecture and AIA Triangle \nEric Höweler\, FAIA\n \nWednesday\, February 11 | 5:30 – 7:00 PM\nNC State University\nKamphoefner Hall\, Burns Auditorium\n2221 Stinson Dr. | Raleigh\, NC\nTo attend via Zoom instead\, register here\n \nPlease join the College of Design for the spring 2026 architecture lecture series. This is the Robert P. Burns Lecture. \nEric Höweler\, Höweler + Yoon Architecture \nEric Höweler\, FAIA\, LEED AP\, is a Professor of Architecture at the Harvard University Graduate School of Design\, where he has taught lecture courses and design studios with a focus on building technologies/integration since 2008. \nEric is co-founding Principal of Höweler + Yoon\, a research-driven\, multidisciplinary design studio working between architecture\, art\, and media. H+Y has a reputation for work that is technologically and formally innovative\, and deeply informed by human experience and a sensitivity to tectonics. One of the firm’s celebrated projects is the MIT Collier Memorial\, a milled granite compression structure that commemorates the life of Officer Sean Collier\, who was killed in action after the Boston Marathon Bombing. The Collier Memorial has been honored with the BSA Honor Award\, the American Architecture Prize\, the AIA Religious Architecture Award\, and has four times been a finalist for the Harleston Parker Medal. H+Y’s courtyard-exhibition hall in Chengdu\, SkyCourts\, has been honored by Architect Magazine\, Archdaily\, the Boston Society of Architects\, and the European Centre for Architecture. Other recent projects include the UVA Memorial\, a landform structure dedicated to enslaved laborers at the University of Virginia\, 212 Stuart Street\, a multi-family residential tower on Stuart Street in Boston\, MA\, the new MIT Museum in Cambridge\, MA. Current projects include the Living Village at the Yale Divinity School\, a residence hall adjacent to the historic Sterling Divinity Quadrangle\, as well as the Karch Institute of Democracy at the University of Virginia.
URL:https://aiatriangle.org/event/aiat-x-ncsu-joint-lecture-series-eric-howeler/
LOCATION:NC State College of Design – Burns Auditorium\, 2221 Katherine Stinson Drive\, Raleigh\, NC\, United States
CATEGORIES:Joint Lecture Series
END:VEVENT
BEGIN:VEVENT
DTSTART;TZID=America/New_York:20260223T173000
DTEND;TZID=America/New_York:20260223T190000
DTSTAMP:20260424T163926
CREATED:20260128T215020Z
LAST-MODIFIED:20260128T225758Z
UID:10000685-1771867800-1771873200@aiatriangle.org
SUMMARY:AIAT x NCSU Joint Lecture Series - Elgin Cleckley
DESCRIPTION:Spring 2026  Joint Lecture Series\nNC State School of Architecture and AIA Triangle \nElgin Cleckley\n \nMonday\, February 23 | 5:30 – 7:00 PM\nNC State University\nKamphoefner Hall\, Burns Auditorium\n2221 Stinson Dr. | Raleigh\, NC\nTo attend via Zoom instead\, register here\n \nPlease join the College of Design for the spring 2026 architecture lecture series. This is the MacMillan Family Lecture. \nElgin Cleckley\, _mpathic design\nElgin Cleckley\, NOMA\, is an Associate Professor of Architecture and the Undergraduate Program Director. He leads _mpathic design\, a multi-award-winning pedagogy\, initiative\, and professional practice. After studying architecture at the University of Virginia (’93)\, Fontainebleau School of Visual Arts\, and Princeton University (’95)\, he collaborated with DLR Group (Seattle)\, MRSA Architects (Chicago)\, and Baird Sampson Neuert Architects (Toronto) on award-winning civic projects. Elgin was a Muschenheim Fellow at the University of Michigan and has taught at the University of Illinois\, Chicago.  \nBefore returning to teach at UVa in 2016\, Elgin served as the 3D Group Leader and Design Coordinator at the Ontario Science Centre in Toronto\, within the Science Content and Design Department\, and was part of the Agents of Change Initiative from 2001 to 2016. This $47.5 million project produced the world’s first museum and design thinking architectural space—the Weston Family Innovation Centre (WFIC). WFIC featured award-winning architecture in collaboration with Toronto’s Diamond + Schmitt Architects\, along with exhibitions\, educational facilities\, and public art\, with works by David Rokeby\, Michael Awad\, Steve Mann\, and Stacy Levy receiving several Canadian Association of Science Centres Awards. 
URL:https://aiatriangle.org/event/aiat-x-ncsu-joint-lecture-series-elgin-cleckley/
LOCATION:NC State College of Design – Burns Auditorium\, 2221 Katherine Stinson Drive\, Raleigh\, NC\, United States
CATEGORIES:Joint Lecture Series
END:VEVENT
END:VCALENDAR