BEGIN:VCALENDAR
VERSION:2.0
PRODID:-//AIA Triangle - ECPv6.15.20//NONSGML v1.0//EN
CALSCALE:GREGORIAN
METHOD:PUBLISH
X-WR-CALNAME:AIA Triangle
X-ORIGINAL-URL:https://aiatriangle.org
X-WR-CALDESC:Events for AIA Triangle
REFRESH-INTERVAL;VALUE=DURATION:PT1H
X-Robots-Tag:noindex
X-PUBLISHED-TTL:PT1H
BEGIN:VTIMEZONE
TZID:America/New_York
BEGIN:DAYLIGHT
TZOFFSETFROM:-0500
TZOFFSETTO:-0400
TZNAME:EDT
DTSTART:20250309T070000
END:DAYLIGHT
BEGIN:STANDARD
TZOFFSETFROM:-0400
TZOFFSETTO:-0500
TZNAME:EST
DTSTART:20251102T060000
END:STANDARD
BEGIN:DAYLIGHT
TZOFFSETFROM:-0500
TZOFFSETTO:-0400
TZNAME:EDT
DTSTART:20260308T070000
END:DAYLIGHT
BEGIN:STANDARD
TZOFFSETFROM:-0400
TZOFFSETTO:-0500
TZNAME:EST
DTSTART:20261101T060000
END:STANDARD
BEGIN:DAYLIGHT
TZOFFSETFROM:-0500
TZOFFSETTO:-0400
TZNAME:EDT
DTSTART:20270314T070000
END:DAYLIGHT
BEGIN:STANDARD
TZOFFSETFROM:-0400
TZOFFSETTO:-0500
TZNAME:EST
DTSTART:20271107T060000
END:STANDARD
END:VTIMEZONE
BEGIN:VEVENT
DTSTART;TZID=America/New_York:20260302T173000
DTEND;TZID=America/New_York:20260302T190000
DTSTAMP:20260424T145858
CREATED:20260128T215512Z
LAST-MODIFIED:20260128T225633Z
UID:10000686-1772472600-1772478000@aiatriangle.org
SUMMARY:AIAT x NCSU Joint Lecture Series - Tara Dudley
DESCRIPTION:Spring 2026  Joint Lecture Series\nNC State School of Architecture and AIA Triangle \nTara Dudley\n \nMonday\, March 2 | 5:30 – 7:00 PM\nNC State University\nKamphoefner Hall\, Burns Auditorium\n2221 Stinson Dr. | Raleigh\, NC\nTo attend via Zoom instead\, register here\n \nPlease join the College of Design for the spring 2026 architecture lecture series. This is the Tesar Lecture on Architecture and Culture. \nTara Dudley\, UT Austin \nAssistant Professor Tara A. Dudley teaches interior design history and architectural history courses. Her scholarship examines the contributions of African American builders and architects to the American built environment\, focusing on the antebellum and Reconstruction eras in the U.S. South. Her approach to the study of cultural resources is interdisciplinary with a focus on nineteenth-century American design\, African American architectural history\, historic preservation\, and material culture. She is the author of the award-winning book “Building Antebellum New Orleans: Free People of Color and Their Influence” (University of Texas Press\, 2021). Her in-progress works include a biography on the life and work of African American architect John Saunders Chase. As a member of the University’s Commemorative and Contextualization Projects research team\, Dr. Dudley engaged in research on the contributions of Black builders and craftsmen to the built environment of The University of Texas campus. She has partnered with the Neill-Cochran House Museum to guide the restoration of and develop interpretive programming for the only intact slave quarters building in Austin\, which is located on the museum grounds.  \nDr. Dudley served as a senior architectural historian for Austin-based preservation consulting firm HHM & Associates\, Inc. for two decades and continues to consult on preservation projects nationwide. She is well-versed in the integration of scholarly inquiry and professional practice and has expertise in the preparation of historic furnishings reports\, National Register of Historic Places nominations\, historic resource surveys\, and interpretive planning for historic sites. She has served on the City of Austin Historic Landmark Commission and is the current chair of the Texas State Board of Review\, the advisory committee that advises the State Historic Preservation Officer regarding National Register nominations.
URL:https://aiatriangle.org/event/aiat-x-ncsu-joint-lecture-series-tara-dudley/
LOCATION:NC State College of Design – Burns Auditorium\, 2221 Katherine Stinson Drive\, Raleigh\, NC\, United States
CATEGORIES:Joint Lecture Series
END:VEVENT
BEGIN:VEVENT
DTSTART;TZID=America/New_York:20260330T173000
DTEND;TZID=America/New_York:20260330T190000
DTSTAMP:20260424T145858
CREATED:20260128T225019Z
LAST-MODIFIED:20260128T225851Z
UID:10000687-1774891800-1774897200@aiatriangle.org
SUMMARY:AIAT x NCSU Joint Lecture Series - Susan Rodriguez
DESCRIPTION:Spring 2026  Joint Lecture Series\nNC State School of Architecture and AIA Triangle \nSusan Rodriguez\n \nMonday\, March 30 | 5:30 – 7:00 PM\nNC State University\nKamphoefner Hall\, Burns Auditorium\n2221 Stinson Dr. | Raleigh\, NC\nTo attend via Zoom instead\, register here \nPlease join the College of Design for the spring 2026 architecture lecture series. This is the Harwell Hamilton Harris Lecture. \nSusan Rodriguez\, Susan T Rodriguez | Architecture · Design\nSusan T Rodriguez | Architecture · Design was founded in 2017\, combining more than thirty years of design leadership with a passionate belief in the power of architecture to affect change and improve the quality of life for all. The studio\, a New York City certified Women-Owned Business Enterprise and federally certified Women-Owned Small Business\, builds upon an award-winning body of work recognized internationally for design excellence and contributing to the vitality of cities\, landscapes and the communities and institutions it serves. Central to the practice is an emphasis on addressing pressing issues in contemporary society through design that promotes the wellbeing of communities and the long-term sustainability of the environment.   \nDesigning at the intersection of architecture and the public realm\, the studio distills the essence of cultures and communities through work that ranges in scale and type\, from interventions in historic precincts to new large-scale monumental buildings. To each project\, STR | A·D brings an attitude about design that connects people to place and to each other through an architecture of interpretation. The work is inspired by the confluence of history\, site\, program and the relationship of interior and exterior space. Whether rural landscape\, campus setting or a dense urban context\, STR | A·D seeks to create an architecture that is fused with its surroundings and the natural world.
URL:https://aiatriangle.org/event/aiat-x-ncsu-joint-lecture-series-susan-rodriguez/
LOCATION:NC State College of Design – Burns Auditorium\, 2221 Katherine Stinson Drive\, Raleigh\, NC\, United States
CATEGORIES:Joint Lecture Series
END:VEVENT
END:VCALENDAR