BEGIN:VCALENDAR
VERSION:2.0
PRODID:-//AIA Triangle - ECPv6.15.20//NONSGML v1.0//EN
CALSCALE:GREGORIAN
METHOD:PUBLISH
X-ORIGINAL-URL:https://aiatriangle.org
X-WR-CALDESC:Events for AIA Triangle
REFRESH-INTERVAL;VALUE=DURATION:PT1H
X-Robots-Tag:noindex
X-PUBLISHED-TTL:PT1H
BEGIN:VTIMEZONE
TZID:America/New_York
BEGIN:DAYLIGHT
TZOFFSETFROM:-0500
TZOFFSETTO:-0400
TZNAME:EDT
DTSTART:20240310T070000
END:DAYLIGHT
BEGIN:STANDARD
TZOFFSETFROM:-0400
TZOFFSETTO:-0500
TZNAME:EST
DTSTART:20241103T060000
END:STANDARD
BEGIN:DAYLIGHT
TZOFFSETFROM:-0500
TZOFFSETTO:-0400
TZNAME:EDT
DTSTART:20250309T070000
END:DAYLIGHT
BEGIN:STANDARD
TZOFFSETFROM:-0400
TZOFFSETTO:-0500
TZNAME:EST
DTSTART:20251102T060000
END:STANDARD
BEGIN:DAYLIGHT
TZOFFSETFROM:-0500
TZOFFSETTO:-0400
TZNAME:EDT
DTSTART:20260308T070000
END:DAYLIGHT
BEGIN:STANDARD
TZOFFSETFROM:-0400
TZOFFSETTO:-0500
TZNAME:EST
DTSTART:20261101T060000
END:STANDARD
END:VTIMEZONE
BEGIN:VEVENT
DTSTART;TZID=America/New_York:20250312T160000
DTEND;TZID=America/New_York:20250312T180000
DTSTAMP:20260424T094241
CREATED:20250221T201623Z
LAST-MODIFIED:20250306T133920Z
UID:10000625-1741795200-1741802400@aiatriangle.org
SUMMARY:Leadership Forum 10 Year Celebration and Welcome Social
DESCRIPTION:  \n \nRESCHEDULED – NEW DATE MARCH 12 \nAll AIA Triangle Members are welcome!\nWednesday\, March 12\, 2025\, 4:00pm – 6:00pm
URL:https://aiatriangle.org/event/leadership-forum-10-year-celebration-and-welcome-social/
LOCATION:Fullsteam at Boxyard RTP\, 900 Park Offices Drive\, RTP\, NC\, 27709\, United States
CATEGORIES:Leadership Forum
END:VEVENT
END:VCALENDAR