BEGIN:VCALENDAR
VERSION:2.0
PRODID:-//AIA Triangle - ECPv6.15.20//NONSGML v1.0//EN
CALSCALE:GREGORIAN
METHOD:PUBLISH
X-ORIGINAL-URL:https://aiatriangle.org
X-WR-CALDESC:Events for AIA Triangle
REFRESH-INTERVAL;VALUE=DURATION:PT1H
X-Robots-Tag:noindex
X-PUBLISHED-TTL:PT1H
BEGIN:VTIMEZONE
TZID:America/New_York
BEGIN:DAYLIGHT
TZOFFSETFROM:-0500
TZOFFSETTO:-0400
TZNAME:EDT
DTSTART:20250309T070000
END:DAYLIGHT
BEGIN:STANDARD
TZOFFSETFROM:-0400
TZOFFSETTO:-0500
TZNAME:EST
DTSTART:20251102T060000
END:STANDARD
BEGIN:DAYLIGHT
TZOFFSETFROM:-0500
TZOFFSETTO:-0400
TZNAME:EDT
DTSTART:20260308T070000
END:DAYLIGHT
BEGIN:STANDARD
TZOFFSETFROM:-0400
TZOFFSETTO:-0500
TZNAME:EST
DTSTART:20261101T060000
END:STANDARD
BEGIN:DAYLIGHT
TZOFFSETFROM:-0500
TZOFFSETTO:-0400
TZNAME:EDT
DTSTART:20270314T070000
END:DAYLIGHT
BEGIN:STANDARD
TZOFFSETFROM:-0400
TZOFFSETTO:-0500
TZNAME:EST
DTSTART:20271107T060000
END:STANDARD
END:VTIMEZONE
BEGIN:VEVENT
DTSTART;TZID=America/New_York:20260304T120000
DTEND;TZID=America/New_York:20260304T140000
DTSTAMP:20260423T014934
CREATED:20260212T220539Z
LAST-MODIFIED:20260217T213141Z
UID:10000691-1772625600-1772632800@aiatriangle.org
SUMMARY:Lunch & Learn sponsored by Fitch Lumber with Marvin + Trustile
DESCRIPTION:Join us for a Lunch and Learn sponsored by Fitch Lumber together with Marvin and Trustile!\n\nWednesday\, March 4\, 2026\nMez Contemporary Mexican\n5410 Page Rd Durham\, NC 27703 \n2 LU | HSW \nFree for AIAT Members and Annual Partners\nIn lieu of a non-member registration fee\, a suggested $35 donation can be made to the Fitch Pediatric Rehabilitation Center.\nGive here: https://unchealthfoundation.org/fitch-family-comprehensive-pediatric-rehabilitation-program.\n \nSpace is limited. Please register below. \n  \n 
URL:https://aiatriangle.org/event/lunch-learn-sponsored-by-fitch-lumber-with-marvin-trustile-2026/
LOCATION:Mez Restaurant\, 5410 Page Rd\, Durham\, NC\, 27703\, United States
CATEGORIES:Lunch and Learn
END:VEVENT
BEGIN:VEVENT
DTSTART;TZID=America/New_York:20260326T120000
DTEND;TZID=America/New_York:20260326T130000
DTSTAMP:20260423T014934
CREATED:20260226T201609Z
LAST-MODIFIED:20260226T203119Z
UID:10000693-1774526400-1774530000@aiatriangle.org
SUMMARY:Lunch and Learn Hosted by Benjamin Obdyke
DESCRIPTION:Join AIAT for a Lunch and Learn hosted by Benjamin Obdyke! \nThursday\, March 26\, 2026\n12:00 – 1:00 p.m.\nCenter for Architecture and Design\n14 E Peace St. Raleigh\, NC\nor online via Zoom \n1 LU|HSW  \nTo attend in person\, register below. To attend via Zoom\, click here. \nDetermining the best system for managing moisture can be challenging. Many factors such as climate\, cladding\, and cost should be considered when designing a sustainable wall. This course explores those factors\, as well as trends in building codes and best practices. \nAfter this course\, participants will be able to: \n\nRecognize the integral role of a gap within the exterior wall.\nUnderstand the performance characteristics of drainable housewrap and rainscreen systems.\nUnderstand the selection criteria to consider when designing for moisture management in wall systems.\nDetermine the appropriate ways to employ draining and drying principles for a variety of cladding systems.\n\n 
URL:https://aiatriangle.org/event/lunch-and-learn-hosted-by-benjamin-obdyke/
LOCATION:Center for Architecture and Design\, 14 E Peace Street\, Raleigh\, NC\, 27604
CATEGORIES:Lunch and Learn
END:VEVENT
END:VCALENDAR