BEGIN:VCALENDAR
VERSION:2.0
PRODID:-//AIA Triangle - ECPv6.15.20//NONSGML v1.0//EN
CALSCALE:GREGORIAN
METHOD:PUBLISH
X-ORIGINAL-URL:https://aiatriangle.org
X-WR-CALDESC:Events for AIA Triangle
REFRESH-INTERVAL;VALUE=DURATION:PT1H
X-Robots-Tag:noindex
X-PUBLISHED-TTL:PT1H
BEGIN:VTIMEZONE
TZID:America/New_York
BEGIN:DAYLIGHT
TZOFFSETFROM:-0500
TZOFFSETTO:-0400
TZNAME:EDT
DTSTART:20180311T070000
END:DAYLIGHT
BEGIN:STANDARD
TZOFFSETFROM:-0400
TZOFFSETTO:-0500
TZNAME:EST
DTSTART:20181104T060000
END:STANDARD
BEGIN:DAYLIGHT
TZOFFSETFROM:-0500
TZOFFSETTO:-0400
TZNAME:EDT
DTSTART:20190310T070000
END:DAYLIGHT
BEGIN:STANDARD
TZOFFSETFROM:-0400
TZOFFSETTO:-0500
TZNAME:EST
DTSTART:20191103T060000
END:STANDARD
BEGIN:DAYLIGHT
TZOFFSETFROM:-0500
TZOFFSETTO:-0400
TZNAME:EDT
DTSTART:20200308T070000
END:DAYLIGHT
BEGIN:STANDARD
TZOFFSETFROM:-0400
TZOFFSETTO:-0500
TZNAME:EST
DTSTART:20201101T060000
END:STANDARD
END:VTIMEZONE
BEGIN:VEVENT
DTSTART;TZID=America/New_York:20190905T113000
DTEND;TZID=America/New_York:20190905T130000
DTSTAMP:20260425T112722
CREATED:20190806T224227Z
LAST-MODIFIED:20200304T005744Z
UID:10000016-1567683000-1567688400@aiatriangle.org
SUMMARY:CANCELLED - - Lunch & Learn | Serviceability: The Softer Side of Structural Engineering
DESCRIPTION:CANCELLED\nTHIS MEETING HAS BEEN CANCELLED BECAUSE OF  INCLEMENT WEATHER\nAIA Triangle Small Firm Roundtable Lunch & Learn\nSponsored by\n \nServiceability: The Softer Side of Structural Engineering (1 LU credit \nSeptember 5 | 12:00 pm – 1:00 pm (Lunch begins at 11:30 am) \nCenter for Architecture & Design | 14 E Peace Street | Raleigh \nAIA Member & AIA Triangle Partners: $0 | Non members: $30  \nThere is more to Structural Engineering than just adhering to code requirements! Serviceability is the criteria you design for that’s not quite code required but has everything to do with what the building feels like to the user. It also affects the performance of the building with the exterior façade or how it holds up over time. Knowing how to communicate what impact serviceability has on the budget and occupants of the building to the owner is key to a successful project. We’re going to walk you through what the different serviceability components are\, how they impact the design\, and how to communicate these concerns to the owner to make the most informed decisions about the structural system. \nLEARNING OBJECTIVES \n\nParticipants will be able to identify different serviceability components based on the occupancy of the building to determine what’s applicable to the design.\nParticipants will be able to communicate the different serviceability components to the owner and how they affect the user experience and performance of the building over time.\nParticipants will be able to determine how the serviceability criteria affects the design of the building and how that will affect the budget.\nParticipants will be able to determine what serviceability components to incorporate into the project design based on the project budget\, user experience\, performance of the building\, and feedback from the owner.\n\nPRESENTED BY: \nDave Mykins \nAs president of Lynch Mykins\, Dave oversees engineering and client services for all of the firm’s locations. When he was a child\, two people inspired him to become an engineer. The first was his stepfather\, who was a civil engineer\, woodcarver and inventor. The second was Uncle Bill\, a civil engineer on the TV show Family Affair\, who designed bridges all over the world. Now with more than 30 years in the analysis and design of structures\, Dave’s impressive range of experience covers almost every building construction type. \nCollette Ramirez\, PE \nCollette has been helping bring architectural visions to life through structural engineering since 2007. She is passionate about the collaborative process and the thrill of first designing a building on paper\, to then seeing it become part of the built environment. Her diverse portfolio is filled with projects of different sizes and structural systems. Although she loves all of her projects\, she especially enjoys working on student centers because they have so many different structural components and are usually the focal points of a campus. \nWhile not busy working on her projects you can find Collette spending time with her family\, ideally at the beach. She loves learning about new wines while traveling. Her favorite travel destinations are Florence\, Italy and anywhere in the Caribbean.
URL:https://aiatriangle.org/event/lunch-learn-serviceability-the-softer-side-of-structural-engineering/
LOCATION:Center for Architecture and Design\, 14 E Peace Street\, Raleigh\, NC\, 27604
CATEGORIES:Lunch and Learn
ORGANIZER;CN="Chris Stetkiewicz":MAILTO:info@aiatriangle.org
END:VEVENT
BEGIN:VEVENT
DTSTART;TZID=America/New_York:20190620T120000
DTEND;TZID=America/New_York:20190620T130000
DTSTAMP:20260425T112722
CREATED:20190612T073032Z
LAST-MODIFIED:20200304T010306Z
UID:10000018-1561032000-1561035600@aiatriangle.org
SUMMARY:Lunch & Learn - Specifying Treated Engineered Wood Siding
DESCRIPTION:AIA Triangle Small Firm Roundtable \nLunch & Learn Program Sponsored by  \n \nSpecifying Treated Engineered Wood Siding (1HSW) \nJune 20 | 12:00 pm – 1:00 pm (Lunch begins at 11:30 am) \nCenter for Architecture and Design | 14 E Peace Street | Raleigh \n  \nAIA Members & AIA Triangle Annual Partners (Sponsors): $0 \nNon Members: $30 \n  \nPROGRAM \nThis course will provide a survey of the most common siding and trim cladding options for building construction\, including in-depth exploration of treated engineered wood siding. This learning unit will identify the pros and cons of each cladding option and will also explore the environmental impacts of each throughout tits life cycle. In addition\, this course will showcase aesthetic options for many popular design types. Finally\, this session will explore ways in which treated engineered wood siding can contribute to earing points or meeting standards of leading green building certification programs. \nLEARNING OBJECTIVES \n\nParticipants will discover TEWS and discuss its history\, how it is made\, why it is sustainable\, and how it can help builders/architects obtain LEED points.\nParticipants will understand the flexibility with TEWS and custom solutions that can be created\, including cladding assemblies rated to meet fire codes.\nParticipants will assess multi-family and light commercial construction types for which treated engineered wood siding as well as for residential applications and how TEWS is a cladding option and review the major exterior cladding options available for these applications.\nParticipants will discuss how to achieve aesthetic\, durability and weather requirements using TEWS in multi-family and light commercial construction projects.\n\n  \nPRESENTED BY: \nSharon Roscher \nLP Building Solutions\, Southeast Regional Architectural Manager \nSharon is the Southeast Region Architectural Manager for LP Building Solutions. Sharon has been an active member and corporate partner of various AIA chapters throughout the United States for the past twenty years. She has collaborated closely with commercial and residential architects to better understand the needs of the industry and her eagerness to be a well-informed resource for architects has strengthened her relationships within the industry.
URL:https://aiatriangle.org/event/lunch-learn-specifying-treated-engineered-wood-siding/
LOCATION:Center for Architecture and Design\, 14 E Peace Street\, Raleigh\, NC\, 27604
CATEGORIES:Lunch and Learn
ORGANIZER;CN="Chris Stetkiewicz":MAILTO:info@aiatriangle.org
END:VEVENT
END:VCALENDAR