BEGIN:VCALENDAR
VERSION:2.0
PRODID:-//AIA Triangle - ECPv6.15.20//NONSGML v1.0//EN
CALSCALE:GREGORIAN
METHOD:PUBLISH
X-WR-CALNAME:AIA Triangle
X-ORIGINAL-URL:https://aiatriangle.org
X-WR-CALDESC:Events for AIA Triangle
REFRESH-INTERVAL;VALUE=DURATION:PT1H
X-Robots-Tag:noindex
X-PUBLISHED-TTL:PT1H
BEGIN:VTIMEZONE
TZID:America/New_York
BEGIN:DAYLIGHT
TZOFFSETFROM:-0500
TZOFFSETTO:-0400
TZNAME:EDT
DTSTART:20240310T070000
END:DAYLIGHT
BEGIN:STANDARD
TZOFFSETFROM:-0400
TZOFFSETTO:-0500
TZNAME:EST
DTSTART:20241103T060000
END:STANDARD
BEGIN:DAYLIGHT
TZOFFSETFROM:-0500
TZOFFSETTO:-0400
TZNAME:EDT
DTSTART:20250309T070000
END:DAYLIGHT
BEGIN:STANDARD
TZOFFSETFROM:-0400
TZOFFSETTO:-0500
TZNAME:EST
DTSTART:20251102T060000
END:STANDARD
BEGIN:DAYLIGHT
TZOFFSETFROM:-0500
TZOFFSETTO:-0400
TZNAME:EDT
DTSTART:20260308T070000
END:DAYLIGHT
BEGIN:STANDARD
TZOFFSETFROM:-0400
TZOFFSETTO:-0500
TZNAME:EST
DTSTART:20261101T060000
END:STANDARD
END:VTIMEZONE
BEGIN:VEVENT
DTSTART;VALUE=DATE:20250906
DTEND;VALUE=DATE:20250907
DTSTAMP:20260423T211914
CREATED:20250506T213956Z
LAST-MODIFIED:20250904T131638Z
UID:10000639-1757116800-1757203199@aiatriangle.org
SUMMARY:Residential Tour
DESCRIPTION:The American Institute of Architects (AIA) Triangle Tour of Residential Architecture showcases architect-designed homes throughout the North Carolina Triangle region. This is your opportunity to see some of the best residences in the Triangle\, get ideas for your own home\, and ask questions about architecture\, materials\, construction\, and technology. Architects and docents are available to answer your questions all day! This is a self-guided tour\, open to the public. \nResidential Tour webpage \nClick HERE to purchase tickets. All 8 homes are eligible for 1LU/ HSW each \nTour locations will be posted Friday\, September 5th at 10am.
URL:https://aiatriangle.org/event/residential-tour/
CATEGORIES:Tour of Residential Architecture
END:VEVENT
END:VCALENDAR