BEGIN:VCALENDAR
VERSION:2.0
PRODID:-//AIA Triangle - ECPv6.15.20//NONSGML v1.0//EN
CALSCALE:GREGORIAN
METHOD:PUBLISH
X-ORIGINAL-URL:https://aiatriangle.org
X-WR-CALDESC:Events for AIA Triangle
REFRESH-INTERVAL;VALUE=DURATION:PT1H
X-Robots-Tag:noindex
X-PUBLISHED-TTL:PT1H
BEGIN:VTIMEZONE
TZID:America/New_York
BEGIN:DAYLIGHT
TZOFFSETFROM:-0500
TZOFFSETTO:-0400
TZNAME:EDT
DTSTART:20220313T070000
END:DAYLIGHT
BEGIN:STANDARD
TZOFFSETFROM:-0400
TZOFFSETTO:-0500
TZNAME:EST
DTSTART:20221106T060000
END:STANDARD
BEGIN:DAYLIGHT
TZOFFSETFROM:-0500
TZOFFSETTO:-0400
TZNAME:EDT
DTSTART:20230312T070000
END:DAYLIGHT
BEGIN:STANDARD
TZOFFSETFROM:-0400
TZOFFSETTO:-0500
TZNAME:EST
DTSTART:20231105T060000
END:STANDARD
BEGIN:DAYLIGHT
TZOFFSETFROM:-0500
TZOFFSETTO:-0400
TZNAME:EDT
DTSTART:20240310T070000
END:DAYLIGHT
BEGIN:STANDARD
TZOFFSETFROM:-0400
TZOFFSETTO:-0500
TZNAME:EST
DTSTART:20241103T060000
END:STANDARD
BEGIN:DAYLIGHT
TZOFFSETFROM:-0500
TZOFFSETTO:-0400
TZNAME:EDT
DTSTART:20250309T070000
END:DAYLIGHT
BEGIN:STANDARD
TZOFFSETFROM:-0400
TZOFFSETTO:-0500
TZNAME:EST
DTSTART:20251102T060000
END:STANDARD
BEGIN:DAYLIGHT
TZOFFSETFROM:-0500
TZOFFSETTO:-0400
TZNAME:EDT
DTSTART:20260308T070000
END:DAYLIGHT
BEGIN:STANDARD
TZOFFSETFROM:-0400
TZOFFSETTO:-0500
TZNAME:EST
DTSTART:20261101T060000
END:STANDARD
BEGIN:DAYLIGHT
TZOFFSETFROM:-0500
TZOFFSETTO:-0400
TZNAME:EDT
DTSTART:20270314T070000
END:DAYLIGHT
BEGIN:STANDARD
TZOFFSETFROM:-0400
TZOFFSETTO:-0500
TZNAME:EST
DTSTART:20271107T060000
END:STANDARD
END:VTIMEZONE
BEGIN:VEVENT
DTSTART;TZID=America/New_York:20260413T090000
DTEND;TZID=America/New_York:20260413T103000
DTSTAMP:20260423T003512
CREATED:20260312T165706Z
LAST-MODIFIED:20260407T165839Z
UID:10000699-1776070800-1776076200@aiatriangle.org
SUMMARY:2026 Emeritus/EP Breakfast
DESCRIPTION:Join us for our 2026Emeritus/Emerging Professionals BreakfastMonday\, April 13\, 20269:00 – 10:30 a.m.CfADRegistration closes at noon on Friday\, April 10! Make sure to RSVP before the deadline! \nAfter a strong debut last year\, this event returns to open Architecture Week by bringing together different generations of architects for enlightening\, entertaining\, and inspiring connections.  The emerging professionals have more activities planned this year to draw from the wisdom and experiences of our distinguished emerita/us members. Registration for this event is free! \nThank you to our 2026 EP/Emeritus Breakfast Sponsors!
URL:https://aiatriangle.org/event/2026-emeritusep-breakfast/
LOCATION:Center for Architecture and Design\, 14 E Peace Street\, Raleigh\, NC\, 27604
CATEGORIES:YAF
ORGANIZER;CN="AIA Triangle":MAILTO:info@aiatriangle.org
END:VEVENT
BEGIN:VEVENT
DTSTART;TZID=America/New_York:20260407T170000
DTEND;TZID=America/New_York:20260407T183000
DTSTAMP:20260423T003512
CREATED:20260312T194619Z
LAST-MODIFIED:20260326T211520Z
UID:10000702-1775581200-1775586600@aiatriangle.org
SUMMARY:EP/YAF Hard Hat Tour -- SRI Temple
DESCRIPTION:EP/YAF Hard Hat Tour of SRI Templewith Arcadis\, Inc.Tuesday\, April 7\, 20265:00 – 6:30 p.m.121 Balaji Place | Cary\, NC \n1.5 LU \nFree for AIAT Members and Annual Partners$20 for Non-MembersRegister below!
URL:https://aiatriangle.org/event/ep-yaf-hard-hat-tour-sri-temple/
LOCATION:SRI Temple\, 121 Balaji Place\, Cary\, NC\, 27513
CATEGORIES:YAF
ORGANIZER;CN="AIA Triangle":MAILTO:info@aiatriangle.org
END:VEVENT
BEGIN:VEVENT
DTSTART;TZID=America/New_York:20260209T180000
DTEND;TZID=America/New_York:20260209T200000
DTSTAMP:20260423T003512
CREATED:20260123T183513Z
LAST-MODIFIED:20260123T183648Z
UID:10000682-1770660000-1770667200@aiatriangle.org
SUMMARY:EP/YAF Pizza + Pros - Mock Interviews
DESCRIPTION:  \nPizza + Pros – Call for Professionals!\nMonday\, February 2\nMonday\, February 9\n6:00 p.m.\nBrooks Hall at NCSU\nRSVP Here \nEP/YAF is hosting Pizza + Pros in a two-part series again this year! Both events will take place at 6:00 p.m. in Brooks Hall at NCSU’s College of Design (Monday\, February 2nd and 9th).\nWe are looking for volunteers for one or both dates to review student portfolios or participate in mock interviews with the students. Pizza will be provided! \n 
URL:https://aiatriangle.org/event/epyaf-pizza-pros-mock-interviews/
LOCATION:Brooks Hall\, 3rd Floor Rotunda\, 50 Pullen Road\, Raleigh\, NC\, United States
CATEGORIES:YAF
END:VEVENT
BEGIN:VEVENT
DTSTART;TZID=America/New_York:20260202T180000
DTEND;TZID=America/New_York:20260202T200000
DTSTAMP:20260423T003512
CREATED:20260123T181454Z
LAST-MODIFIED:20260123T183539Z
UID:10000681-1770055200-1770062400@aiatriangle.org
SUMMARY:EP/YAF Pizza + Pros - Resume and Portfolio Review
DESCRIPTION:  \nPizza + Pros – Call for Professionals!\nMonday\, February 2\nMonday\, February 9\n6:00 p.m.\nBrooks Hall at NCSU\nRSVP Here \nEP/YAF is hosting Pizza + Pros in a two-part series again this year! Both events will take place at 6:00 p.m. in Brooks Hall at NCSU’s College of Design (Monday\, February 2nd and 9th).\nWe are looking for volunteers for one or both dates to review student portfolios or participate in mock interviews with the students. Pizza will be provided! \n 
URL:https://aiatriangle.org/event/epyaf-pizza-pros/
LOCATION:Brooks Hall\, 3rd Floor Rotunda\, 50 Pullen Road\, Raleigh\, NC\, United States
CATEGORIES:YAF
END:VEVENT
BEGIN:VEVENT
DTSTART;TZID=America/New_York:20250625T163000
DTEND;TZID=America/New_York:20250625T180000
DTSTAMP:20260423T003512
CREATED:20250416T152908Z
LAST-MODIFIED:20250428T194343Z
UID:10000634-1750869000-1750874400@aiatriangle.org
SUMMARY:Hard Hat Tour of The Weld
DESCRIPTION:EP/YAF is hosting a Hard Hat Tour of The Weld. The event will take place at Holston @ The Weld from 4:30 – 6:00pm on June 25th. The Gensler project team will walk us through the project development since our tour last year! Full PPE is required for this tour. 1.5 CE credits will be available for attending this event. \nPlease RSVP and we will send more information for parking and access before the event. Email yaftriangle@gmail.com with any questions! \nPlease note: Attendance is limited to 40 registrants. 
URL:https://aiatriangle.org/event/hard-hat-tour-of-the-weld-2/
LOCATION:The Weld\, 1000 Hammell Drive\, Raleigh\, NC\, 27603\, United States
CATEGORIES:YAF
END:VEVENT
BEGIN:VEVENT
DTSTART;TZID=America/New_York:20250624T180000
DTEND;TZID=America/New_York:20250624T200000
DTSTAMP:20260423T003512
CREATED:20250619T190114Z
LAST-MODIFIED:20250619T190114Z
UID:10000644-1750788000-1750795200@aiatriangle.org
SUMMARY:ARE 5.0 Study Group
DESCRIPTION:
URL:https://aiatriangle.org/event/are-5-0-study-group/
LOCATION:Redline Design Group\, 6601 Six Forks Rd.\, Raleigh\, NC\, 27615\, United States
CATEGORIES:YAF
END:VEVENT
BEGIN:VEVENT
DTSTART;TZID=America/New_York:20250519T190000
DTEND;TZID=America/New_York:20250519T203000
DTSTAMP:20260423T003512
CREATED:20250128T200708Z
LAST-MODIFIED:20250128T200739Z
UID:10000612-1747681200-1747686600@aiatriangle.org
SUMMARY:PPD/PDD ARE Workshop
DESCRIPTION:Email yaftriangle@gmail.com for more information.
URL:https://aiatriangle.org/event/ppd-pdd-are-workshop-copy-copy-copy-copy-copy-copy/
LOCATION:NC
CATEGORIES:YAF
END:VEVENT
BEGIN:VEVENT
DTSTART;TZID=America/New_York:20250512T190000
DTEND;TZID=America/New_York:20250512T203000
DTSTAMP:20260423T003512
CREATED:20250128T200625Z
LAST-MODIFIED:20250128T200652Z
UID:10000611-1747076400-1747081800@aiatriangle.org
SUMMARY:PPD/PDD ARE Workshop
DESCRIPTION:Email yaftriangle@gmail.com for more information.
URL:https://aiatriangle.org/event/ppd-pdd-are-workshop-copy-copy-copy-copy-copy/
LOCATION:NC
CATEGORIES:YAF
END:VEVENT
BEGIN:VEVENT
DTSTART;TZID=America/New_York:20250505T190000
DTEND;TZID=America/New_York:20250505T203000
DTSTAMP:20260423T003512
CREATED:20250128T200538Z
LAST-MODIFIED:20250128T200603Z
UID:10000610-1746471600-1746477000@aiatriangle.org
SUMMARY:PPD/PDD ARE Workshop
DESCRIPTION:Email yaftriangle@gmail.com for more information.
URL:https://aiatriangle.org/event/ppd-pdd-are-workshop-copy-copy-copy-copy/
LOCATION:NC
CATEGORIES:YAF
END:VEVENT
BEGIN:VEVENT
DTSTART;TZID=America/New_York:20250429T163000
DTEND;TZID=America/New_York:20250429T180000
DTSTAMP:20260423T003512
CREATED:20250411T014900Z
LAST-MODIFIED:20250414T210856Z
UID:10000632-1745944200-1745949600@aiatriangle.org
SUMMARY:Hard Hat Tour - Axis Amenity Center at sPARK Campus
DESCRIPTION:EP/YAF is hosting a Hard Hat Tour of the Axis Amenity Center within sPARK Campus in RTP. The event will take place at 4921 McCrimmon Parkway from 4:30 – 6:00pm on Tuesday\, April 29th. The Hanbury project team will walk us through the project and process! PPE is not required for this tour. 1.5 CE credits will be available for attending this event. \nPlease RSVP and we will send more information for parking and access before the event. Email yaftriangle@gmail.com with any questions! \nPlease note: Attendance is limited to 25 registrants. 
URL:https://aiatriangle.org/event/52510/
LOCATION:Axis Amenity Center within sPARK Campus in RTP\, 4921 McCrimmon Parkway\, Morrisville\, NC\, 27560\, United States
CATEGORIES:YAF
END:VEVENT
BEGIN:VEVENT
DTSTART;TZID=America/New_York:20250428T190000
DTEND;TZID=America/New_York:20250428T203000
DTSTAMP:20260423T003512
CREATED:20250128T200459Z
LAST-MODIFIED:20250128T200527Z
UID:10000609-1745866800-1745872200@aiatriangle.org
SUMMARY:PPD/PDD ARE Workshop
DESCRIPTION:Email yaftriangle@gmail.com for more information.
URL:https://aiatriangle.org/event/ppd-pdd-are-workshop-copy-copy-copy/
LOCATION:NC
CATEGORIES:YAF
END:VEVENT
BEGIN:VEVENT
DTSTART;TZID=America/New_York:20250421T190000
DTEND;TZID=America/New_York:20250421T203000
DTSTAMP:20260423T003512
CREATED:20250128T200413Z
LAST-MODIFIED:20250128T200446Z
UID:10000608-1745262000-1745267400@aiatriangle.org
SUMMARY:PPD/PDD ARE Workshop
DESCRIPTION:Email yaftriangle@gmail.com for more information.
URL:https://aiatriangle.org/event/ppd-pdd-are-workshop-copy-copy/
LOCATION:NC
CATEGORIES:YAF
END:VEVENT
BEGIN:VEVENT
DTSTART;TZID=America/New_York:20250414T190000
DTEND;TZID=America/New_York:20250414T203000
DTSTAMP:20260423T003512
CREATED:20250128T200133Z
LAST-MODIFIED:20250128T200400Z
UID:10000607-1744657200-1744662600@aiatriangle.org
SUMMARY:PPD/PDD ARE Workshop
DESCRIPTION:Email yaftriangle@gmail.com for more information.
URL:https://aiatriangle.org/event/ppd-pdd-are-workshop-copy/
LOCATION:NC
CATEGORIES:YAF
END:VEVENT
BEGIN:VEVENT
DTSTART;TZID=America/New_York:20250414T090000
DTEND;TZID=America/New_York:20250414T103000
DTSTAMP:20260423T003512
CREATED:20250304T173844Z
LAST-MODIFIED:20250409T204132Z
UID:10000629-1744621200-1744626600@aiatriangle.org
SUMMARY:A Special Breakfast for Emeritus Members
DESCRIPTION:
URL:https://aiatriangle.org/event/a-special-breakfast-for-emeritus-members/
LOCATION:Center for Architecture and Design\, 14 E Peace Street\, Raleigh\, NC\, 27604
CATEGORIES:YAF
END:VEVENT
BEGIN:VEVENT
DTSTART;TZID=America/New_York:20250407T190000
DTEND;TZID=America/New_York:20250407T203000
DTSTAMP:20260423T003512
CREATED:20250128T200048Z
LAST-MODIFIED:20250128T200048Z
UID:10000606-1744052400-1744057800@aiatriangle.org
SUMMARY:PPD/PDD ARE Workshop
DESCRIPTION:Email yaftriangle@gmail.com for more information.
URL:https://aiatriangle.org/event/ppd-pdd-are-workshop/
LOCATION:NC
CATEGORIES:YAF
END:VEVENT
BEGIN:VEVENT
DTSTART;TZID=America/New_York:20250313T180000
DTEND;TZID=America/New_York:20250313T200000
DTSTAMP:20260423T003512
CREATED:20250128T194212Z
LAST-MODIFIED:20250227T193026Z
UID:10000601-1741888800-1741896000@aiatriangle.org
SUMMARY:New Year\, New Architect
DESCRIPTION:Please join us in celebrating all the new 2024 registered architects of the Triangle! \nRSVP Link: https://forms.gle/2RH6ZQnmzYbFd9yw9
URL:https://aiatriangle.org/event/new-year-new-architect/
LOCATION:Downtown Cary Park\, Bark Bar\, 302 S Walker St\, Cary\, NC\, 27511\, United States
CATEGORIES:YAF
END:VEVENT
BEGIN:VEVENT
DTSTART;TZID=America/New_York:20250224T190000
DTEND;TZID=America/New_York:20250224T203000
DTSTAMP:20260423T003512
CREATED:20250128T195807Z
LAST-MODIFIED:20250128T195903Z
UID:10000605-1740423600-1740429000@aiatriangle.org
SUMMARY:PA ARE Workshop
DESCRIPTION:Email yaftriangle@gmail.com for more information.
URL:https://aiatriangle.org/event/pa-are-workshop-copy-copy-copy/
LOCATION:NC
CATEGORIES:YAF
END:VEVENT
BEGIN:VEVENT
DTSTART;TZID=America/New_York:20250217T190000
DTEND;TZID=America/New_York:20250217T203000
DTSTAMP:20260423T003512
CREATED:20250128T195636Z
LAST-MODIFIED:20250128T195754Z
UID:10000604-1739818800-1739824200@aiatriangle.org
SUMMARY:PA ARE Workshop
DESCRIPTION:Email yaftriangle@gmail.com for more information.
URL:https://aiatriangle.org/event/pa-are-workshop-copy-copy/
LOCATION:NC
CATEGORIES:YAF
END:VEVENT
BEGIN:VEVENT
DTSTART;TZID=America/New_York:20250210T190000
DTEND;TZID=America/New_York:20250210T203000
DTSTAMP:20260423T003512
CREATED:20250128T195532Z
LAST-MODIFIED:20250128T195623Z
UID:10000603-1739214000-1739219400@aiatriangle.org
SUMMARY:PA ARE Workshop
DESCRIPTION:Email yaftriangle@gmail.com for more information.
URL:https://aiatriangle.org/event/pa-are-workshop-copy/
LOCATION:NC
CATEGORIES:YAF
END:VEVENT
BEGIN:VEVENT
DTSTART;TZID=America/New_York:20250203T190000
DTEND;TZID=America/New_York:20250203T203000
DTSTAMP:20260423T003512
CREATED:20250128T195358Z
LAST-MODIFIED:20250128T195358Z
UID:10000602-1738609200-1738614600@aiatriangle.org
SUMMARY:PA ARE Workshop
DESCRIPTION:Email yaftriangle@gmail.com for more information.
URL:https://aiatriangle.org/event/pa-are-workshop/
LOCATION:NC
CATEGORIES:YAF
END:VEVENT
BEGIN:VEVENT
DTSTART;TZID=America/New_York:20250203T180000
DTEND;TZID=America/New_York:20250203T200000
DTSTAMP:20260423T003512
CREATED:20250128T193624Z
LAST-MODIFIED:20250128T193727Z
UID:10000600-1738605600-1738612800@aiatriangle.org
SUMMARY:NCSU Pizza and Pros
DESCRIPTION:Interview Workshop at NCSU
URL:https://aiatriangle.org/event/ncsu-pizza-and-pros-2/
LOCATION:Brooks Hall\, 3rd Floor Rotunda\, 50 Pullen Road\, Raleigh\, NC\, United States
CATEGORIES:YAF
END:VEVENT
BEGIN:VEVENT
DTSTART;TZID=America/New_York:20250129T180000
DTEND;TZID=America/New_York:20250129T200000
DTSTAMP:20260423T003512
CREATED:20250128T193052Z
LAST-MODIFIED:20250128T193052Z
UID:10000599-1738173600-1738180800@aiatriangle.org
SUMMARY:NCSU Pizza and Pros
DESCRIPTION:Portfolio Reviews
URL:https://aiatriangle.org/event/ncsu-pizza-and-pros/
LOCATION:Brooks Hall\, 3rd Floor Rotunda\, 50 Pullen Road\, Raleigh\, NC\, United States
CATEGORIES:YAF
END:VEVENT
BEGIN:VEVENT
DTSTART;TZID=America/New_York:20241107T180000
DTEND;TZID=America/New_York:20241107T200000
DTSTAMP:20260423T003512
CREATED:20240924T161403Z
LAST-MODIFIED:20241016T204940Z
UID:10000582-1731002400-1731009600@aiatriangle.org
SUMMARY:End-of-Year EP/YAF Social
DESCRIPTION:
URL:https://aiatriangle.org/event/end-of-year-ep-yaf-social/
LOCATION:Fullsteam at Boxyard RTP\, 900 Park Offices Drive\, RTP\, NC\, 27709\, United States
CATEGORIES:YAF
END:VEVENT
BEGIN:VEVENT
DTSTART;TZID=America/New_York:20241009T160000
DTEND;TZID=America/New_York:20241009T180000
DTSTAMP:20260423T003512
CREATED:20240826T201917Z
LAST-MODIFIED:20240910T141824Z
UID:10000571-1728489600-1728496800@aiatriangle.org
SUMMARY:Hard Hat Tour of The Weld
DESCRIPTION:
URL:https://aiatriangle.org/event/hard-hat-tour-of-the-weld/
LOCATION:The Weld\, 1000 Hammell Drive\, Raleigh\, NC\, 27603\, United States
CATEGORIES:YAF
END:VEVENT
BEGIN:VEVENT
DTSTART;TZID=America/New_York:20241003T180000
DTEND;TZID=America/New_York:20241003T200000
DTSTAMP:20260423T003512
CREATED:20240924T161236Z
LAST-MODIFIED:20240924T205605Z
UID:10000581-1727978400-1727985600@aiatriangle.org
SUMMARY:ARE 5.0 Workshop Kick-Off Event
DESCRIPTION:
URL:https://aiatriangle.org/event/are-5-0-workshop-kick-off-event/
LOCATION:Center for Architecture and Design\, 14 E Peace Street\, Raleigh\, NC\, 27604
CATEGORIES:YAF
END:VEVENT
BEGIN:VEVENT
DTSTART;TZID=America/New_York:20240523T180000
DTEND;TZID=America/New_York:20240523T193000
DTSTAMP:20260423T003512
CREATED:20240515T174643Z
LAST-MODIFIED:20240515T174738Z
UID:10000557-1716487200-1716492600@aiatriangle.org
SUMMARY:Alternate Careers Panel
DESCRIPTION:
URL:https://aiatriangle.org/event/alternate-careers-panel/
LOCATION:Center for Architecture and Design\, 14 E Peace Street\, Raleigh\, NC\, 27604
CATEGORIES:YAF
END:VEVENT
BEGIN:VEVENT
DTSTART;TZID=America/New_York:20240222T180000
DTEND;TZID=America/New_York:20240222T200000
DTSTAMP:20260423T003512
CREATED:20240105T135224Z
LAST-MODIFIED:20240105T141004Z
UID:10000537-1708624800-1708632000@aiatriangle.org
SUMMARY:EP/YAF Social -- New Year\, New Architect
DESCRIPTION:New Year\, New Architect\nan EP/YAF Social\n \nThursday\, February 22\, 2024\n6:00 – 8:00 PM\nPonysaurus Brewing Company\n219 Hood Street | Durham\, NC  \n\nCome celebrate the Triangle’s newest licensed architects with EP/YAF!
URL:https://aiatriangle.org/event/ep-yaf-social-new-year-new-architect/
LOCATION:Ponysaurus Brewing Company\, 219 Hood Street\, Durham\, NC\, 27701
CATEGORIES:YAF
ORGANIZER;CN="YAF":MAILTO:info@aiatriangle.org
END:VEVENT
BEGIN:VEVENT
DTSTART;TZID=America/New_York:20240201T120000
DTEND;TZID=America/New_York:20240201T130000
DTSTAMP:20260423T003512
CREATED:20240105T133456Z
LAST-MODIFIED:20240105T134008Z
UID:10000536-1706788800-1706792400@aiatriangle.org
SUMMARY:EP/YAF Mentorship Pods
DESCRIPTION:EP/YAF Mentorship Pods\n \nPROFESSIONAL SIGN-UPS DUE JANUARY 9! \nKickoff – Thursday\, January 25\, 2024\n12:00 – 1:00 PM (virtual) \nSession Two – Thursday\, February 1\, 2024\n12:00 – 1:00 PM (virtual) \n\nCALL FOR MENTORS \nJoin EP/YAF’s virtual mentorship program as a mentor! In a series of sessions across the spring semester\, we connect students and professionals across the Triangle and beyond. Topics include: portfolio and resume reviews\, professional practice questions\, licensure and alternative paths\, and everything in between! \nProfessional sign-up link closes on January 9th. Sign up here!
URL:https://aiatriangle.org/event/ep-yaf-mentorship-pods-2/2024-02-01/
LOCATION:Online Meeting
CATEGORIES:YAF
ORGANIZER;CN="YAF":MAILTO:info@aiatriangle.org
END:VEVENT
BEGIN:VEVENT
DTSTART;TZID=America/New_York:20240125T120000
DTEND;TZID=America/New_York:20240125T130000
DTSTAMP:20260423T003512
CREATED:20240105T133456Z
LAST-MODIFIED:20240105T134008Z
UID:10000535-1706184000-1706187600@aiatriangle.org
SUMMARY:EP/YAF Mentorship Pods
DESCRIPTION:EP/YAF Mentorship Pods\n \nPROFESSIONAL SIGN-UPS DUE JANUARY 9! \nKickoff – Thursday\, January 25\, 2024\n12:00 – 1:00 PM (virtual) \nSession Two – Thursday\, February 1\, 2024\n12:00 – 1:00 PM (virtual) \n\nCALL FOR MENTORS \nJoin EP/YAF’s virtual mentorship program as a mentor! In a series of sessions across the spring semester\, we connect students and professionals across the Triangle and beyond. Topics include: portfolio and resume reviews\, professional practice questions\, licensure and alternative paths\, and everything in between! \nProfessional sign-up link closes on January 9th. Sign up here!
URL:https://aiatriangle.org/event/ep-yaf-mentorship-pods-2/2024-01-25/
LOCATION:Online Meeting
CATEGORIES:YAF
ORGANIZER;CN="YAF":MAILTO:info@aiatriangle.org
END:VEVENT
BEGIN:VEVENT
DTSTART;TZID=America/New_York:20231207T180000
DTEND;TZID=America/New_York:20231207T200000
DTSTAMP:20260423T003513
CREATED:20231117T150019Z
LAST-MODIFIED:20231117T150056Z
UID:10000527-1701972000-1701979200@aiatriangle.org
SUMMARY:EP/YAF End-of-Year Fall Social
DESCRIPTION:EP/YAF Fall Social\n \nThursday\, December 7\, 2023\n6:00 – 8:00 PM\nFullsteam at Boxyard RTP \n\nIn the heart of the Triangle\, come join EP/YAF for a beer and a slice at RTP Boxyard!\nAll are welcome. No RSVP required.
URL:https://aiatriangle.org/event/ep-yaf-end-of-year-social/
LOCATION:Fullsteam at Boxyard RTP\, 900 Park Offices Drive\, RTP\, NC\, 27709\, United States
CATEGORIES:YAF
ORGANIZER;CN="YAF":MAILTO:info@aiatriangle.org
END:VEVENT
END:VCALENDAR