BEGIN:VCALENDAR
VERSION:2.0
PRODID:-//AIA Triangle - ECPv6.15.20//NONSGML v1.0//EN
CALSCALE:GREGORIAN
METHOD:PUBLISH
X-WR-CALNAME:AIA Triangle
X-ORIGINAL-URL:https://aiatriangle.org
X-WR-CALDESC:Events for AIA Triangle
REFRESH-INTERVAL;VALUE=DURATION:PT1H
X-Robots-Tag:noindex
X-PUBLISHED-TTL:PT1H
BEGIN:VTIMEZONE
TZID:America/New_York
BEGIN:DAYLIGHT
TZOFFSETFROM:-0500
TZOFFSETTO:-0400
TZNAME:EDT
DTSTART:20240310T070000
END:DAYLIGHT
BEGIN:STANDARD
TZOFFSETFROM:-0400
TZOFFSETTO:-0500
TZNAME:EST
DTSTART:20241103T060000
END:STANDARD
BEGIN:DAYLIGHT
TZOFFSETFROM:-0500
TZOFFSETTO:-0400
TZNAME:EDT
DTSTART:20250309T070000
END:DAYLIGHT
BEGIN:STANDARD
TZOFFSETFROM:-0400
TZOFFSETTO:-0500
TZNAME:EST
DTSTART:20251102T060000
END:STANDARD
BEGIN:DAYLIGHT
TZOFFSETFROM:-0500
TZOFFSETTO:-0400
TZNAME:EDT
DTSTART:20260308T070000
END:DAYLIGHT
BEGIN:STANDARD
TZOFFSETFROM:-0400
TZOFFSETTO:-0500
TZNAME:EST
DTSTART:20261101T060000
END:STANDARD
END:VTIMEZONE
BEGIN:VEVENT
DTSTART;TZID=America/New_York:20250505T190000
DTEND;TZID=America/New_York:20250505T203000
DTSTAMP:20260425T074436
CREATED:20250128T200538Z
LAST-MODIFIED:20250128T200603Z
UID:10000610-1746471600-1746477000@aiatriangle.org
SUMMARY:PPD/PDD ARE Workshop
DESCRIPTION:Email yaftriangle@gmail.com for more information.
URL:https://aiatriangle.org/event/ppd-pdd-are-workshop-copy-copy-copy-copy/
LOCATION:NC
CATEGORIES:YAF
END:VEVENT
BEGIN:VEVENT
DTSTART;TZID=America/New_York:20250512T190000
DTEND;TZID=America/New_York:20250512T203000
DTSTAMP:20260425T074436
CREATED:20250128T200625Z
LAST-MODIFIED:20250128T200652Z
UID:10000611-1747076400-1747081800@aiatriangle.org
SUMMARY:PPD/PDD ARE Workshop
DESCRIPTION:Email yaftriangle@gmail.com for more information.
URL:https://aiatriangle.org/event/ppd-pdd-are-workshop-copy-copy-copy-copy-copy/
LOCATION:NC
CATEGORIES:YAF
END:VEVENT
BEGIN:VEVENT
DTSTART;TZID=America/New_York:20250515T173000
DTEND;TZID=America/New_York:20250515T190000
DTSTAMP:20260425T074436
CREATED:20250409T203943Z
LAST-MODIFIED:20250428T194849Z
UID:10000631-1747330200-1747335600@aiatriangle.org
SUMMARY:UNC School of Medicine's Roper Hall Building Tour
DESCRIPTION:*PARKING FOR EVENT* Parking at the adjacent Bell Tower Deck is $1 with a visitor’s pass through the ParkMobile App. PARKING ZONE 4500 https://parkmobileapp.link/SYLSYDUShR
URL:https://aiatriangle.org/event/unc-school-of-medicines-roper-hall-building-tour/
LOCATION:UNC School of Medicine Roper Hall\, 150 Medical Dr.\, Chapel Hill\, NC\, 27514\, United States
CATEGORIES:Women in Architecture
END:VEVENT
BEGIN:VEVENT
DTSTART;TZID=America/New_York:20250519T190000
DTEND;TZID=America/New_York:20250519T203000
DTSTAMP:20260425T074436
CREATED:20250128T200708Z
LAST-MODIFIED:20250128T200739Z
UID:10000612-1747681200-1747686600@aiatriangle.org
SUMMARY:PPD/PDD ARE Workshop
DESCRIPTION:Email yaftriangle@gmail.com for more information.
URL:https://aiatriangle.org/event/ppd-pdd-are-workshop-copy-copy-copy-copy-copy-copy/
LOCATION:NC
CATEGORIES:YAF
END:VEVENT
END:VCALENDAR