BEGIN:VCALENDAR
VERSION:2.0
PRODID:-//AIA Triangle - ECPv6.15.20//NONSGML v1.0//EN
CALSCALE:GREGORIAN
METHOD:PUBLISH
X-WR-CALNAME:AIA Triangle
X-ORIGINAL-URL:https://aiatriangle.org
X-WR-CALDESC:Events for AIA Triangle
REFRESH-INTERVAL;VALUE=DURATION:PT1H
X-Robots-Tag:noindex
X-PUBLISHED-TTL:PT1H
BEGIN:VTIMEZONE
TZID:America/New_York
BEGIN:DAYLIGHT
TZOFFSETFROM:-0500
TZOFFSETTO:-0400
TZNAME:EDT
DTSTART:20240310T070000
END:DAYLIGHT
BEGIN:STANDARD
TZOFFSETFROM:-0400
TZOFFSETTO:-0500
TZNAME:EST
DTSTART:20241103T060000
END:STANDARD
BEGIN:DAYLIGHT
TZOFFSETFROM:-0500
TZOFFSETTO:-0400
TZNAME:EDT
DTSTART:20250309T070000
END:DAYLIGHT
BEGIN:STANDARD
TZOFFSETFROM:-0400
TZOFFSETTO:-0500
TZNAME:EST
DTSTART:20251102T060000
END:STANDARD
BEGIN:DAYLIGHT
TZOFFSETFROM:-0500
TZOFFSETTO:-0400
TZNAME:EDT
DTSTART:20260308T070000
END:DAYLIGHT
BEGIN:STANDARD
TZOFFSETFROM:-0400
TZOFFSETTO:-0500
TZNAME:EST
DTSTART:20261101T060000
END:STANDARD
END:VTIMEZONE
BEGIN:VEVENT
DTSTART;TZID=America/New_York:20250804T173000
DTEND;TZID=America/New_York:20250804T180000
DTSTAMP:20260423T101656
CREATED:20250715T185856Z
LAST-MODIFIED:20250718T000447Z
UID:10000646-1754328600-1754330400@aiatriangle.org
SUMMARY:Real Matter WIA Pre-Lecture Reception
DESCRIPTION:
URL:https://aiatriangle.org/event/real-matter-pre-lecture-reception/
LOCATION:Junction West\, 310 S West Street\, Suite 110\, Raleigh\, NC\, 27603\, United States
END:VEVENT
BEGIN:VEVENT
DTSTART;TZID=America/New_York:20250814T080000
DTEND;TZID=America/New_York:20250814T100000
DTSTAMP:20260423T101657
CREATED:20250730T161039Z
LAST-MODIFIED:20250730T164011Z
UID:10000653-1755158400-1755165600@aiatriangle.org
SUMMARY:Building Conversations: Architects and Local Leaders
DESCRIPTION:Hosted by AIA Triangle and CityBuilderFunded by the AIA NC ACTIVATE Grant \nDate: Thursday\, August 14Time: 8:00 AM – 10:00 AMLocation: Center for Architecture and Design14 E Peace Street\, Raleigh\, NC \nJoin us for Building Conversations: Architects and Local Leaders\, a morning roundtable bringing together local elected officials and members of the design profession for meaningful dialogue about the future of our communities. \nOver a light breakfast\, we’ll explore how zoning\, housing policy\, and planning decisions impact affordability\, sustainability\, walkability\, and civic design—and why architects should be at the table when those decisions are made. \nThis is more than a networking event—it’s an opportunity to influence how our cities grow. Architects and designers are uniquely positioned to help shape equitable\, people-centered places\, and this conversation is a critical step toward making design a central part of public policy. \nPlease RSVP to reserve your seat. \nLet’s build better communities—together.
URL:https://aiatriangle.org/event/building-conversations-architects-and-local-leaders/
LOCATION:Center for Architecture and Design\, 14 E Peace Street\, Raleigh\, NC\, 27604
END:VEVENT
BEGIN:VEVENT
DTSTART;TZID=America/New_York:20250814T173000
DTEND;TZID=America/New_York:20250814T193000
DTSTAMP:20260423T101657
CREATED:20250722T195641Z
LAST-MODIFIED:20250722T195641Z
UID:10000650-1755192600-1755199800@aiatriangle.org
SUMMARY:WIA 2025 Unplugged Panel
DESCRIPTION:
URL:https://aiatriangle.org/event/wia-2025-unplugged-panel/
LOCATION:Bobbitt Construction\, 2400 Weston Pkwy\, Cary\, NC\, 27513
END:VEVENT
BEGIN:VEVENT
DTSTART;TZID=America/New_York:20250816T110000
DTEND;TZID=America/New_York:20250816T133000
DTSTAMP:20260423T101657
CREATED:20250728T191814Z
LAST-MODIFIED:20250728T191814Z
UID:10000652-1755342000-1755351000@aiatriangle.org
SUMMARY:Design Summer Social
DESCRIPTION:Please join EP/YAF and all the design organizations of the Triangle at the 4th annual Design Summer Social! This event will be at Jaycee Park Shelter from 11:00am to 1:30pm on August 16th\, 2025. Buffet-style lunch will be provided. RSVP by August 11th\, 2025. See you all there! \nSpecial thanks to our sponsor\, Bobbitt! \nSign up HERE!
URL:https://aiatriangle.org/event/design-summer-social/
LOCATION:Jaycee Park Shelter\, Jaycee Park Shelter\, Raleigh
END:VEVENT
BEGIN:VEVENT
DTSTART;TZID=America/New_York:20250819T170000
DTEND;TZID=America/New_York:20250819T193000
DTSTAMP:20260423T101657
CREATED:20250707T210859Z
LAST-MODIFIED:20250811T161426Z
UID:10000645-1755622800-1755631800@aiatriangle.org
SUMMARY:Up on a Rooftop with Architects - Durham Edition
DESCRIPTION:Rooftop Bar Tour – Downtown Durham August 19 · 5:00 PM – Rain or Shine Join us for another unforgettable evening in Downtown Durham as we explore some of the city’s most iconic rooftop bars! \nTour Stop 1: The Durham Hotel \n\n315 E Chapel Hill Street\nSpeaker: Craig Spitzer\, CEO\n\nTour Stop 2: Unscripted Durham \n\n202 Corcoran Street\nSpeaker: Zach Prager – Director of Investments I Partner\, Austin Lawrence Partners East\n\nTour Stop 3: Velvet Hippo \n\n119 Orange St 3rd Floor\,\nSpeakers: Joe Fitzsimons – Architect & Alva Horton – Interior Designer\n\nWe’ll kick things off promptly at 5:00 PM with opening remarks from Nicole Thompson\, President & CEO of Downtown Durham\, Inc. \nImportant Info: \n\nThis is a rain-or-shine event\nDrinks are not provided\nPlease arrive on time – the tour will not wait\nLimited to 25 attendees\nParking Information and a more detailed itinerary will be sent following registration\n\nDon’t miss this chance to connect\, unwind\, and enjoy Durham from above.
URL:https://aiatriangle.org/event/up-on-a-rooftop-with-architects-durham-edition/
LOCATION:NC
END:VEVENT
BEGIN:VEVENT
DTSTART;TZID=America/New_York:20250821T170000
DTEND;TZID=America/New_York:20250821T180000
DTSTAMP:20260423T101657
CREATED:20250717T183425Z
LAST-MODIFIED:20250724T163745Z
UID:10000647-1755795600-1755799200@aiatriangle.org
SUMMARY:AIAT - SFX
DESCRIPTION:Operational Dynamics: Contrasting the Structures of Small and Large Architecture Firms \nJoin us for an engaging evening of connection and conversation with fellow small firm leaders in the AIA Triangle community. \nWe will meet online to discuss some of the core differences between running small and large architecture firms including the differences in workflow\, team hierarchy\, project management\, and decision-making processes between boutique studios and large-scale firms. The session will be a roundtable event\, where participants will share real-world experiences\, revealing how firm size influences creative freedom\, client relationships\, resource allocation\, and adaptability in a competitive market. \n*CE Credit Pending
URL:https://aiatriangle.org/event/aiat-sfx/
LOCATION:Virtual Event
END:VEVENT
BEGIN:VEVENT
DTSTART;TZID=America/New_York:20250826T120000
DTEND;TZID=America/New_York:20250826T130000
DTSTAMP:20260423T101657
CREATED:20250722T161631Z
LAST-MODIFIED:20250812T190000Z
UID:10000649-1756209600-1756213200@aiatriangle.org
SUMMARY:Lunch & Learn hosted by Optima Engineering
DESCRIPTION:A review of the changes coming in the 2024 NC code updates and their impact on the Architectural design due to updated MEP requirements. The presentation will cover Plumbing\, Mechanical\, and Electrical changes. \nPresenter: Evan Connell\, PE\, Mechanical Engineer – Evan is a Mechanical & Plumbing Engineer in the Raleigh office with a Bachelor’s Degree in Mechanical Engineering from NC State with more than 10 years of experience.  His experience lies in the design and development of air and water side CV and VAV systems\, geothermal\, critical environmental\, sound sensitive spaces\, VRF\, dust collection\, domestic supply and gravity waste/vent distribution\, as well as a number of other systems. Energy analysis modeling\, Revit\, and AutoCAD document drafting on projects such as K-12\, multi-family\, commercial retail\, and higher education build on his extensive knowledge for both new construction as well as renovation. His expertise in the design of VRF\, ground-source\, and high-efficiency HVAC equipment is always set with sustainable design in mind. \nCourse # OE25-0501 \nMembers of AIA are eligible to receive 1 LU | HSW credit
URL:https://aiatriangle.org/event/lunch-learn-hosted-by-optima-engineering/
LOCATION:Optima Engineering Offices\, 434 Fayetteville St.\, Suite 2450\, Raleigh\, NC\, 27601
END:VEVENT
END:VCALENDAR