BEGIN:VCALENDAR
VERSION:2.0
PRODID:-//AIA Triangle - ECPv6.15.20//NONSGML v1.0//EN
CALSCALE:GREGORIAN
METHOD:PUBLISH
X-ORIGINAL-URL:https://aiatriangle.org
X-WR-CALDESC:Events for AIA Triangle
REFRESH-INTERVAL;VALUE=DURATION:PT1H
X-Robots-Tag:noindex
X-PUBLISHED-TTL:PT1H
BEGIN:VTIMEZONE
TZID:America/New_York
BEGIN:DAYLIGHT
TZOFFSETFROM:-0500
TZOFFSETTO:-0400
TZNAME:EDT
DTSTART:20240310T070000
END:DAYLIGHT
BEGIN:STANDARD
TZOFFSETFROM:-0400
TZOFFSETTO:-0500
TZNAME:EST
DTSTART:20241103T060000
END:STANDARD
BEGIN:DAYLIGHT
TZOFFSETFROM:-0500
TZOFFSETTO:-0400
TZNAME:EDT
DTSTART:20250309T070000
END:DAYLIGHT
BEGIN:STANDARD
TZOFFSETFROM:-0400
TZOFFSETTO:-0500
TZNAME:EST
DTSTART:20251102T060000
END:STANDARD
BEGIN:DAYLIGHT
TZOFFSETFROM:-0500
TZOFFSETTO:-0400
TZNAME:EDT
DTSTART:20260308T070000
END:DAYLIGHT
BEGIN:STANDARD
TZOFFSETFROM:-0400
TZOFFSETTO:-0500
TZNAME:EST
DTSTART:20261101T060000
END:STANDARD
END:VTIMEZONE
BEGIN:VEVENT
DTSTART;TZID=America/New_York:20251010T080000
DTEND;TZID=America/New_York:20251010T100000
DTSTAMP:20260423T060101
CREATED:20251002T170404Z
LAST-MODIFIED:20251002T170404Z
UID:10000671-1760083200-1760090400@aiatriangle.org
SUMMARY:Building Conversations - Pittsboro
DESCRIPTION:
URL:https://aiatriangle.org/event/building-conversations-pittsboro/
LOCATION:NC
END:VEVENT
BEGIN:VEVENT
DTSTART;TZID=America/New_York:20251010T123000
DTEND;TZID=America/New_York:20251010T123000
DTSTAMP:20260423T060101
CREATED:20250910T172122Z
LAST-MODIFIED:20250915T134905Z
UID:10000661-1760099400-1760099400@aiatriangle.org
SUMMARY:Fall 2025 School of Architecture and AIA Triangle Joint Lecture Series - Pradeepa Kannadasan & Purvij Munshi
DESCRIPTION:  \nJoint Lecture Series
URL:https://aiatriangle.org/event/fall-2025-school-of-architecture-and-aia-triangle-joint-lecture-series-copy/
LOCATION:NC
END:VEVENT
BEGIN:VEVENT
DTSTART;VALUE=DATE:20251011
DTEND;VALUE=DATE:20251012
DTSTAMP:20260423T060101
CREATED:20250506T214117Z
LAST-MODIFIED:20250925T133103Z
UID:10000640-1760140800-1760227199@aiatriangle.org
SUMMARY:Barkitecture
DESCRIPTION:Triangle Barkitecture is a one-of-a-kind pet architecture and design competition to raise money for pets in need by supporting local foster and pet rescue organizations right here in the Triangle. Local architects\, engineers\, designers\, and creative minds all over the Triangle compete to create the best custom pet architecture that is then auctioned off at the event with 100% of those profits going to pets in need. \nBarkitecture webpage
URL:https://aiatriangle.org/event/barkitecture-2/
LOCATION:Downtown Cary Park\, Bark Bar\, 302 S Walker St\, Cary\, NC\, 27511\, United States
CATEGORIES:Barkitecture
END:VEVENT
BEGIN:VEVENT
DTSTART;TZID=America/New_York:20251015T170000
DTEND;TZID=America/New_York:20251015T180000
DTSTAMP:20260423T060101
CREATED:20250923T135039Z
LAST-MODIFIED:20251001T131540Z
UID:10000668-1760547600-1760551200@aiatriangle.org
SUMMARY:AIAT SFX HR Foundations for Small Firms: An Important Component for Long Term Success
DESCRIPTION:  \n  \n  \n  \n  \n  \n  \n  \n1 CE | LU
URL:https://aiatriangle.org/event/aiat-sfx-hr-foundations-for-small-firms-an-important-component-for-long-term-success/
LOCATION:Virtual Event
END:VEVENT
BEGIN:VEVENT
DTSTART;TZID=America/New_York:20251016T163000
DTEND;TZID=America/New_York:20251016T180000
DTSTAMP:20260423T060101
CREATED:20250918T151930Z
LAST-MODIFIED:20251002T165750Z
UID:10000667-1760632200-1760637600@aiatriangle.org
SUMMARY:Hard Hat Tour with Duda|Paine Architects
DESCRIPTION:EP/YAF and Duda|Paine Architects are hosting a Hard Hat Tour of the Garden Gateway at Sarah P. Duke Gardens on October 16nd from 4:30-6:00pm. Please join us to see progress of the visitor center that will be open to the public next year! PPE is required for this tour. 1.5 CE credits will be available for attending this event.   \n  \nSpots are limited to 25 participants. Parking is LIMITED and requires walking from paid parking areas in most cases. Please indicate in the RSVP if you will need handicap / accessible parking and plan to arrive early. \n  \nAfter RSVP\, we will send more information for parking and access before the event. Email yaftriangle@gmail.com with any questions! \n1 CE | LU
URL:https://aiatriangle.org/event/hard-hat-tour-with-dudapaine-architects/
LOCATION:NC
END:VEVENT
BEGIN:VEVENT
DTSTART;TZID=America/New_York:20251020T173000
DTEND;TZID=America/New_York:20251020T173000
DTSTAMP:20260423T060101
CREATED:20250910T172348Z
LAST-MODIFIED:20250915T134936Z
UID:10000662-1760981400-1760981400@aiatriangle.org
SUMMARY:Fall 2025 School of Architecture and AIA Triangle Joint Lecture Series - Florian Idenburg
DESCRIPTION:  \nJoint Lecture Series
URL:https://aiatriangle.org/event/fall-2025-school-of-architecture-and-aia-triangle-joint-lecture-series-copy-copy/
LOCATION:NC
END:VEVENT
BEGIN:VEVENT
DTSTART;TZID=America/New_York:20251029T120000
DTEND;TZID=America/New_York:20251029T130000
DTSTAMP:20260423T060101
CREATED:20250918T143420Z
LAST-MODIFIED:20250918T173040Z
UID:10000666-1761739200-1761742800@aiatriangle.org
SUMMARY:Lunch and Learn Hosted by Thorburn Associates
DESCRIPTION:  \n  \n  \n  \n  \n  \n1 CE | LU credits available
URL:https://aiatriangle.org/event/lunch-and-learn-hosted-by-thorburn-associates/
LOCATION:Center for Architecture and Design\, 14 E Peace Street\, Raleigh\, NC\, 27604
END:VEVENT
BEGIN:VEVENT
DTSTART;TZID=America/New_York:20251030T170000
DTEND;TZID=America/New_York:20251030T190000
DTSTAMP:20260423T060101
CREATED:20251008T141814Z
LAST-MODIFIED:20251022T130213Z
UID:10000673-1761843600-1761850800@aiatriangle.org
SUMMARY:Behind the Design[hers]
DESCRIPTION:  \nBehind the Design(hers) 2025 is back! \nJoin us as we go behind the scenes of Wake Tech’s transformative Health Sciences Education Building\, designed by BSA LifeStructures and Brasfield & Gorrie — a 106\,000 SF facility redefining healthcare education\, shared directly by the designers themselves!\nFeaturing cutting-edge labs\, a simulation hospital\, and collaborative\, wellness-driven spaces\, this project is shaping the next generation of healthcare education. \n \nVisit our link in our bio to register in advance.\nWe look forward to seeing you there! \nA big thanks to Thorburn Associates for the food and beverage sponsorship for the event. \nParking:\nDeck 2 – On the left\, at the entrance to the campus on Holston Lane (corner of Sunnybrook Road and Holston Lane\, across from Building B).  Visitor parking is on the immediate right on level P2 when entering the deck. If those spaces are full\, visitors may park in any unmarked spots on levels P2 through P6. \n 
URL:https://aiatriangle.org/event/behind-the-designhers-3/
LOCATION:Wake Tech Perry Health Sciences Campus\, 2901 Holston Lane - Building A\, Theater Room\, Raleigh
END:VEVENT
END:VCALENDAR