BEGIN:VCALENDAR
VERSION:2.0
PRODID:-//AIA Triangle - ECPv6.15.20//NONSGML v1.0//EN
CALSCALE:GREGORIAN
METHOD:PUBLISH
X-WR-CALNAME:AIA Triangle
X-ORIGINAL-URL:https://aiatriangle.org
X-WR-CALDESC:Events for AIA Triangle
REFRESH-INTERVAL;VALUE=DURATION:PT1H
X-Robots-Tag:noindex
X-PUBLISHED-TTL:PT1H
BEGIN:VTIMEZONE
TZID:America/New_York
BEGIN:DAYLIGHT
TZOFFSETFROM:-0500
TZOFFSETTO:-0400
TZNAME:EDT
DTSTART:20240310T070000
END:DAYLIGHT
BEGIN:STANDARD
TZOFFSETFROM:-0400
TZOFFSETTO:-0500
TZNAME:EST
DTSTART:20241103T060000
END:STANDARD
BEGIN:DAYLIGHT
TZOFFSETFROM:-0500
TZOFFSETTO:-0400
TZNAME:EDT
DTSTART:20250309T070000
END:DAYLIGHT
BEGIN:STANDARD
TZOFFSETFROM:-0400
TZOFFSETTO:-0500
TZNAME:EST
DTSTART:20251102T060000
END:STANDARD
BEGIN:DAYLIGHT
TZOFFSETFROM:-0500
TZOFFSETTO:-0400
TZNAME:EDT
DTSTART:20260308T070000
END:DAYLIGHT
BEGIN:STANDARD
TZOFFSETFROM:-0400
TZOFFSETTO:-0500
TZNAME:EST
DTSTART:20261101T060000
END:STANDARD
END:VTIMEZONE
BEGIN:VEVENT
DTSTART;TZID=America/New_York:20251103T173000
DTEND;TZID=America/New_York:20251103T173000
DTSTAMP:20260423T041231
CREATED:20250910T172735Z
LAST-MODIFIED:20250915T135013Z
UID:10000663-1762191000-1762191000@aiatriangle.org
SUMMARY:Fall 2025 School of Architecture and AIA Triangle Joint Lecture Series - Dominyka Voelkle
DESCRIPTION:  \nJoint Lecture Series
URL:https://aiatriangle.org/event/fall-2025-school-of-architecture-and-aia-triangle-joint-lecture-series-copy-copy-copy/
LOCATION:NC
END:VEVENT
BEGIN:VEVENT
DTSTART;TZID=America/New_York:20251105T123000
DTEND;TZID=America/New_York:20251105T180000
DTSTAMP:20260423T041231
CREATED:20250912T164216Z
LAST-MODIFIED:20251104T161206Z
UID:10000665-1762345800-1762365600@aiatriangle.org
SUMMARY:2025 Technology in Architectural Practice Symposium
DESCRIPTION:  \nThe 2025 Technology in Architectural Practice Symposium brings together bold ideas and breakthrough tools transforming the way we design and build. From the transformative power of AI to the insights unlocked by BIM and the breakthrough possibilities of Reality Capture\, this year’s event spotlights the innovations reshaping today’s architectural practice. Join us to get inspired\, make connections\, and see how technology can elevate your work today—and tomorrow. \n5 LU  \n\nSpeakers \n \nRyan Johnson\nAs an Associate Principal and architect at Clark Nexsen\, Ryan champions technology’s role in shaping design. Leading the firm’s Computation and AI Hubs\, he was instrumental in developing its AI strategy\, and his computational approaches have contributed to numerous award-winning projects. Previously\, Ryan founded the firm’s Tech Studio\, led the national AIA TAP knowledge community\, and earned a spot on ENR’s National Top 20 Under 40. \nBuilding with Logic: A Practical Intro to Computational Design\nDiscover how to translate your design intent into simple rules and data to solve complex challenges. This session introduces computational design\, demonstrating how it’s not just for complex forms\, but an invaluable tool for boosting creativity and efficiency on projects of any budget. You don’t need to be a coding expert to get started. We’ll bridge the gap from concept to reality\, showing how this method connects to BIM for clear documentation and the creation of fabrication-ready files for contractors. \n \nShawn Protz\nShawn Protz is an Assistant Professor of Architecture at NC State University and co-founder of the design practice Protz Studio. His work explores the frictions between digital and physical interfaces in the production of architecture navigating a wide range of media from 3D-printed clay to inflatable structures to video game engines. Shawn has taught around the US and is a registered architect in Arizona\, California\, DC\, New Jersey\, North Carolina\, and Pennsylvania. \nVirtualizing the Built Environment\nThis lecture will explore the idea of architecture as immersive worldbuilding and consider the implications of virtualizing the physical built environment using photogrammetry.  \n   \nAlankrit Ganesh Rajagopalan\nAlankrit Rajagopalan is a Technical Designer at Gensler. His work bridges architecture\, digital technology\, and visualization\, with a growing interest in how AI and automation can make tools like Rhino\, Grasshopper\, and Revit more intuitive and seamlessly integrated into design workflows. He is also exploring new forms of visual storytelling through Unreal Engine for real-time rendering\, VR and AR for immersive experiences\, and Blender for motion-tracking and interactive content. Alankrit also leads workshops and training sessions aimed at broadening the studio’s engagement with emerging tools within the practice. \nVibe Coding: A Human-Centered Approach to Computational Design\nThis session explores how AI tools are reshaping the way architects interact with digital design platforms like Rhino\, Grasshopper\, and Revit. Instead of relying on complex code or data logic\, designers can now describe intent in natural language\, letting AI translate ideas into geometry\, parameters\, and workflows. “Vibe Coding” highlights how this shift makes computational design more intuitive\, collaborative\, and accessible across all levels of practice. \n \nDaoru Wang\nDaoru Wang is an Assistant Teaching Professor of Architecture at Ball State University and a Ph.D. candidate in Design at North Carolina State University. His research and teaching focus on computational design\, building performance simulation\, and artificial intelligence in architecture. With professional experience at LS3P and Harvard CAMLab\, Wang integrates design technology and sustainability through both practice and research. His YouTube channel\, @Daoru_Wang\, with over 4\,000 subscribers and nearly 300\,000 views\, makes computational design education accessible to a global audience. \nFrom AI Coding to LEED-Compliant Design: Bridging Automation and Sustainability in Architecture\nThis presentation highlights two applications of artificial intelligence in architectural design and research. The first demonstrates how AI can assist in writing Dynamo scripts and customizing Revit tools to automate workflows and enhance productivity. The second showcases a LEED-compliant daylighting prediction website developed using deep learning\, offering an open-access platform for sustainable design analysis and collaboration. \nPanel\nCome envision the future of our industry with Liz\, Xander and Shahab. \n\nSchedule \n \n  \n  \n  \n  \n  \n  \n  \n  \n  \n  \n  \n  \n  \n  \n  \n  \n  \n  \n  \n  \n\nSponsors \nGOLD \n \n  \n  \n  \nSILVER \nBRONZE \n \n  \n  \n  \nFIRM SPONSOR \n \n  \n \n  \n  \nIN-KIND SPONSORS \n \n  \n  \n \n  \n \n  \n \n  \n\nWhy sponsor this event? \nSponsoring the Emerging Tech Symposium is a chance to align your brand with innovation in architecture. The event will bring together up to 100 architects and design professionals for discussions on AI\, photogrammetry\, and other technologies\, promoted through AIA Triangle’s network and offering continuing education credit. \nGet in touch: aiataptriangle@gmail.com \nGold: $2\,500\n• Main Sponsor of the Event\n• 30 minute slot for presentation\n• Large logo on Marketing\n• 10 complimentary tickets \nSilver: $1\,000\n• 15 minute slot for presentation\n• Logo on Marketing\n• 5 complimentary tickets \nBronze: $500\n• Logo on Marketing\n• 3 complimentary ticket \nFirm sponsor: $500\n• Logo on Marketing\n• 3 complimentary tickets
URL:https://aiatriangle.org/event/technology-in-architectural-practice-2025-symposium/
LOCATION:Wake Technical Community College – RTP Campus\, 10908 Chapel Hill Rd\, Morrisville
END:VEVENT
BEGIN:VEVENT
DTSTART;TZID=America/New_York:20251111T170000
DTEND;TZID=America/New_York:20251111T203000
DTSTAMP:20260423T041231
CREATED:20251003T181630Z
LAST-MODIFIED:20251006T200122Z
UID:10000672-1762880400-1762893000@aiatriangle.org
SUMMARY:AIA Triangle 2025 VIP Partner Reception
DESCRIPTION:Thank you for your partnership with AIA Triangle this year! \nPlease join us for a private champagne toast with the Board of Directors to celebrate a successful year immediately preceding our annual meeting. \nDate: Tuesday\, November 11th\nTime: 5:00pm\nLocation: The Lenny 555\n555 Mangum Building\, 11th floor\nDurham\, NC \nPlease RSVP by Friday\, October 31 \n\nPlatinum Partners receive four (4) complimentary tickets to the reception and annual meeting.\nGold Partners receive three (3) complimentary tickets to the reception and annual meeting.\nSilver Partners receive two (2) complimentary tickets to the reception and annual meeting.\nBronze Partners receive one (1) complimentary ticket to the reception and annual meeting.
URL:https://aiatriangle.org/event/aia-triangle-2025-vip-partner-reception/
LOCATION:The Lenny 555\, 555 S Mangum Street\, Floor 11\, Durham
END:VEVENT
BEGIN:VEVENT
DTSTART;TZID=America/New_York:20251111T173000
DTEND;TZID=America/New_York:20251111T203000
DTSTAMP:20260423T041231
CREATED:20251002T154137Z
LAST-MODIFIED:20251110T214502Z
UID:10000670-1762882200-1762893000@aiatriangle.org
SUMMARY:AIA Triangle 2025 Annual Member Meeting & Celebration
DESCRIPTION:AIA Triangle Annual Membership Meeting  \nTuesday\, November 11\, 2025\nThe Lenny 555\n555 S Mangum Street\, Floor 11\, Durham \n\nJoin us as we gather for our annual membership meeting and enjoy an evening of sharing\, networking\, and appreciation. The AIA Triangle Annual Membership Meeting & Celebration is an excellent opportunity for members to connect with each other\, meet the AIA Triangle Board and leadership\, and network with our partners. PLEASE RSVP BY TUESDAY 11/4! \n\nRegistration\nDeadline to register online: Friday\, October 31\nAIA Member: $0 | Students: $0\nNon-member or guest of member: $40 \nAIA Triangle Annual Partners Tickets based on partnership level:\nPlatinum: 4 Tickets | Gold: 3 Tickets | Silver: 2 Tickets | Bronze: 1 Ticket \n  \n*No refunds for this event will be issued after registration
URL:https://aiatriangle.org/event/aia-triangle-2025-annual-member-meeting/
LOCATION:The Lenny 555\, 555 S Mangum Street\, Floor 11\, Durham
END:VEVENT
BEGIN:VEVENT
DTSTART;TZID=America/New_York:20251117T173000
DTEND;TZID=America/New_York:20251117T173000
DTSTAMP:20260423T041231
CREATED:20250910T173024Z
LAST-MODIFIED:20250915T135055Z
UID:10000664-1763400600-1763400600@aiatriangle.org
SUMMARY:Fall 2025 School of Architecture and AIA Triangle Joint Lecture Series - Rayshad Dorsey & Michael Urueta
DESCRIPTION:  \nJoint Lecture Series
URL:https://aiatriangle.org/event/fall-2025-school-of-architecture-and-aia-triangle-joint-lecture-series-copy-copy-copy-copy/
LOCATION:NC
END:VEVENT
BEGIN:VEVENT
DTSTART;TZID=America/New_York:20251120T120000
DTEND;TZID=America/New_York:20251120T131500
DTSTAMP:20260423T041231
CREATED:20251106T145023Z
LAST-MODIFIED:20251119T163857Z
UID:10000675-1763640000-1763644500@aiatriangle.org
SUMMARY:[Cancelled] The Advantages Of Treated-Engineered-Wood-Siding - Lunch and Learn hosted by LP Building Solutions
DESCRIPTION:
URL:https://aiatriangle.org/event/the-advantages-of-treated-engineered-wood-siding-lunch-and-learn-hosted-by-lp-building-solutions/
LOCATION:NC
END:VEVENT
BEGIN:VEVENT
DTSTART;TZID=America/New_York:20251120T170000
DTEND;TZID=America/New_York:20251120T180000
DTSTAMP:20260423T041231
CREATED:20250923T135702Z
LAST-MODIFIED:20251001T131723Z
UID:10000669-1763658000-1763661600@aiatriangle.org
SUMMARY:AIAT SFX- Marketing and Business Development Basics for Small Firm Architects
DESCRIPTION:  \n  \n  \n  \n  \n  \n  \n  \n1 CE | LU
URL:https://aiatriangle.org/event/aiat-sfx-marketing-and-business-development-basics-for-small-firm-architects/
LOCATION:Virtual Event
END:VEVENT
END:VCALENDAR