BEGIN:VCALENDAR
VERSION:2.0
PRODID:-//AIA Triangle - ECPv6.15.20//NONSGML v1.0//EN
CALSCALE:GREGORIAN
METHOD:PUBLISH
X-ORIGINAL-URL:https://aiatriangle.org
X-WR-CALDESC:Events for AIA Triangle
REFRESH-INTERVAL;VALUE=DURATION:PT1H
X-Robots-Tag:noindex
X-PUBLISHED-TTL:PT1H
BEGIN:VTIMEZONE
TZID:America/New_York
BEGIN:DAYLIGHT
TZOFFSETFROM:-0500
TZOFFSETTO:-0400
TZNAME:EDT
DTSTART:20180311T070000
END:DAYLIGHT
BEGIN:STANDARD
TZOFFSETFROM:-0400
TZOFFSETTO:-0500
TZNAME:EST
DTSTART:20181104T060000
END:STANDARD
BEGIN:DAYLIGHT
TZOFFSETFROM:-0500
TZOFFSETTO:-0400
TZNAME:EDT
DTSTART:20190310T070000
END:DAYLIGHT
BEGIN:STANDARD
TZOFFSETFROM:-0400
TZOFFSETTO:-0500
TZNAME:EST
DTSTART:20191103T060000
END:STANDARD
BEGIN:DAYLIGHT
TZOFFSETFROM:-0500
TZOFFSETTO:-0400
TZNAME:EDT
DTSTART:20200308T070000
END:DAYLIGHT
BEGIN:STANDARD
TZOFFSETFROM:-0400
TZOFFSETTO:-0500
TZNAME:EST
DTSTART:20201101T060000
END:STANDARD
END:VTIMEZONE
BEGIN:VEVENT
DTSTART;TZID=America/New_York:20191218T180000
DTEND;TZID=America/New_York:20191218T200000
DTSTAMP:20260423T120725
CREATED:20190911T003218Z
LAST-MODIFIED:20200303T212903Z
UID:10000047-1576692000-1576699200@aiatriangle.org
SUMMARY:ARE/AXP Study Group
DESCRIPTION:This is a self-directed\, casual study group split between two methods: a 6-month fast-track and a more relaxed\, easy-going schedule.  We will provide access to ARE study materials and resources for getting started.  We will have informal discussions\, flashcard review\, practice quiz & exam sessions\, and small group break outs specific to the topic you are studying. For more information\, please contact Alison Croop or Sarah Lower if you have any questions.
URL:https://aiatriangle.org/event/are-axp-study-group-10/
LOCATION:Moseley Architects\, 911 N West Street\, Raleigh\, NC\, 27603\, United States
CATEGORIES:YAF
ORGANIZER;CN="Alison Croop":MAILTO:arcroop@gmail.com
END:VEVENT
BEGIN:VEVENT
DTSTART;TZID=America/New_York:20191211T180000
DTEND;TZID=America/New_York:20191211T200000
DTSTAMP:20260423T120725
CREATED:20190911T002952Z
LAST-MODIFIED:20200303T213230Z
UID:10000025-1576087200-1576094400@aiatriangle.org
SUMMARY:ARE/AXP Study Group
DESCRIPTION:This is a self-directed\, casual study group split between two methods: a 6-month fast-track and a more relaxed\, easy-going schedule.  We will provide access to ARE study materials and resources for getting started.  We will have informal discussions\, flashcard review\, practice quiz & exam sessions\, and small group break outs specific to the topic you are studying. For more information\, please contact Alison Croop or Sarah Lower if you have any questions.
URL:https://aiatriangle.org/event/are-axp-study-group-9/
LOCATION:Moseley Architects\, 911 N West Street\, Raleigh\, NC\, 27603\, United States
CATEGORIES:YAF
ORGANIZER;CN="Alison Croop":MAILTO:arcroop@gmail.com
END:VEVENT
BEGIN:VEVENT
DTSTART;TZID=America/New_York:20191204T180000
DTEND;TZID=America/New_York:20191204T200000
DTSTAMP:20260423T120725
CREATED:20190911T002614Z
LAST-MODIFIED:20200303T213312Z
UID:10000060-1575482400-1575489600@aiatriangle.org
SUMMARY:ARE/AXP Study Group
DESCRIPTION:  \n \nThis is a self-directed\, casual study group split between two methods: a 6-month fast-track and a more relaxed\, easy-going schedule.  We will provide access to ARE study materials and resources for getting started.  We will have informal discussions\, flashcard review\, practice quiz & exam sessions\, and small group break outs specific to the topic you are studying. For more information\, please contact Alison Croop or Sarah Lower if you have any questions.
URL:https://aiatriangle.org/event/are-axp-study-group-8/
LOCATION:Moseley Architects\, 911 N West Street\, Raleigh\, NC\, 27603\, United States
CATEGORIES:YAF
ORGANIZER;CN="Alison Croop":MAILTO:arcroop@gmail.com
END:VEVENT
BEGIN:VEVENT
DTSTART;TZID=America/New_York:20191113T180000
DTEND;TZID=America/New_York:20191113T200000
DTSTAMP:20260423T120725
CREATED:20190911T001817Z
LAST-MODIFIED:20200303T213344Z
UID:10000059-1573668000-1573675200@aiatriangle.org
SUMMARY:ARE/AXP Study Group
DESCRIPTION:This is a self-directed\, casual study group split between two methods: a 6-month fast-track and a more relaxed\, easy-going schedule.  We will provide access to ARE study materials and resources for getting started.  We will have informal discussions\, flashcard review\, practice quiz & exam sessions\, and small group break outs specific to the topic you are studying. For more information\, please contact Alison Croop or Sarah Lower if you have any questions.
URL:https://aiatriangle.org/event/are-axp-study-group-7/
LOCATION:Moseley Architects\, 911 N West Street\, Raleigh\, NC\, 27603\, United States
CATEGORIES:YAF
ORGANIZER;CN="Alison Croop":MAILTO:arcroop@gmail.com
END:VEVENT
BEGIN:VEVENT
DTSTART;TZID=America/New_York:20191106T180000
DTEND;TZID=America/New_York:20191106T200000
DTSTAMP:20260423T120725
CREATED:20190911T001451Z
LAST-MODIFIED:20200303T213637Z
UID:10000029-1573063200-1573070400@aiatriangle.org
SUMMARY:ARE/AXP Study Group
DESCRIPTION:This is a self-directed\, casual study group split between two methods: a 6-month fast-track and a more relaxed\, easy-going schedule.  We will provide access to ARE study materials and resources for getting started.  We will have informal discussions\, flashcard review\, practice quiz & exam sessions\, and small group break outs specific to the topic you are studying. For more information\, please contact Alison Croop or Sarah Lower if you have any questions.
URL:https://aiatriangle.org/event/are-axp-study-group-6/
LOCATION:Moseley Architects\, 911 N West Street\, Raleigh\, NC\, 27603\, United States
CATEGORIES:YAF
ORGANIZER;CN="Alison Croop":MAILTO:arcroop@gmail.com
END:VEVENT
BEGIN:VEVENT
DTSTART;TZID=America/New_York:20191030T180000
DTEND;TZID=America/New_York:20191030T200000
DTSTAMP:20260423T120725
CREATED:20190904T234545Z
LAST-MODIFIED:20190926T184440Z
UID:10000071-1572458400-1572465600@aiatriangle.org
SUMMARY:ARE 5.0 Code Trivia Night
DESCRIPTION:  \n \nHaving a hard time keeping codes and regulations straight? Need more understanding of what sections of the code will be tested? Do you want to test your understanding of current code? Join us for Code Trivia Night! A fun way to blow off some steam\, but still keep yourself moving forward on your studies. Snacks\, drinks\, and prizes will be provided. Grab some fellow candidates and show us what you’ve got! Wednesday\, October 30th from 6-8pm. Located at Moseley Architects\, 911 N. West Street\, Suite 205\, Raleigh. Contact Alison Croop at arcroop@gmail.com or Sarah Lower at sarah.d.lower@gmail.com for more information. \n 
URL:https://aiatriangle.org/event/are-axp-study-group-5/
LOCATION:Moseley Architects\, 911 N West Street\, Raleigh\, NC\, 27603\, United States
CATEGORIES:YAF
ORGANIZER;CN="Alison Croop":MAILTO:arcroop@gmail.com
END:VEVENT
BEGIN:VEVENT
DTSTART;TZID=America/New_York:20191023T180000
DTEND;TZID=America/New_York:20191023T200000
DTSTAMP:20260423T120725
CREATED:20190904T234243Z
LAST-MODIFIED:20190906T231813Z
UID:10000030-1571853600-1571860800@aiatriangle.org
SUMMARY:ARE/AXP Study Group
DESCRIPTION:  \n \nThis is a self-directed\, casual study group split between two methods: a 6-month fast-track and a more relaxed\, easy-going schedule.  We will provide access to ARE study materials and resources for getting started.  We will have informal discussions\, flashcard review\, practice quiz & exam sessions\, and small group break outs specific to the topic you are studying. For more information\, please contact Alison Croop or Sarah Lower if you have any questions.
URL:https://aiatriangle.org/event/are-axp-study-group-4/
LOCATION:Moseley Architects\, 911 N West Street\, Raleigh\, NC\, 27603\, United States
CATEGORIES:YAF
ORGANIZER;CN="Alison Croop":MAILTO:arcroop@gmail.com
END:VEVENT
BEGIN:VEVENT
DTSTART;TZID=America/New_York:20191016T180000
DTEND;TZID=America/New_York:20191016T200000
DTSTAMP:20260423T120725
CREATED:20190904T233928Z
LAST-MODIFIED:20200303T214039Z
UID:10000064-1571248800-1571256000@aiatriangle.org
SUMMARY:ARE/AXP Study Group
DESCRIPTION:  \n \nThis is a self-directed\, casual study group split between two methods: a 6-month fast-track and a more relaxed\, easy-going schedule.  We will provide access to ARE study materials and resources for getting started.  We will have informal discussions\, flashcard review\, practice quiz & exam sessions\, and small group break outs specific to the topic you are studying. For more information\, please contact Alison Croop or Sarah Lower if you have any questions.
URL:https://aiatriangle.org/event/are-axp-study-group-3/
LOCATION:Moseley Architects\, 911 N West Street\, Raleigh\, NC\, 27603\, United States
CATEGORIES:YAF
ORGANIZER;CN="Alison Croop":MAILTO:arcroop@gmail.com
END:VEVENT
BEGIN:VEVENT
DTSTART;TZID=America/New_York:20191009T180000
DTEND;TZID=America/New_York:20191009T200000
DTSTAMP:20260423T120725
CREATED:20190904T233706Z
LAST-MODIFIED:20200303T214043Z
UID:10000026-1570644000-1570651200@aiatriangle.org
SUMMARY:ARE/AXP Study Group
DESCRIPTION:  \n \nThis is a self-directed\, casual study group split between two methods: a 6-month fast-track and a more relaxed\, easy-going schedule.  We will provide access to ARE study materials and resources for getting started.  We will have informal discussions\, flashcard review\, practice quiz & exam sessions\, and small group break outs specific to the topic you are studying. For more information\, please contact Alison Croop or Sarah Lower if you have any questions.
URL:https://aiatriangle.org/event/7880/
LOCATION:Moseley Architects\, 911 N West Street\, Raleigh\, NC\, 27603\, United States
CATEGORIES:YAF
ORGANIZER;CN="Alison Croop":MAILTO:arcroop@gmail.com
END:VEVENT
BEGIN:VEVENT
DTSTART;TZID=America/New_York:20191002T180000
DTEND;TZID=America/New_York:20191002T200000
DTSTAMP:20260423T120726
CREATED:20190904T233433Z
LAST-MODIFIED:20200303T214315Z
UID:10000028-1570039200-1570046400@aiatriangle.org
SUMMARY:ARE/AXP Study Group
DESCRIPTION:  \n \nThis is a self-directed\, casual study group split between two methods: a 6-month fast-track and a more relaxed\, easy-going schedule.  We will provide access to ARE study materials and resources for getting started.  We will have informal discussions\, flashcard review\, practice quiz & exam sessions\, and small group break outs specific to the topic you are studying. For more information\, please contact Alison Croop or Sarah Lower if you have any questions.
URL:https://aiatriangle.org/event/are-axp-study-group-2/
LOCATION:Moseley Architects\, 911 N West Street\, Raleigh\, NC\, 27603\, United States
CATEGORIES:YAF
ORGANIZER;CN="Alison Croop":MAILTO:arcroop@gmail.com
END:VEVENT
BEGIN:VEVENT
DTSTART;TZID=America/New_York:20190925T180000
DTEND;TZID=America/New_York:20190925T200000
DTSTAMP:20260423T120726
CREATED:20190904T204411Z
LAST-MODIFIED:20200303T231541Z
UID:10000039-1569434400-1569441600@aiatriangle.org
SUMMARY:ARE 5.0 M.E.P.F Q+A Panel
DESCRIPTION:  \n \nAre you studying for Project Planning and Design or Project Development & Documentation? Do you feel overwhelmed by the Mechanical\, Electrical\, Plumbing and Fire Suppression Systems content? Not sure what you need to know for PPD vs. PDD? Join us and our panel of engineers\, to answer your questions and more.
URL:https://aiatriangle.org/event/are-5-0-m-e-p-f-qa-panel/
LOCATION:Moseley Architects\, 911 N West Street\, Raleigh\, NC\, 27603\, United States
CATEGORIES:YAF
ORGANIZER;CN="Alison Croop":MAILTO:arcroop@gmail.com
END:VEVENT
BEGIN:VEVENT
DTSTART;TZID=America/New_York:20190918T180000
DTEND;TZID=America/New_York:20190918T200000
DTSTAMP:20260423T120726
CREATED:20190904T202417Z
LAST-MODIFIED:20200304T005325Z
UID:10000003-1568829600-1568836800@aiatriangle.org
SUMMARY:ARE 5.0 Structures and Q+A Panel
DESCRIPTION:Are you studying for Project Planning & Design or Project Development & Documentation? Do you feel overwhelmed by the structural content? Not sure what you need to know for PPD vs. PDD? Join us and Clark Nexsen’s Don Kranbuehl\, Senior Architect\, and Klause Perkins\, Structural Department Head\, to answer your questions and more.
URL:https://aiatriangle.org/event/are-5-0-structures-and-qa-panel/
LOCATION:Moseley Architects\, 911 N West Street\, Raleigh\, NC\, 27603\, United States
CATEGORIES:YAF
ORGANIZER;CN="Alison Croop":MAILTO:arcroop@gmail.com
END:VEVENT
BEGIN:VEVENT
DTSTART;TZID=America/New_York:20190911T180000
DTEND;TZID=America/New_York:20190911T200000
DTSTAMP:20260423T120726
CREATED:20190904T201907Z
LAST-MODIFIED:20200304T005331Z
UID:10000043-1568224800-1568232000@aiatriangle.org
SUMMARY:ARE/AXP Study Group
DESCRIPTION:This is a self-directed\, casual study group split between two methods: a 6-month fast-track and a more relaxed\, easy-going schedule.  We will provide access to ARE study materials and resources for getting started.  We will have informal discussions\, flashcard review\, practice quiz & exam sessions\, and small group break outs specific to the topic you are studying. For more information\, please contact Alison Croop or Sarah Lower if you have any questions.
URL:https://aiatriangle.org/event/7805/
CATEGORIES:YAF
ORGANIZER;CN="Alison Croop":MAILTO:arcroop@gmail.com
END:VEVENT
BEGIN:VEVENT
DTSTART;TZID=America/New_York:20190904T180000
DTEND;TZID=America/New_York:20190904T200000
DTSTAMP:20260423T120726
CREATED:20190904T201021Z
LAST-MODIFIED:20200304T005703Z
UID:10000062-1567620000-1567627200@aiatriangle.org
SUMMARY:ARE/AXP Study Group
DESCRIPTION:This is a self-directed\, casual study group split between two methods: a 6-month fast-track and a more relaxed\, easy-going schedule.  We will provide access to ARE study materials and resources for getting started.  We will have informal discussions\, flashcard review\, practice quiz & exam sessions\, and small group break outs specific to the topic you are studying. For more information\, please contact Alison Croop or Sarah Lower if you have any questions
URL:https://aiatriangle.org/event/are-axp-study-group/
LOCATION:Moseley Architects\, 911 N West Street\, Raleigh\, NC\, 27603\, United States
CATEGORIES:YAF
ORGANIZER;CN="Alison Croop":MAILTO:arcroop@gmail.com
END:VEVENT
END:VCALENDAR