BEGIN:VCALENDAR
VERSION:2.0
PRODID:-//AIA Triangle - ECPv6.15.20//NONSGML v1.0//EN
CALSCALE:GREGORIAN
METHOD:PUBLISH
X-WR-CALNAME:AIA Triangle
X-ORIGINAL-URL:https://aiatriangle.org
X-WR-CALDESC:Events for AIA Triangle
REFRESH-INTERVAL;VALUE=DURATION:PT1H
X-Robots-Tag:noindex
X-PUBLISHED-TTL:PT1H
BEGIN:VTIMEZONE
TZID:America/New_York
BEGIN:DAYLIGHT
TZOFFSETFROM:-0500
TZOFFSETTO:-0400
TZNAME:EDT
DTSTART:20190310T070000
END:DAYLIGHT
BEGIN:STANDARD
TZOFFSETFROM:-0400
TZOFFSETTO:-0500
TZNAME:EST
DTSTART:20191103T060000
END:STANDARD
BEGIN:DAYLIGHT
TZOFFSETFROM:-0500
TZOFFSETTO:-0400
TZNAME:EDT
DTSTART:20200308T070000
END:DAYLIGHT
BEGIN:STANDARD
TZOFFSETFROM:-0400
TZOFFSETTO:-0500
TZNAME:EST
DTSTART:20201101T060000
END:STANDARD
BEGIN:DAYLIGHT
TZOFFSETFROM:-0500
TZOFFSETTO:-0400
TZNAME:EDT
DTSTART:20210314T070000
END:DAYLIGHT
BEGIN:STANDARD
TZOFFSETFROM:-0400
TZOFFSETTO:-0500
TZNAME:EST
DTSTART:20211107T060000
END:STANDARD
BEGIN:DAYLIGHT
TZOFFSETFROM:-0500
TZOFFSETTO:-0400
TZNAME:EDT
DTSTART:20220313T070000
END:DAYLIGHT
BEGIN:STANDARD
TZOFFSETFROM:-0400
TZOFFSETTO:-0500
TZNAME:EST
DTSTART:20221106T060000
END:STANDARD
END:VTIMEZONE
BEGIN:VEVENT
DTSTART;TZID=America/New_York:20210414T180000
DTEND;TZID=America/New_York:20210414T183000
DTSTAMP:20260424T014728
CREATED:20210106T154903Z
LAST-MODIFIED:20210629T153507Z
UID:10000091-1618423200-1618425000@aiatriangle.org
SUMMARY:ARE / AXP Study Group
DESCRIPTION:All are welcome to participate! \nCheck-in weekly to the Zoom meetings on Wednesdays at 6:00 pm \nJOIN ZOOM MEETING \nMeeting ID: 891 4770 9050\nPasscode: 639594\nConnect on the Young and Aspiring Architects’ Facebook Page \nQuestions?  \nContact Max Hodge for more information
URL:https://aiatriangle.org/event/are-axp-study-group-11/2021-04-14/
LOCATION:Online Meeting
CATEGORIES:YAF
ORGANIZER;CN="Maxwell Hodge":MAILTO:davidmaxhodge@gmail.com
END:VEVENT
BEGIN:VEVENT
DTSTART;TZID=America/New_York:20210408T113000
DTEND;TZID=America/New_York:20210408T130000
DTSTAMP:20260424T014728
CREATED:20210108T142242Z
LAST-MODIFIED:20210108T142242Z
UID:10000215-1617881400-1617886800@aiatriangle.org
SUMMARY:EP / YAF Mentorship Pod
DESCRIPTION:EP|YAF Present\nMENTORSHIP PODS\na virtual mentorship collaborative with\nAIAS NCSU\, AIAS Wake Tech\, AGSA\, and NCSU College of Design \nApril 8\, 2021\n11:30 am – 1:00 pm \nThe purpose of this event is to provide students\, especially those of a diverse background\, with mentorship opportunities during this unprecedented time. Three virtual mentorship sessions with students will be held on Thursday\, February 18th\, Thursday\, March 11th\, and Thursday\, April 8th from 11:30 am to 1:00 pm. \nWe will match architects\, emerging professionals\, and students into pods based on similar interests and goals for mentorship. The first meeting will be a general meet and greet\, followed by topic-focused sessions\, such as portfolio and resume reviews. \nInterested?  \nParticipants should email EP/YAF for more information.
URL:https://aiatriangle.org/event/ep-yaf-mentorship-pod-4/
LOCATION:Online Meeting
CATEGORIES:YAF
ORGANIZER;CN="Maxwell Hodge":MAILTO:davidmaxhodge@gmail.com
END:VEVENT
BEGIN:VEVENT
DTSTART;TZID=America/New_York:20210407T180000
DTEND;TZID=America/New_York:20210407T183000
DTSTAMP:20260424T014728
CREATED:20210106T154903Z
LAST-MODIFIED:20210629T153507Z
UID:10000090-1617818400-1617820200@aiatriangle.org
SUMMARY:ARE / AXP Study Group
DESCRIPTION:All are welcome to participate! \nCheck-in weekly to the Zoom meetings on Wednesdays at 6:00 pm \nJOIN ZOOM MEETING \nMeeting ID: 891 4770 9050\nPasscode: 639594\nConnect on the Young and Aspiring Architects’ Facebook Page \nQuestions?  \nContact Max Hodge for more information
URL:https://aiatriangle.org/event/are-axp-study-group-11/2021-04-07/
LOCATION:Online Meeting
CATEGORIES:YAF
ORGANIZER;CN="Maxwell Hodge":MAILTO:davidmaxhodge@gmail.com
END:VEVENT
BEGIN:VEVENT
DTSTART;TZID=America/New_York:20210331T180000
DTEND;TZID=America/New_York:20210331T183000
DTSTAMP:20260424T014728
CREATED:20210106T154903Z
LAST-MODIFIED:20210629T153507Z
UID:10000089-1617213600-1617215400@aiatriangle.org
SUMMARY:ARE / AXP Study Group
DESCRIPTION:All are welcome to participate! \nCheck-in weekly to the Zoom meetings on Wednesdays at 6:00 pm \nJOIN ZOOM MEETING \nMeeting ID: 891 4770 9050\nPasscode: 639594\nConnect on the Young and Aspiring Architects’ Facebook Page \nQuestions?  \nContact Max Hodge for more information
URL:https://aiatriangle.org/event/are-axp-study-group-11/2021-03-31/
LOCATION:Online Meeting
CATEGORIES:YAF
ORGANIZER;CN="Maxwell Hodge":MAILTO:davidmaxhodge@gmail.com
END:VEVENT
BEGIN:VEVENT
DTSTART;TZID=America/New_York:20210326T170000
DTEND;TZID=America/New_York:20210326T183000
DTSTAMP:20260424T014728
CREATED:20210310T195742Z
LAST-MODIFIED:20210311T145938Z
UID:10000273-1616778000-1616783400@aiatriangle.org
SUMMARY:EP/YAF Virtual New Year - New Architects Celebration
DESCRIPTION:Join us as we celebrate newly licensed architects! \nFriday\, March 26\, 2021 | 5:00 pm \nThe AIA Triangle Emerging Professionals/Young Architects Forum is inviting everyone to celebrate our local\, newly licensed architects on Friday\, March 26th at 5pm! Join us for some words of encouragement and opportunity to break into smaller activity groups. You’ll be asked to select either a speed networking group or game night group! \nIn case you don’t know\, the EP/YAF is AIA Triangle’s group that plans events targeted for Emerging Professionals and Young Architects which includes a lot of folks – from architecture students\, through internships\, and up to ten years after achieving licensure as an architect. \n\n\nRSVP required\nZoom link will be emailed to registrants\nDeadline to register is 3:00 pm on Friday March 26th
URL:https://aiatriangle.org/event/ep-yaf-virtual-new-year-new-architects-celebration/
LOCATION:Online Meeting
CATEGORIES:YAF
ORGANIZER;CN="Maxwell Hodge":MAILTO:davidmaxhodge@gmail.com
END:VEVENT
BEGIN:VEVENT
DTSTART;TZID=America/New_York:20210324T180000
DTEND;TZID=America/New_York:20210324T183000
DTSTAMP:20260424T014728
CREATED:20210106T154903Z
LAST-MODIFIED:20210629T153507Z
UID:10000088-1616608800-1616610600@aiatriangle.org
SUMMARY:ARE / AXP Study Group
DESCRIPTION:All are welcome to participate! \nCheck-in weekly to the Zoom meetings on Wednesdays at 6:00 pm \nJOIN ZOOM MEETING \nMeeting ID: 891 4770 9050\nPasscode: 639594\nConnect on the Young and Aspiring Architects’ Facebook Page \nQuestions?  \nContact Max Hodge for more information
URL:https://aiatriangle.org/event/are-axp-study-group-11/2021-03-24/
LOCATION:Online Meeting
CATEGORIES:YAF
ORGANIZER;CN="Maxwell Hodge":MAILTO:davidmaxhodge@gmail.com
END:VEVENT
BEGIN:VEVENT
DTSTART;TZID=America/New_York:20210317T180000
DTEND;TZID=America/New_York:20210317T183000
DTSTAMP:20260424T014728
CREATED:20210106T154903Z
LAST-MODIFIED:20210629T153507Z
UID:10000087-1616004000-1616005800@aiatriangle.org
SUMMARY:ARE / AXP Study Group
DESCRIPTION:All are welcome to participate! \nCheck-in weekly to the Zoom meetings on Wednesdays at 6:00 pm \nJOIN ZOOM MEETING \nMeeting ID: 891 4770 9050\nPasscode: 639594\nConnect on the Young and Aspiring Architects’ Facebook Page \nQuestions?  \nContact Max Hodge for more information
URL:https://aiatriangle.org/event/are-axp-study-group-11/2021-03-17/
LOCATION:Online Meeting
CATEGORIES:YAF
ORGANIZER;CN="Maxwell Hodge":MAILTO:davidmaxhodge@gmail.com
END:VEVENT
BEGIN:VEVENT
DTSTART;TZID=America/New_York:20210311T113000
DTEND;TZID=America/New_York:20210311T130000
DTSTAMP:20260424T014728
CREATED:20210108T141938Z
LAST-MODIFIED:20210108T141938Z
UID:10000130-1615462200-1615467600@aiatriangle.org
SUMMARY:EP / YAF Mentorship Pod
DESCRIPTION:EP|YAF Present\nMENTORSHIP PODS\na virtual mentorship collaborative with\nAIAS NCSU\, AIAS Wake Tech\, AGSA\, and NCSU College of Design \nMarch 11\, 2021\n11:30 am – 1:00 pm \nThe purpose of this event is to provide students\, especially those of a diverse background\, with mentorship opportunities during this unprecedented time. Three virtual mentorship sessions with students will be held on Thursday\, February 18th\, Thursday\, March 11th\, and Thursday\, April 8th from 11:30 am to 1:00 pm. \nWe will match architects\, emerging professionals\, and students into pods based on similar interests and goals for mentorship. The first meeting will be a general meet and greet\, followed by topic-focused sessions\, such as portfolio and resume reviews. \nInterested?  \nParticipants should email EP/YAF for more information.
URL:https://aiatriangle.org/event/ep-yaf-mentorship-pod-3/
LOCATION:Online Meeting
CATEGORIES:YAF
ORGANIZER;CN="Maxwell Hodge":MAILTO:davidmaxhodge@gmail.com
END:VEVENT
BEGIN:VEVENT
DTSTART;TZID=America/New_York:20210310T180000
DTEND;TZID=America/New_York:20210310T183000
DTSTAMP:20260424T014728
CREATED:20210106T154903Z
LAST-MODIFIED:20210629T153507Z
UID:10000086-1615399200-1615401000@aiatriangle.org
SUMMARY:ARE / AXP Study Group
DESCRIPTION:All are welcome to participate! \nCheck-in weekly to the Zoom meetings on Wednesdays at 6:00 pm \nJOIN ZOOM MEETING \nMeeting ID: 891 4770 9050\nPasscode: 639594\nConnect on the Young and Aspiring Architects’ Facebook Page \nQuestions?  \nContact Max Hodge for more information
URL:https://aiatriangle.org/event/are-axp-study-group-11/2021-03-10/
LOCATION:Online Meeting
CATEGORIES:YAF
ORGANIZER;CN="Maxwell Hodge":MAILTO:davidmaxhodge@gmail.com
END:VEVENT
BEGIN:VEVENT
DTSTART;TZID=America/New_York:20210303T180000
DTEND;TZID=America/New_York:20210303T183000
DTSTAMP:20260424T014728
CREATED:20210106T154903Z
LAST-MODIFIED:20210629T153507Z
UID:10000085-1614794400-1614796200@aiatriangle.org
SUMMARY:ARE / AXP Study Group
DESCRIPTION:All are welcome to participate! \nCheck-in weekly to the Zoom meetings on Wednesdays at 6:00 pm \nJOIN ZOOM MEETING \nMeeting ID: 891 4770 9050\nPasscode: 639594\nConnect on the Young and Aspiring Architects’ Facebook Page \nQuestions?  \nContact Max Hodge for more information
URL:https://aiatriangle.org/event/are-axp-study-group-11/2021-03-03/
LOCATION:Online Meeting
CATEGORIES:YAF
ORGANIZER;CN="Maxwell Hodge":MAILTO:davidmaxhodge@gmail.com
END:VEVENT
BEGIN:VEVENT
DTSTART;TZID=America/New_York:20210224T180000
DTEND;TZID=America/New_York:20210224T183000
DTSTAMP:20260424T014728
CREATED:20210106T154903Z
LAST-MODIFIED:20210629T153507Z
UID:10000084-1614189600-1614191400@aiatriangle.org
SUMMARY:ARE / AXP Study Group
DESCRIPTION:All are welcome to participate! \nCheck-in weekly to the Zoom meetings on Wednesdays at 6:00 pm \nJOIN ZOOM MEETING \nMeeting ID: 891 4770 9050\nPasscode: 639594\nConnect on the Young and Aspiring Architects’ Facebook Page \nQuestions?  \nContact Max Hodge for more information
URL:https://aiatriangle.org/event/are-axp-study-group-11/2021-02-24/
LOCATION:Online Meeting
CATEGORIES:YAF
ORGANIZER;CN="Maxwell Hodge":MAILTO:davidmaxhodge@gmail.com
END:VEVENT
BEGIN:VEVENT
DTSTART;TZID=America/New_York:20210218T113000
DTEND;TZID=America/New_York:20210218T130000
DTSTAMP:20260424T014728
CREATED:20210108T141530Z
LAST-MODIFIED:20210108T152856Z
UID:10000129-1613647800-1613653200@aiatriangle.org
SUMMARY:EP / YAF Membership Pod
DESCRIPTION:EP|YAF Present\nMENTORSHIP PODS\na virtual mentorship collaborative with\nAIAS NCSU\, AIAS Wake Tech\, AGSA\, and NCSU College of Design \nFebruary 18\, 2021\n11:30 am – 1:00 pm \nThe purpose of this event is to provide students\, especially those of a diverse background\, with mentorship opportunities during this unprecedented time. Three virtual mentorship sessions with students will be held on Thursday\, February 18th\, Thursday\, March 11th\, and Thursday\, April 8th from 11:30 am to 1:00 pm. \nWe will match architects\, emerging professionals\, and students into pods based on similar interests and goals for mentorship. The first meeting will be a general meet and greet\, followed by topic-focused sessions\, such as portfolio and resume reviews. \nInterested?  \nParticipants should email EP/YAF for more information.
URL:https://aiatriangle.org/event/ep-yaf-membership-pod/
LOCATION:Online Meeting
CATEGORIES:YAF
ORGANIZER;CN="Maxwell Hodge":MAILTO:davidmaxhodge@gmail.com
END:VEVENT
BEGIN:VEVENT
DTSTART;TZID=America/New_York:20210217T180000
DTEND;TZID=America/New_York:20210217T183000
DTSTAMP:20260424T014729
CREATED:20210106T154903Z
LAST-MODIFIED:20210629T153507Z
UID:10000083-1613584800-1613586600@aiatriangle.org
SUMMARY:ARE / AXP Study Group
DESCRIPTION:All are welcome to participate! \nCheck-in weekly to the Zoom meetings on Wednesdays at 6:00 pm \nJOIN ZOOM MEETING \nMeeting ID: 891 4770 9050\nPasscode: 639594\nConnect on the Young and Aspiring Architects’ Facebook Page \nQuestions?  \nContact Max Hodge for more information
URL:https://aiatriangle.org/event/are-axp-study-group-11/2021-02-17/
LOCATION:Online Meeting
CATEGORIES:YAF
ORGANIZER;CN="Maxwell Hodge":MAILTO:davidmaxhodge@gmail.com
END:VEVENT
BEGIN:VEVENT
DTSTART;TZID=America/New_York:20210210T180000
DTEND;TZID=America/New_York:20210210T183000
DTSTAMP:20260424T014729
CREATED:20210106T154903Z
LAST-MODIFIED:20210629T153507Z
UID:10000082-1612980000-1612981800@aiatriangle.org
SUMMARY:ARE / AXP Study Group
DESCRIPTION:All are welcome to participate! \nCheck-in weekly to the Zoom meetings on Wednesdays at 6:00 pm \nJOIN ZOOM MEETING \nMeeting ID: 891 4770 9050\nPasscode: 639594\nConnect on the Young and Aspiring Architects’ Facebook Page \nQuestions?  \nContact Max Hodge for more information
URL:https://aiatriangle.org/event/are-axp-study-group-11/2021-02-10/
LOCATION:Online Meeting
CATEGORIES:YAF
ORGANIZER;CN="Maxwell Hodge":MAILTO:davidmaxhodge@gmail.com
END:VEVENT
BEGIN:VEVENT
DTSTART;TZID=America/New_York:20210203T180000
DTEND;TZID=America/New_York:20210203T183000
DTSTAMP:20260424T014729
CREATED:20210106T154903Z
LAST-MODIFIED:20210629T153507Z
UID:10000081-1612375200-1612377000@aiatriangle.org
SUMMARY:ARE / AXP Study Group
DESCRIPTION:All are welcome to participate! \nCheck-in weekly to the Zoom meetings on Wednesdays at 6:00 pm \nJOIN ZOOM MEETING \nMeeting ID: 891 4770 9050\nPasscode: 639594\nConnect on the Young and Aspiring Architects’ Facebook Page \nQuestions?  \nContact Max Hodge for more information
URL:https://aiatriangle.org/event/are-axp-study-group-11/2021-02-03/
LOCATION:Online Meeting
CATEGORIES:YAF
ORGANIZER;CN="Maxwell Hodge":MAILTO:davidmaxhodge@gmail.com
END:VEVENT
BEGIN:VEVENT
DTSTART;TZID=America/New_York:20210127T180000
DTEND;TZID=America/New_York:20210127T183000
DTSTAMP:20260424T014729
CREATED:20210106T154903Z
LAST-MODIFIED:20210629T153507Z
UID:10000080-1611770400-1611772200@aiatriangle.org
SUMMARY:ARE / AXP Study Group
DESCRIPTION:All are welcome to participate! \nCheck-in weekly to the Zoom meetings on Wednesdays at 6:00 pm \nJOIN ZOOM MEETING \nMeeting ID: 891 4770 9050\nPasscode: 639594\nConnect on the Young and Aspiring Architects’ Facebook Page \nQuestions?  \nContact Max Hodge for more information
URL:https://aiatriangle.org/event/are-axp-study-group-11/2021-01-27/
LOCATION:Online Meeting
CATEGORIES:YAF
ORGANIZER;CN="Maxwell Hodge":MAILTO:davidmaxhodge@gmail.com
END:VEVENT
BEGIN:VEVENT
DTSTART;TZID=America/New_York:20210120T180000
DTEND;TZID=America/New_York:20210120T183000
DTSTAMP:20260424T014729
CREATED:20210106T154903Z
LAST-MODIFIED:20210629T153507Z
UID:10000079-1611165600-1611167400@aiatriangle.org
SUMMARY:ARE / AXP Study Group
DESCRIPTION:All are welcome to participate! \nCheck-in weekly to the Zoom meetings on Wednesdays at 6:00 pm \nJOIN ZOOM MEETING \nMeeting ID: 891 4770 9050\nPasscode: 639594\nConnect on the Young and Aspiring Architects’ Facebook Page \nQuestions?  \nContact Max Hodge for more information
URL:https://aiatriangle.org/event/are-axp-study-group-11/2021-01-20/
LOCATION:Online Meeting
CATEGORIES:YAF
ORGANIZER;CN="Maxwell Hodge":MAILTO:davidmaxhodge@gmail.com
END:VEVENT
BEGIN:VEVENT
DTSTART;TZID=America/New_York:20210119T190000
DTEND;TZID=America/New_York:20210119T200000
DTSTAMP:20260424T014729
CREATED:20210106T141433Z
LAST-MODIFIED:20210107T172245Z
UID:10000075-1611082800-1611086400@aiatriangle.org
SUMMARY:EP/YAF Task Force Planning Meeting
DESCRIPTION:EP / YAF Task Force Planning Meeting\nTuesday\, January 19 | 7:00 pm\n\nThe EP / YAF Task Force is getting ready for ARE sessions\, mentorship pods\, construction tours\, and more this year. We need your help on our team to continue putting our plans into action! Please join us if you’ve got an interest in helping plan awesome events\, sending emails\, taking part in these activities\, or some of your very own ideas. \n\n Everyone is welcome!\nJOIN THE ZOOM MEETING\nMeeting ID: 875 6196 2581\nPasscode: 388097
URL:https://aiatriangle.org/event/ep-yaf-task-force-planning-meeting/
LOCATION:Online Meeting
CATEGORIES:YAF
ORGANIZER;CN="Maxwell Hodge":MAILTO:davidmaxhodge@gmail.com
END:VEVENT
BEGIN:VEVENT
DTSTART;TZID=America/New_York:20210113T180000
DTEND;TZID=America/New_York:20210113T183000
DTSTAMP:20260424T014729
CREATED:20210106T154903Z
LAST-MODIFIED:20210629T153507Z
UID:10000078-1610560800-1610562600@aiatriangle.org
SUMMARY:ARE / AXP Study Group
DESCRIPTION:All are welcome to participate! \nCheck-in weekly to the Zoom meetings on Wednesdays at 6:00 pm \nJOIN ZOOM MEETING \nMeeting ID: 891 4770 9050\nPasscode: 639594\nConnect on the Young and Aspiring Architects’ Facebook Page \nQuestions?  \nContact Max Hodge for more information
URL:https://aiatriangle.org/event/are-axp-study-group-11/2021-01-13/
LOCATION:Online Meeting
CATEGORIES:YAF
ORGANIZER;CN="Maxwell Hodge":MAILTO:davidmaxhodge@gmail.com
END:VEVENT
BEGIN:VEVENT
DTSTART;TZID=America/New_York:20210106T180000
DTEND;TZID=America/New_York:20210106T183000
DTSTAMP:20260424T014729
CREATED:20210106T154903Z
LAST-MODIFIED:20210629T153507Z
UID:10000077-1609956000-1609957800@aiatriangle.org
SUMMARY:ARE / AXP Study Group
DESCRIPTION:All are welcome to participate! \nCheck-in weekly to the Zoom meetings on Wednesdays at 6:00 pm \nJOIN ZOOM MEETING \nMeeting ID: 891 4770 9050\nPasscode: 639594\nConnect on the Young and Aspiring Architects’ Facebook Page \nQuestions?  \nContact Max Hodge for more information
URL:https://aiatriangle.org/event/are-axp-study-group-11/2021-01-06/
LOCATION:Online Meeting
CATEGORIES:YAF
ORGANIZER;CN="Maxwell Hodge":MAILTO:davidmaxhodge@gmail.com
END:VEVENT
BEGIN:VEVENT
DTSTART;TZID=America/New_York:20200501T170000
DTEND;TZID=America/New_York:20200501T180000
DTSTAMP:20260424T014729
CREATED:20200423T201651Z
LAST-MODIFIED:20200501T200829Z
UID:10000192-1588352400-1588356000@aiatriangle.org
SUMMARY:EP/YAF - Virtual Cribs Happy Hour
DESCRIPTION:EP/YAF presents \nCribs Happy Hour \nwith Durham-based architect Ellen Weinstein\n\nJoin us virtually with your favorite drink and get an insight of an architect’s life outside of the firm. \n\nFriday\, May 1st @ 5:00 pm \n\n\nJoin Zoom Meeting\nhttps://moseleyarch.zoom.us/j/97053459117?pwd=WGVvNWF4THVTQ2JuUGhyU2RFSXBLZz09 \nMeeting ID: 970 5345 9117\nPassword: EPYAF1520\nOne tap mobile\n+19292056099\,\,97053459117# US (New York)\n+16699006833\,\,97053459117# US (San Jose) \nDial by your location\n+1 929 205 6099 US (New York)\n+1 669 900 6833 US (San Jose)\nMeeting ID: 970 5345 9117 \n\n 
URL:https://aiatriangle.org/event/ep-yaf-virtual-cribs-happy-hour/
LOCATION:Online Meeting
CATEGORIES:YAF
ORGANIZER;CN="Maxwell Hodge":MAILTO:davidmaxhodge@gmail.com
END:VEVENT
BEGIN:VEVENT
DTSTART;TZID=America/New_York:20200311T180000
DTEND;TZID=America/New_York:20200311T200000
DTSTAMP:20260424T014729
CREATED:20200129T040029Z
LAST-MODIFIED:20200303T211631Z
UID:10000041-1583949600-1583956800@aiatriangle.org
SUMMARY:EP | YAF - ARE/AXP Study Group
DESCRIPTION:EP | YAF Presents \nARE/AXP Study Group \nJoin us Wednesday evenings from 6-8pm at \nIntegrated Design\, 1111 Oberlin Street\, Raleigh
URL:https://aiatriangle.org/event/ep-yaf-are-axp-study-group-5/
LOCATION:Integrated Design\, 1111 Oberlin Road\, Raleigh\, NC\, United States
CATEGORIES:YAF
ORGANIZER;CN="Maxwell Hodge":MAILTO:davidmaxhodge@gmail.com
END:VEVENT
BEGIN:VEVENT
DTSTART;TZID=America/New_York:20200304T180000
DTEND;TZID=America/New_York:20200304T200000
DTSTAMP:20260424T014730
CREATED:20200129T041024Z
LAST-MODIFIED:20200303T212145Z
UID:10000035-1583344800-1583352000@aiatriangle.org
SUMMARY:EP | YAF - ARE/AXP Study Group
DESCRIPTION:EP | YAF Presents \nARE/AXP Study Group \nJoin us Wednesday evenings from 6-8pm at \nIntegrated Design\, 1111 Oberlin Street\, Raleigh
URL:https://aiatriangle.org/event/ep-yaf-are-axp-study-group-7/
LOCATION:Integrated Design\, 1111 Oberlin Road\, Raleigh\, NC\, United States
CATEGORIES:YAF
ORGANIZER;CN="Maxwell Hodge":MAILTO:davidmaxhodge@gmail.com
END:VEVENT
BEGIN:VEVENT
DTSTART;TZID=America/New_York:20200228T190000
DTEND;TZID=America/New_York:20200228T210000
DTSTAMP:20260424T014730
CREATED:20200214T003049Z
LAST-MODIFIED:20200303T212155Z
UID:10000139-1582916400-1582923600@aiatriangle.org
SUMMARY:EP/YAF - New Year/New Architect Celebration
DESCRIPTION:EP / YAF – New Year/New Architect Celebration \nFriday\, February 28 | 7:00 pm – 9:00 pm \nLynwood Brewing Concern | 1053 E. Whitaker Mill Road | Raleigh \nHappy New Year all! The AIA Triangle Young Architects Forum is inviting everyone out to kickoff the new year and celebrate our local newly licensed architects on Friday\, February 28th! \nIn case you don’t know\, the Young Architects Forum is AIA Triangle’s group that plans events targeted for Emerging Professionals and Young Architects – which includes a lot of folks – from architecture students\, through internships\, and up to ten years after achieving licensure as an architect.
URL:https://aiatriangle.org/event/ep-yaf-new-year-new-architect-celebration/
LOCATION:Lynwood Brewing Concern\, 1053 E. Whitaker Mill Road\, Raleigh\, NC\, 27604\, United States
ORGANIZER;CN="Maxwell Hodge":MAILTO:davidmaxhodge@gmail.com
END:VEVENT
BEGIN:VEVENT
DTSTART;TZID=America/New_York:20200226T180000
DTEND;TZID=America/New_York:20200226T200000
DTSTAMP:20260424T014730
CREATED:20200129T040742Z
LAST-MODIFIED:20200303T212355Z
UID:10000038-1582740000-1582747200@aiatriangle.org
SUMMARY:EP | YAF - ARE/AXP Study Group
DESCRIPTION:EP | YAF Presents \nARE/AXP Study Group \nJoin us Wednesday evenings from 6-8pm at \nIntegrated Design\, 1111 Oberlin Street\, Raleigh
URL:https://aiatriangle.org/event/ep-yaf-are-axp-study-group-6/
LOCATION:Integrated Design\, 1111 Oberlin Road\, Raleigh\, NC\, United States
CATEGORIES:YAF
ORGANIZER;CN="Maxwell Hodge":MAILTO:davidmaxhodge@gmail.com
END:VEVENT
BEGIN:VEVENT
DTSTART;TZID=America/New_York:20200219T180000
DTEND;TZID=America/New_York:20200219T200000
DTSTAMP:20260424T014730
CREATED:20200129T035804Z
LAST-MODIFIED:20200303T212409Z
UID:10000049-1582135200-1582142400@aiatriangle.org
SUMMARY:EP | YAF - ARE/AXP Study Group
DESCRIPTION:EP | YAF Presents \nARE/AXP Study Group \nJoin us Wednesday evenings from 6-8pm at \nIntegrated Design\, 1111 Oberlin Street\, Raleigh
URL:https://aiatriangle.org/event/ep-yaf-are-axp-study-group-4/
LOCATION:Integrated Design\, 1111 Oberlin Road\, Raleigh\, NC\, United States
CATEGORIES:YAF
ORGANIZER;CN="Maxwell Hodge":MAILTO:davidmaxhodge@gmail.com
END:VEVENT
BEGIN:VEVENT
DTSTART;TZID=America/New_York:20200218T190000
DTEND;TZID=America/New_York:20200218T210000
DTSTAMP:20260424T014730
CREATED:20200130T194510Z
LAST-MODIFIED:20200303T212424Z
UID:10000133-1582052400-1582059600@aiatriangle.org
SUMMARY:EP|YAF - Task Force Planning Meeting
DESCRIPTION:EP / YAF Task Force Planning Meeting:\nFebruary 18th at 7:00pm – 9:00pm\nDuda|Paine at 333 Liggett St\, Durham\n\nThe EP / YAF Task Force is getting ready for ARE sessions\, member socials\, studio drops\, construction tours\, conference trips and more this year. We need your help on our team to continue putting our plans into action! If you’ve got an interest in helping plan awesome events\, send emails or taking part in these activities or some of your very own ideas\, please come on out to the planning meeting!  
URL:https://aiatriangle.org/event/epyaf-task-force-planning-meeting/
LOCATION:Duda Paine\, 333 Liggett Street\, Durham\, NC\, 27701\, United States
ORGANIZER;CN="Shawna Mabie":MAILTO:shawna.m.mabie@gmail.com
END:VEVENT
BEGIN:VEVENT
DTSTART;TZID=America/New_York:20200212T180000
DTEND;TZID=America/New_York:20200212T200000
DTSTAMP:20260424T014730
CREATED:20200129T031322Z
LAST-MODIFIED:20200303T212735Z
UID:10000051-1581530400-1581537600@aiatriangle.org
SUMMARY:EP | YAF - ARE/AXP Study Group
DESCRIPTION:EP | YAF Presents \nARE/AXP Study Group \nJoin us Wednesday evenings from 6-8pm at \nIntegrated Design\, 1111 Oberlin Street\, Raleigh
URL:https://aiatriangle.org/event/ep-yaf-are-axp-study-group-3/
LOCATION:Integrated Design\, 1111 Oberlin Road\, Raleigh\, NC\, United States
CATEGORIES:YAF
ORGANIZER;CN="Maxwell Hodge":MAILTO:davidmaxhodge@gmail.com
END:VEVENT
BEGIN:VEVENT
DTSTART;TZID=America/New_York:20200205T180000
DTEND;TZID=America/New_York:20200205T200000
DTSTAMP:20260424T014730
CREATED:20200129T030946Z
LAST-MODIFIED:20200303T212835Z
UID:10000053-1580925600-1580932800@aiatriangle.org
SUMMARY:EP | YAF  - ARE/AXP Study Group
DESCRIPTION:EP | YAF Presents  \nARE/AXP Study Group \nJoin us Wednesday evenings from 6-8pm at  \nIntegrated Design\, 1111 Oberlin Street\, Raleigh
URL:https://aiatriangle.org/event/ep-yaf-are-axp-study-group-2/
LOCATION:Integrated Design\, 1111 Oberlin Road\, Raleigh\, NC\, United States
CATEGORIES:YAF
ORGANIZER;CN="Maxwell Hodge":MAILTO:davidmaxhodge@gmail.com
END:VEVENT
END:VCALENDAR