BEGIN:VCALENDAR
VERSION:2.0
PRODID:-//AIA Triangle - ECPv6.15.20//NONSGML v1.0//EN
CALSCALE:GREGORIAN
METHOD:PUBLISH
X-WR-CALNAME:AIA Triangle
X-ORIGINAL-URL:https://aiatriangle.org
X-WR-CALDESC:Events for AIA Triangle
REFRESH-INTERVAL;VALUE=DURATION:PT1H
X-Robots-Tag:noindex
X-PUBLISHED-TTL:PT1H
BEGIN:VTIMEZONE
TZID:America/New_York
BEGIN:DAYLIGHT
TZOFFSETFROM:-0500
TZOFFSETTO:-0400
TZNAME:EDT
DTSTART:20200308T070000
END:DAYLIGHT
BEGIN:STANDARD
TZOFFSETFROM:-0400
TZOFFSETTO:-0500
TZNAME:EST
DTSTART:20201101T060000
END:STANDARD
BEGIN:DAYLIGHT
TZOFFSETFROM:-0500
TZOFFSETTO:-0400
TZNAME:EDT
DTSTART:20210314T070000
END:DAYLIGHT
BEGIN:STANDARD
TZOFFSETFROM:-0400
TZOFFSETTO:-0500
TZNAME:EST
DTSTART:20211107T060000
END:STANDARD
BEGIN:DAYLIGHT
TZOFFSETFROM:-0500
TZOFFSETTO:-0400
TZNAME:EDT
DTSTART:20220313T070000
END:DAYLIGHT
BEGIN:STANDARD
TZOFFSETFROM:-0400
TZOFFSETTO:-0500
TZNAME:EST
DTSTART:20221106T060000
END:STANDARD
BEGIN:DAYLIGHT
TZOFFSETFROM:-0500
TZOFFSETTO:-0400
TZNAME:EDT
DTSTART:20230312T070000
END:DAYLIGHT
BEGIN:STANDARD
TZOFFSETFROM:-0400
TZOFFSETTO:-0500
TZNAME:EST
DTSTART:20231105T060000
END:STANDARD
END:VTIMEZONE
BEGIN:VEVENT
DTSTART;TZID=America/New_York:20220209T183000
DTEND;TZID=America/New_York:20220209T190000
DTSTAMP:20260423T175609
CREATED:20211221T194641Z
LAST-MODIFIED:20220728T125718Z
UID:10000308-1644431400-1644433200@aiatriangle.org
SUMMARY:2022 ARE/AXP Study Group
DESCRIPTION:All are welcome to participate! \nCheck-in weekly to the Zoom meetings on Wednesdays at 6:30 PM \nJOIN US ON TEAMS HERE \nConnect on the Young and Aspiring Architects’ Facebook Page \nQuestions?  \nContact Max Hodge for more information
URL:https://aiatriangle.org/event/2022-are-axp-study-group/2022-02-09/
LOCATION:Online Meeting
CATEGORIES:YAF
ORGANIZER;CN="Maxwell Hodge":MAILTO:davidmaxhodge@gmail.com
END:VEVENT
BEGIN:VEVENT
DTSTART;TZID=America/New_York:20220202T183000
DTEND;TZID=America/New_York:20220202T190000
DTSTAMP:20260423T175609
CREATED:20211221T194641Z
LAST-MODIFIED:20220728T125718Z
UID:10000307-1643826600-1643828400@aiatriangle.org
SUMMARY:2022 ARE/AXP Study Group
DESCRIPTION:All are welcome to participate! \nCheck-in weekly to the Zoom meetings on Wednesdays at 6:30 PM \nJOIN US ON TEAMS HERE \nConnect on the Young and Aspiring Architects’ Facebook Page \nQuestions?  \nContact Max Hodge for more information
URL:https://aiatriangle.org/event/2022-are-axp-study-group/2022-02-02/
LOCATION:Online Meeting
CATEGORIES:YAF
ORGANIZER;CN="Maxwell Hodge":MAILTO:davidmaxhodge@gmail.com
END:VEVENT
BEGIN:VEVENT
DTSTART;TZID=America/New_York:20220126T183000
DTEND;TZID=America/New_York:20220126T190000
DTSTAMP:20260423T175610
CREATED:20211221T194641Z
LAST-MODIFIED:20220728T125718Z
UID:10000306-1643221800-1643223600@aiatriangle.org
SUMMARY:2022 ARE/AXP Study Group
DESCRIPTION:All are welcome to participate! \nCheck-in weekly to the Zoom meetings on Wednesdays at 6:30 PM \nJOIN US ON TEAMS HERE \nConnect on the Young and Aspiring Architects’ Facebook Page \nQuestions?  \nContact Max Hodge for more information
URL:https://aiatriangle.org/event/2022-are-axp-study-group/2022-01-26/
LOCATION:Online Meeting
CATEGORIES:YAF
ORGANIZER;CN="Maxwell Hodge":MAILTO:davidmaxhodge@gmail.com
END:VEVENT
BEGIN:VEVENT
DTSTART;TZID=America/New_York:20220119T183000
DTEND;TZID=America/New_York:20220119T190000
DTSTAMP:20260423T175610
CREATED:20211221T194641Z
LAST-MODIFIED:20220728T125718Z
UID:10000305-1642617000-1642618800@aiatriangle.org
SUMMARY:2022 ARE/AXP Study Group
DESCRIPTION:All are welcome to participate! \nCheck-in weekly to the Zoom meetings on Wednesdays at 6:30 PM \nJOIN US ON TEAMS HERE \nConnect on the Young and Aspiring Architects’ Facebook Page \nQuestions?  \nContact Max Hodge for more information
URL:https://aiatriangle.org/event/2022-are-axp-study-group/2022-01-19/
LOCATION:Online Meeting
CATEGORIES:YAF
ORGANIZER;CN="Maxwell Hodge":MAILTO:davidmaxhodge@gmail.com
END:VEVENT
BEGIN:VEVENT
DTSTART;TZID=America/New_York:20220112T183000
DTEND;TZID=America/New_York:20220112T190000
DTSTAMP:20260423T175610
CREATED:20211221T194641Z
LAST-MODIFIED:20220728T125718Z
UID:10000304-1642012200-1642014000@aiatriangle.org
SUMMARY:2022 ARE/AXP Study Group
DESCRIPTION:All are welcome to participate! \nCheck-in weekly to the Zoom meetings on Wednesdays at 6:30 PM \nJOIN US ON TEAMS HERE \nConnect on the Young and Aspiring Architects’ Facebook Page \nQuestions?  \nContact Max Hodge for more information
URL:https://aiatriangle.org/event/2022-are-axp-study-group/2022-01-12/
LOCATION:Online Meeting
CATEGORIES:YAF
ORGANIZER;CN="Maxwell Hodge":MAILTO:davidmaxhodge@gmail.com
END:VEVENT
BEGIN:VEVENT
DTSTART;TZID=America/New_York:20220105T183000
DTEND;TZID=America/New_York:20220105T190000
DTSTAMP:20260423T175610
CREATED:20211221T194641Z
LAST-MODIFIED:20220728T125718Z
UID:10000303-1641407400-1641409200@aiatriangle.org
SUMMARY:2022 ARE/AXP Study Group
DESCRIPTION:All are welcome to participate! \nCheck-in weekly to the Zoom meetings on Wednesdays at 6:30 PM \nJOIN US ON TEAMS HERE \nConnect on the Young and Aspiring Architects’ Facebook Page \nQuestions?  \nContact Max Hodge for more information
URL:https://aiatriangle.org/event/2022-are-axp-study-group/2022-01-05/
LOCATION:Online Meeting
CATEGORIES:YAF
ORGANIZER;CN="Maxwell Hodge":MAILTO:davidmaxhodge@gmail.com
END:VEVENT
BEGIN:VEVENT
DTSTART;TZID=America/New_York:20211229T180000
DTEND;TZID=America/New_York:20211229T183000
DTSTAMP:20260423T175610
CREATED:20210106T154903Z
LAST-MODIFIED:20210629T153507Z
UID:10000128-1640800800-1640802600@aiatriangle.org
SUMMARY:ARE / AXP Study Group
DESCRIPTION:All are welcome to participate! \nCheck-in weekly to the Zoom meetings on Wednesdays at 6:00 pm \nJOIN ZOOM MEETING \nMeeting ID: 891 4770 9050\nPasscode: 639594\nConnect on the Young and Aspiring Architects’ Facebook Page \nQuestions?  \nContact Max Hodge for more information
URL:https://aiatriangle.org/event/are-axp-study-group-11/2021-12-29/
LOCATION:Online Meeting
CATEGORIES:YAF
ORGANIZER;CN="Maxwell Hodge":MAILTO:davidmaxhodge@gmail.com
END:VEVENT
BEGIN:VEVENT
DTSTART;TZID=America/New_York:20211222T180000
DTEND;TZID=America/New_York:20211222T183000
DTSTAMP:20260423T175610
CREATED:20210106T154903Z
LAST-MODIFIED:20210629T153507Z
UID:10000127-1640196000-1640197800@aiatriangle.org
SUMMARY:ARE / AXP Study Group
DESCRIPTION:All are welcome to participate! \nCheck-in weekly to the Zoom meetings on Wednesdays at 6:00 pm \nJOIN ZOOM MEETING \nMeeting ID: 891 4770 9050\nPasscode: 639594\nConnect on the Young and Aspiring Architects’ Facebook Page \nQuestions?  \nContact Max Hodge for more information
URL:https://aiatriangle.org/event/are-axp-study-group-11/2021-12-22/
LOCATION:Online Meeting
CATEGORIES:YAF
ORGANIZER;CN="Maxwell Hodge":MAILTO:davidmaxhodge@gmail.com
END:VEVENT
BEGIN:VEVENT
DTSTART;TZID=America/New_York:20211215T180000
DTEND;TZID=America/New_York:20211215T183000
DTSTAMP:20260423T175610
CREATED:20210106T154903Z
LAST-MODIFIED:20210629T153507Z
UID:10000126-1639591200-1639593000@aiatriangle.org
SUMMARY:ARE / AXP Study Group
DESCRIPTION:All are welcome to participate! \nCheck-in weekly to the Zoom meetings on Wednesdays at 6:00 pm \nJOIN ZOOM MEETING \nMeeting ID: 891 4770 9050\nPasscode: 639594\nConnect on the Young and Aspiring Architects’ Facebook Page \nQuestions?  \nContact Max Hodge for more information
URL:https://aiatriangle.org/event/are-axp-study-group-11/2021-12-15/
LOCATION:Online Meeting
CATEGORIES:YAF
ORGANIZER;CN="Maxwell Hodge":MAILTO:davidmaxhodge@gmail.com
END:VEVENT
BEGIN:VEVENT
DTSTART;TZID=America/New_York:20211208T180000
DTEND;TZID=America/New_York:20211208T183000
DTSTAMP:20260423T175610
CREATED:20210106T154903Z
LAST-MODIFIED:20210629T153507Z
UID:10000125-1638986400-1638988200@aiatriangle.org
SUMMARY:ARE / AXP Study Group
DESCRIPTION:All are welcome to participate! \nCheck-in weekly to the Zoom meetings on Wednesdays at 6:00 pm \nJOIN ZOOM MEETING \nMeeting ID: 891 4770 9050\nPasscode: 639594\nConnect on the Young and Aspiring Architects’ Facebook Page \nQuestions?  \nContact Max Hodge for more information
URL:https://aiatriangle.org/event/are-axp-study-group-11/2021-12-08/
LOCATION:Online Meeting
CATEGORIES:YAF
ORGANIZER;CN="Maxwell Hodge":MAILTO:davidmaxhodge@gmail.com
END:VEVENT
BEGIN:VEVENT
DTSTART;TZID=America/New_York:20211201T180000
DTEND;TZID=America/New_York:20211201T183000
DTSTAMP:20260423T175610
CREATED:20210106T154903Z
LAST-MODIFIED:20210629T153507Z
UID:10000124-1638381600-1638383400@aiatriangle.org
SUMMARY:ARE / AXP Study Group
DESCRIPTION:All are welcome to participate! \nCheck-in weekly to the Zoom meetings on Wednesdays at 6:00 pm \nJOIN ZOOM MEETING \nMeeting ID: 891 4770 9050\nPasscode: 639594\nConnect on the Young and Aspiring Architects’ Facebook Page \nQuestions?  \nContact Max Hodge for more information
URL:https://aiatriangle.org/event/are-axp-study-group-11/2021-12-01/
LOCATION:Online Meeting
CATEGORIES:YAF
ORGANIZER;CN="Maxwell Hodge":MAILTO:davidmaxhodge@gmail.com
END:VEVENT
BEGIN:VEVENT
DTSTART;TZID=America/New_York:20211124T180000
DTEND;TZID=America/New_York:20211124T183000
DTSTAMP:20260423T175610
CREATED:20210106T154903Z
LAST-MODIFIED:20210629T153507Z
UID:10000123-1637776800-1637778600@aiatriangle.org
SUMMARY:ARE / AXP Study Group
DESCRIPTION:All are welcome to participate! \nCheck-in weekly to the Zoom meetings on Wednesdays at 6:00 pm \nJOIN ZOOM MEETING \nMeeting ID: 891 4770 9050\nPasscode: 639594\nConnect on the Young and Aspiring Architects’ Facebook Page \nQuestions?  \nContact Max Hodge for more information
URL:https://aiatriangle.org/event/are-axp-study-group-11/2021-11-24/
LOCATION:Online Meeting
CATEGORIES:YAF
ORGANIZER;CN="Maxwell Hodge":MAILTO:davidmaxhodge@gmail.com
END:VEVENT
BEGIN:VEVENT
DTSTART;TZID=America/New_York:20211117T180000
DTEND;TZID=America/New_York:20211117T183000
DTSTAMP:20260423T175610
CREATED:20210106T154903Z
LAST-MODIFIED:20210629T153507Z
UID:10000122-1637172000-1637173800@aiatriangle.org
SUMMARY:ARE / AXP Study Group
DESCRIPTION:All are welcome to participate! \nCheck-in weekly to the Zoom meetings on Wednesdays at 6:00 pm \nJOIN ZOOM MEETING \nMeeting ID: 891 4770 9050\nPasscode: 639594\nConnect on the Young and Aspiring Architects’ Facebook Page \nQuestions?  \nContact Max Hodge for more information
URL:https://aiatriangle.org/event/are-axp-study-group-11/2021-11-17/
LOCATION:Online Meeting
CATEGORIES:YAF
ORGANIZER;CN="Maxwell Hodge":MAILTO:davidmaxhodge@gmail.com
END:VEVENT
BEGIN:VEVENT
DTSTART;TZID=America/New_York:20211110T180000
DTEND;TZID=America/New_York:20211110T183000
DTSTAMP:20260423T175610
CREATED:20210106T154903Z
LAST-MODIFIED:20210629T153507Z
UID:10000121-1636567200-1636569000@aiatriangle.org
SUMMARY:ARE / AXP Study Group
DESCRIPTION:All are welcome to participate! \nCheck-in weekly to the Zoom meetings on Wednesdays at 6:00 pm \nJOIN ZOOM MEETING \nMeeting ID: 891 4770 9050\nPasscode: 639594\nConnect on the Young and Aspiring Architects’ Facebook Page \nQuestions?  \nContact Max Hodge for more information
URL:https://aiatriangle.org/event/are-axp-study-group-11/2021-11-10/
LOCATION:Online Meeting
CATEGORIES:YAF
ORGANIZER;CN="Maxwell Hodge":MAILTO:davidmaxhodge@gmail.com
END:VEVENT
BEGIN:VEVENT
DTSTART;TZID=America/New_York:20211103T180000
DTEND;TZID=America/New_York:20211103T183000
DTSTAMP:20260423T175611
CREATED:20210106T154903Z
LAST-MODIFIED:20210629T153507Z
UID:10000120-1635962400-1635964200@aiatriangle.org
SUMMARY:ARE / AXP Study Group
DESCRIPTION:All are welcome to participate! \nCheck-in weekly to the Zoom meetings on Wednesdays at 6:00 pm \nJOIN ZOOM MEETING \nMeeting ID: 891 4770 9050\nPasscode: 639594\nConnect on the Young and Aspiring Architects’ Facebook Page \nQuestions?  \nContact Max Hodge for more information
URL:https://aiatriangle.org/event/are-axp-study-group-11/2021-11-03/
LOCATION:Online Meeting
CATEGORIES:YAF
ORGANIZER;CN="Maxwell Hodge":MAILTO:davidmaxhodge@gmail.com
END:VEVENT
BEGIN:VEVENT
DTSTART;TZID=America/New_York:20211027T180000
DTEND;TZID=America/New_York:20211027T183000
DTSTAMP:20260423T175611
CREATED:20210106T154903Z
LAST-MODIFIED:20210629T153507Z
UID:10000119-1635357600-1635359400@aiatriangle.org
SUMMARY:ARE / AXP Study Group
DESCRIPTION:All are welcome to participate! \nCheck-in weekly to the Zoom meetings on Wednesdays at 6:00 pm \nJOIN ZOOM MEETING \nMeeting ID: 891 4770 9050\nPasscode: 639594\nConnect on the Young and Aspiring Architects’ Facebook Page \nQuestions?  \nContact Max Hodge for more information
URL:https://aiatriangle.org/event/are-axp-study-group-11/2021-10-27/
LOCATION:Online Meeting
CATEGORIES:YAF
ORGANIZER;CN="Maxwell Hodge":MAILTO:davidmaxhodge@gmail.com
END:VEVENT
BEGIN:VEVENT
DTSTART;TZID=America/New_York:20211020T180000
DTEND;TZID=America/New_York:20211020T183000
DTSTAMP:20260423T175611
CREATED:20210106T154903Z
LAST-MODIFIED:20210629T153507Z
UID:10000118-1634752800-1634754600@aiatriangle.org
SUMMARY:ARE / AXP Study Group
DESCRIPTION:All are welcome to participate! \nCheck-in weekly to the Zoom meetings on Wednesdays at 6:00 pm \nJOIN ZOOM MEETING \nMeeting ID: 891 4770 9050\nPasscode: 639594\nConnect on the Young and Aspiring Architects’ Facebook Page \nQuestions?  \nContact Max Hodge for more information
URL:https://aiatriangle.org/event/are-axp-study-group-11/2021-10-20/
LOCATION:Online Meeting
CATEGORIES:YAF
ORGANIZER;CN="Maxwell Hodge":MAILTO:davidmaxhodge@gmail.com
END:VEVENT
BEGIN:VEVENT
DTSTART;TZID=America/New_York:20211013T180000
DTEND;TZID=America/New_York:20211013T183000
DTSTAMP:20260423T175611
CREATED:20210106T154903Z
LAST-MODIFIED:20210629T153507Z
UID:10000117-1634148000-1634149800@aiatriangle.org
SUMMARY:ARE / AXP Study Group
DESCRIPTION:All are welcome to participate! \nCheck-in weekly to the Zoom meetings on Wednesdays at 6:00 pm \nJOIN ZOOM MEETING \nMeeting ID: 891 4770 9050\nPasscode: 639594\nConnect on the Young and Aspiring Architects’ Facebook Page \nQuestions?  \nContact Max Hodge for more information
URL:https://aiatriangle.org/event/are-axp-study-group-11/2021-10-13/
LOCATION:Online Meeting
CATEGORIES:YAF
ORGANIZER;CN="Maxwell Hodge":MAILTO:davidmaxhodge@gmail.com
END:VEVENT
BEGIN:VEVENT
DTSTART;TZID=America/New_York:20211011T174500
DTEND;TZID=America/New_York:20211011T190000
DTSTAMP:20260423T175611
CREATED:20211007T145405Z
LAST-MODIFIED:20211008T124936Z
UID:10000294-1633974300-1633978800@aiatriangle.org
SUMMARY:EP/YAF & AIAS|NCSU - General Meeting and Lecture Watch Party
DESCRIPTION:PROFESSIONALS INVITED TO ATTEND!\n\nAIAS|NCSU General Meeting & Lecture Watch Party\nOctober 11 | 5:45 PM\nNC State College of Design | Allred Gallery\n\n\nLecture Watch Party!! EP|YAF are joining AIAS in person during their general body meeting for a fun\, interactive\, and tasty viewing of the October 11th Joint Lecture Series featuring Rahul Mehrota. There will be food\, drinks\, and great conversation. If you are in the mood to get out and about on a Monday night\, here’s your chance! \nSo we may have an accurate count to order food and beverages\, please RSVP below by 3:00 pm
URL:https://aiatriangle.org/event/ep-yaf-aiasncsu-general-meeting-and-lecture-watch-party/
LOCATION:NC State Allred Gallery\, (Next to Burns Auditorium) 2221 Katharine Stinson Drive\, Raleigh\, NC\, 27607\, United States
CATEGORIES:YAF
ORGANIZER;CN="Maxwell Hodge":MAILTO:davidmaxhodge@gmail.com
END:VEVENT
BEGIN:VEVENT
DTSTART;TZID=America/New_York:20211006T180000
DTEND;TZID=America/New_York:20211006T183000
DTSTAMP:20260423T175611
CREATED:20210106T154903Z
LAST-MODIFIED:20210629T153507Z
UID:10000116-1633543200-1633545000@aiatriangle.org
SUMMARY:ARE / AXP Study Group
DESCRIPTION:All are welcome to participate! \nCheck-in weekly to the Zoom meetings on Wednesdays at 6:00 pm \nJOIN ZOOM MEETING \nMeeting ID: 891 4770 9050\nPasscode: 639594\nConnect on the Young and Aspiring Architects’ Facebook Page \nQuestions?  \nContact Max Hodge for more information
URL:https://aiatriangle.org/event/are-axp-study-group-11/2021-10-06/
LOCATION:Online Meeting
CATEGORIES:YAF
ORGANIZER;CN="Maxwell Hodge":MAILTO:davidmaxhodge@gmail.com
END:VEVENT
BEGIN:VEVENT
DTSTART;TZID=America/New_York:20210929T180000
DTEND;TZID=America/New_York:20210929T183000
DTSTAMP:20260423T175611
CREATED:20210106T154903Z
LAST-MODIFIED:20210629T153507Z
UID:10000115-1632938400-1632940200@aiatriangle.org
SUMMARY:ARE / AXP Study Group
DESCRIPTION:All are welcome to participate! \nCheck-in weekly to the Zoom meetings on Wednesdays at 6:00 pm \nJOIN ZOOM MEETING \nMeeting ID: 891 4770 9050\nPasscode: 639594\nConnect on the Young and Aspiring Architects’ Facebook Page \nQuestions?  \nContact Max Hodge for more information
URL:https://aiatriangle.org/event/are-axp-study-group-11/2021-09-29/
LOCATION:Online Meeting
CATEGORIES:YAF
ORGANIZER;CN="Maxwell Hodge":MAILTO:davidmaxhodge@gmail.com
END:VEVENT
BEGIN:VEVENT
DTSTART;TZID=America/New_York:20210924T120000
DTEND;TZID=America/New_York:20210924T130000
DTSTAMP:20260423T175611
CREATED:20210811T145708Z
LAST-MODIFIED:20210907T181012Z
UID:10000355-1632484800-1632488400@aiatriangle.org
SUMMARY:EP/YAF Mentorship Pod Session
DESCRIPTION:AIA Triangle EP/YAF \nMENTORSHIP POD SESSION \n Join Zoom Session HERE \nSeptember 24 | 12:00 pm – 1:00 pm \nJoin AIA Triangle’s EP/YAF task force for a virtual mentorship session. We connect students\, emerging professionals\, and seasoned professionals across North Carolina. Conversations range from portfolio and resume reviews\, professional practice questions\, licensure and alternative paths\, and everything in between. 
URL:https://aiatriangle.org/event/ep-yaf-mentorship-pod-session/
LOCATION:Online Meeting
CATEGORIES:YAF
ORGANIZER;CN="Maxwell Hodge":MAILTO:davidmaxhodge@gmail.com
END:VEVENT
BEGIN:VEVENT
DTSTART;TZID=America/New_York:20210922T180000
DTEND;TZID=America/New_York:20210922T183000
DTSTAMP:20260423T175611
CREATED:20210106T154903Z
LAST-MODIFIED:20210629T153507Z
UID:10000114-1632333600-1632335400@aiatriangle.org
SUMMARY:ARE / AXP Study Group
DESCRIPTION:All are welcome to participate! \nCheck-in weekly to the Zoom meetings on Wednesdays at 6:00 pm \nJOIN ZOOM MEETING \nMeeting ID: 891 4770 9050\nPasscode: 639594\nConnect on the Young and Aspiring Architects’ Facebook Page \nQuestions?  \nContact Max Hodge for more information
URL:https://aiatriangle.org/event/are-axp-study-group-11/2021-09-22/
LOCATION:Online Meeting
CATEGORIES:YAF
ORGANIZER;CN="Maxwell Hodge":MAILTO:davidmaxhodge@gmail.com
END:VEVENT
BEGIN:VEVENT
DTSTART;TZID=America/New_York:20210915T180000
DTEND;TZID=America/New_York:20210915T183000
DTSTAMP:20260423T175612
CREATED:20210106T154903Z
LAST-MODIFIED:20210629T153507Z
UID:10000113-1631728800-1631730600@aiatriangle.org
SUMMARY:ARE / AXP Study Group
DESCRIPTION:All are welcome to participate! \nCheck-in weekly to the Zoom meetings on Wednesdays at 6:00 pm \nJOIN ZOOM MEETING \nMeeting ID: 891 4770 9050\nPasscode: 639594\nConnect on the Young and Aspiring Architects’ Facebook Page \nQuestions?  \nContact Max Hodge for more information
URL:https://aiatriangle.org/event/are-axp-study-group-11/2021-09-15/
LOCATION:Online Meeting
CATEGORIES:YAF
ORGANIZER;CN="Maxwell Hodge":MAILTO:davidmaxhodge@gmail.com
END:VEVENT
BEGIN:VEVENT
DTSTART;TZID=America/New_York:20210908T180000
DTEND;TZID=America/New_York:20210908T183000
DTSTAMP:20260423T175612
CREATED:20210106T154903Z
LAST-MODIFIED:20210629T153507Z
UID:10000112-1631124000-1631125800@aiatriangle.org
SUMMARY:ARE / AXP Study Group
DESCRIPTION:All are welcome to participate! \nCheck-in weekly to the Zoom meetings on Wednesdays at 6:00 pm \nJOIN ZOOM MEETING \nMeeting ID: 891 4770 9050\nPasscode: 639594\nConnect on the Young and Aspiring Architects’ Facebook Page \nQuestions?  \nContact Max Hodge for more information
URL:https://aiatriangle.org/event/are-axp-study-group-11/2021-09-08/
LOCATION:Online Meeting
CATEGORIES:YAF
ORGANIZER;CN="Maxwell Hodge":MAILTO:davidmaxhodge@gmail.com
END:VEVENT
BEGIN:VEVENT
DTSTART;TZID=America/New_York:20210908T123000
DTEND;TZID=America/New_York:20210908T133000
DTSTAMP:20260423T175612
CREATED:20210820T125515Z
LAST-MODIFIED:20210901T144011Z
UID:10000300-1631104200-1631107800@aiatriangle.org
SUMMARY:EP/YAF Hard Hat Tour/Duke University Catholic Center's Facone-Arena House
DESCRIPTION:EP/YAF Hard Hat Tour \nDuke University Catholic Center’s Falcone-Arena House \nSeptember 8 | 12:30 pm – 1:30 pm (1 AIA/HSW credit) \nIn-person tour limited to the first 20 registrants \nThe first 20 registrants are welcome to join us for an in-person tour of the Duke Catholic Center’s Falcone-Arena House. This tour will be led by Ellen Cassilly\, FAIA\, Founder of Ellen Cassilly Architects and Father Michael Martin\, O.F.M. Duke University\, Director of Catholic Campus Ministry. \nLEARNING OBJECTIVES \n\nParticipants will compare the integration of five different art installations on the interior and exterior of the project and assess their successfulness through observation and discussion with the architect and client\nParticipants will be able to examine the constraints of working on a tight urban site and challenges of changing the grade adjacent to existing neighbors as well as water management on the site\nParticipants will observe the challenges and contribute to a discussion of supply chain instability caused by COVID pandemic as related to the entire building process and most especially finished grade veneered plywood for millwork and casework\nParticipants will be able to examine the make up of two sound control strategies for the floor/ceiling connection\, between the quiet rooms of the study and music room\, and the wall/wall connection between the chapel and study.\n\nPRESENTED BY: \nEllen Cassilly\, FAIA | Founder\, Ellen Cassilly Architects \nEllen Cassilly has over 35 years of experience and founded her studio\, Ellen Cassilly Architects\, in 1999. Their projects have contributed to the vibrancy of Durham’s renaissance from Fullsteam Brewery\, Parker and Otis\, and Grub\, to the Kress condominiums and the pavilion in Durham Central Park. Ellen’s personal home Cassilhaus was highlighted in the NYT in 209. In 2018 Ellen was elevated to a Fellow of the AIA. \nFather Michael Martin\, O.F.M | Duke University Director of Catholic Campus Ministry \nFr. Michael Martin\, O.F.M. Conv was named Director of the Duke Catholic Center in August 2010. he has held a variety of teaching\, coaching and administrative positions since his ordination in 1989 including an adjunct faculty position at Xavier University in Cincinnati. He has served on a number of boards and commissions and is a highlighted presenter on strategic issues facing Catholic schools today and the important role of advancement in sustaining the mission of Catholic education. In 2007 he received the Pro Eccelsia et Pontifice medal for service to the Church from Pope Benedict XVI. \n\n\nIn person tour limited to first 20 registrants\nOnce capacity is reached\, if you’d like to be placed on a waiting list to be contacted if a space opens up email chris@aiatriangle.org
URL:https://aiatriangle.org/event/ep-yaf-hard-hat-tour-duke-university-catholic-centers-facone-arena-house/
LOCATION:Duke University Catholic Center\, Falcone-Arena House\, 402 N. Buchanan Boulevard\, Durham\, NC\, 27701\, United States
CATEGORIES:YAF
ORGANIZER;CN="Maxwell Hodge":MAILTO:davidmaxhodge@gmail.com
END:VEVENT
BEGIN:VEVENT
DTSTART;TZID=America/New_York:20210901T180000
DTEND;TZID=America/New_York:20210901T183000
DTSTAMP:20260423T175612
CREATED:20210106T154903Z
LAST-MODIFIED:20210629T153507Z
UID:10000111-1630519200-1630521000@aiatriangle.org
SUMMARY:ARE / AXP Study Group
DESCRIPTION:All are welcome to participate! \nCheck-in weekly to the Zoom meetings on Wednesdays at 6:00 pm \nJOIN ZOOM MEETING \nMeeting ID: 891 4770 9050\nPasscode: 639594\nConnect on the Young and Aspiring Architects’ Facebook Page \nQuestions?  \nContact Max Hodge for more information
URL:https://aiatriangle.org/event/are-axp-study-group-11/2021-09-01/
LOCATION:Online Meeting
CATEGORIES:YAF
ORGANIZER;CN="Maxwell Hodge":MAILTO:davidmaxhodge@gmail.com
END:VEVENT
BEGIN:VEVENT
DTSTART;TZID=America/New_York:20210825T180000
DTEND;TZID=America/New_York:20210825T183000
DTSTAMP:20260423T175612
CREATED:20210106T154903Z
LAST-MODIFIED:20210629T153507Z
UID:10000110-1629914400-1629916200@aiatriangle.org
SUMMARY:ARE / AXP Study Group
DESCRIPTION:All are welcome to participate! \nCheck-in weekly to the Zoom meetings on Wednesdays at 6:00 pm \nJOIN ZOOM MEETING \nMeeting ID: 891 4770 9050\nPasscode: 639594\nConnect on the Young and Aspiring Architects’ Facebook Page \nQuestions?  \nContact Max Hodge for more information
URL:https://aiatriangle.org/event/are-axp-study-group-11/2021-08-25/
LOCATION:Online Meeting
CATEGORIES:YAF
ORGANIZER;CN="Maxwell Hodge":MAILTO:davidmaxhodge@gmail.com
END:VEVENT
BEGIN:VEVENT
DTSTART;TZID=America/New_York:20210824T120000
DTEND;TZID=America/New_York:20210824T123000
DTSTAMP:20260423T175612
CREATED:20210811T140525Z
LAST-MODIFIED:20210818T195158Z
UID:10000296-1629806400-1629808200@aiatriangle.org
SUMMARY:EP/YAF Mentorship Pods Informational Session
DESCRIPTION:EP/YAF MENTORSHIP PODS  \nINFORMATIONAL SESSION \nAUGUST 24 | 12:00 PM – 12:30 PM \nJoin AIA Triangle’s EP/YAF Task Force in our bi-annual virtual mentorship program. In a series of three sessions\, over the semester\, we connect students\, emerging professionals\, and seasoned professionals across North Carolina. Conversations range from portfolio and resume reviews\, professional practice questions\, licensure and alternative paths and everything in between! \nINTERESTED BEING A MENTOR? \n\nComplete the professional sign-up form HERE by the August 31st deadline\nRSVP below for the August 24th informational meeting to receive Zoom access to the meeting\n\nQUESTIONS? EMAIL EP.YAF@aiatriangle.org
URL:https://aiatriangle.org/event/ep-yaf-mentorship-pods-informational-session/
LOCATION:Online Meeting
CATEGORIES:YAF
ORGANIZER;CN="Maxwell Hodge":MAILTO:davidmaxhodge@gmail.com
END:VEVENT
BEGIN:VEVENT
DTSTART;TZID=America/New_York:20210818T180000
DTEND;TZID=America/New_York:20210818T183000
DTSTAMP:20260423T175612
CREATED:20210106T154903Z
LAST-MODIFIED:20210629T153507Z
UID:10000109-1629309600-1629311400@aiatriangle.org
SUMMARY:ARE / AXP Study Group
DESCRIPTION:All are welcome to participate! \nCheck-in weekly to the Zoom meetings on Wednesdays at 6:00 pm \nJOIN ZOOM MEETING \nMeeting ID: 891 4770 9050\nPasscode: 639594\nConnect on the Young and Aspiring Architects’ Facebook Page \nQuestions?  \nContact Max Hodge for more information
URL:https://aiatriangle.org/event/are-axp-study-group-11/2021-08-18/
LOCATION:Online Meeting
CATEGORIES:YAF
ORGANIZER;CN="Maxwell Hodge":MAILTO:davidmaxhodge@gmail.com
END:VEVENT
END:VCALENDAR