BEGIN:VCALENDAR
VERSION:2.0
PRODID:-//AIA Triangle - ECPv6.15.20//NONSGML v1.0//EN
CALSCALE:GREGORIAN
METHOD:PUBLISH
X-ORIGINAL-URL:https://aiatriangle.org
X-WR-CALDESC:Events for AIA Triangle
REFRESH-INTERVAL;VALUE=DURATION:PT1H
X-Robots-Tag:noindex
X-PUBLISHED-TTL:PT1H
BEGIN:VTIMEZONE
TZID:America/New_York
BEGIN:DAYLIGHT
TZOFFSETFROM:-0500
TZOFFSETTO:-0400
TZNAME:EDT
DTSTART:20210314T070000
END:DAYLIGHT
BEGIN:STANDARD
TZOFFSETFROM:-0400
TZOFFSETTO:-0500
TZNAME:EST
DTSTART:20211107T060000
END:STANDARD
BEGIN:DAYLIGHT
TZOFFSETFROM:-0500
TZOFFSETTO:-0400
TZNAME:EDT
DTSTART:20220313T070000
END:DAYLIGHT
BEGIN:STANDARD
TZOFFSETFROM:-0400
TZOFFSETTO:-0500
TZNAME:EST
DTSTART:20221106T060000
END:STANDARD
BEGIN:DAYLIGHT
TZOFFSETFROM:-0500
TZOFFSETTO:-0400
TZNAME:EDT
DTSTART:20230312T070000
END:DAYLIGHT
BEGIN:STANDARD
TZOFFSETFROM:-0400
TZOFFSETTO:-0500
TZNAME:EST
DTSTART:20231105T060000
END:STANDARD
END:VTIMEZONE
BEGIN:VEVENT
DTSTART;TZID=America/New_York:20220614T170000
DTEND;TZID=America/New_York:20220614T190000
DTSTAMP:20260423T150013
CREATED:20220519T161708Z
LAST-MODIFIED:20220610T163746Z
UID:10000416-1655226000-1655233200@aiatriangle.org
SUMMARY:Behind the Design[hers]
DESCRIPTION:Lecture Sponsored by AIA Triangle Women in Architecture \nBehind the Design[hers] (1 AIA LU Credit) \nTuesday\, June 14\, 2022 | 5:00 – 7:00 pm \nCenter for Architecture & Design | 14 E. Peace Street | Raleigh\, NC \n(Deadline to register Monday\, June 13 at 5:00 pm) \n \nJoin us as Laura Gwyn and Swati Khimesra reflect on and celebrate their collaboration for the ambitious Duke Central Tower Addition! Come hear how they approached such an impactful and complex project\, while also charting their careers. They will share how the journey took them from leading their project teams to leading their design firms\, and you will gain insight into the lessons they learned along the way. All are welcome! \nPRESENTED BY \nLaura Gwyn\, Principal and Managing Director\, Perkins&Will \n \nLaura Gwyn is a Principal and Managing Director of the North Carolina practice of global architecture firm Perkins&Will. She is known for her 360-degree perspective—gained from her experience in roles as architect\, construction manager\, and owner representative. With gratitude for her own women mentors\, Laura actively advocates for aspiring women leaders. Rooted in health and wellness expertise\, Laura applies a high level of community care to 21st century challenges that support a healthy\, sustainable future for all. \nSwati Khimesra\, Principal and CEO at Surface 678 \n \nSwati Khimesra is a Principal and CEO at Surface 678\, a landscape architectural design firm based in Durham\, North Carolina. Swati leads her team at Surface 678 in the design and management of complex projects with multi-disciplinary design teams in both the private and public development sectors. Swati’s career as a leader in landscape architecture encapsulates over 20 years of experience over diverse geographic locations\, crafting user experiences that provide a deeper connection to nature through the medium of landscape architecture and the merging of design with art\, culture\, and sustainable infrastructure. \nREGISTRATION INFORMATION \nIN-PERSON \n\nDeadline for in-person registration is Monday\, June 13 at 5:00 pm\nFace masks are optional
URL:https://aiatriangle.org/event/behind-the-designhers/
LOCATION:Center for Architecture and Design\, 14 E Peace Street\, Raleigh\, NC\, 27604
CATEGORIES:Women in Architecture
ORGANIZER;CN="Megan Kaufman":MAILTO:megank@kcsarchitecture.com
END:VEVENT
BEGIN:VEVENT
DTSTART;TZID=America/New_York:20220511T173000
DTEND;TZID=America/New_York:20220511T193000
DTSTAMP:20260423T150013
CREATED:20220428T162016Z
LAST-MODIFIED:20220429T150605Z
UID:10000391-1652290200-1652297400@aiatriangle.org
SUMMARY:Women in Architecture - Spring into Networking
DESCRIPTION:AIA Triangle  \nWomen in Architecture \nSpring into Networking  \nWednesday\, May 11 | 5:30 PM \nFullsteam in the Boxyard RTP \n900 Park Offices Drive | Research Triangle Park\, NC 27709  \nPlease RSVP to let us know you’ll be joining us!
URL:https://aiatriangle.org/event/women-in-architecture-spring-into-networking/
LOCATION:Fullsteam at Boxyard RTP\, 900 Park Offices Drive\, RTP\, NC\, 27709\, United States
CATEGORIES:Women in Architecture
ORGANIZER;CN="Megan Kaufman":MAILTO:megank@kcsarchitecture.com
END:VEVENT
END:VCALENDAR