BEGIN:VCALENDAR
VERSION:2.0
PRODID:-//AIA Triangle - ECPv6.15.20//NONSGML v1.0//EN
CALSCALE:GREGORIAN
METHOD:PUBLISH
X-WR-CALNAME:AIA Triangle
X-ORIGINAL-URL:https://aiatriangle.org
X-WR-CALDESC:Events for AIA Triangle
REFRESH-INTERVAL;VALUE=DURATION:PT1H
X-Robots-Tag:noindex
X-PUBLISHED-TTL:PT1H
BEGIN:VTIMEZONE
TZID:America/New_York
BEGIN:DAYLIGHT
TZOFFSETFROM:-0500
TZOFFSETTO:-0400
TZNAME:EDT
DTSTART:20200308T070000
END:DAYLIGHT
BEGIN:STANDARD
TZOFFSETFROM:-0400
TZOFFSETTO:-0500
TZNAME:EST
DTSTART:20201101T060000
END:STANDARD
BEGIN:DAYLIGHT
TZOFFSETFROM:-0500
TZOFFSETTO:-0400
TZNAME:EDT
DTSTART:20210314T070000
END:DAYLIGHT
BEGIN:STANDARD
TZOFFSETFROM:-0400
TZOFFSETTO:-0500
TZNAME:EST
DTSTART:20211107T060000
END:STANDARD
BEGIN:DAYLIGHT
TZOFFSETFROM:-0500
TZOFFSETTO:-0400
TZNAME:EDT
DTSTART:20220313T070000
END:DAYLIGHT
BEGIN:STANDARD
TZOFFSETFROM:-0400
TZOFFSETTO:-0500
TZNAME:EST
DTSTART:20221106T060000
END:STANDARD
END:VTIMEZONE
BEGIN:VEVENT
DTSTART;TZID=America/New_York:20211108T120000
DTEND;TZID=America/New_York:20211108T130000
DTSTAMP:20260423T104044
CREATED:20210820T144510Z
LAST-MODIFIED:20211108T151639Z
UID:10000176-1636372800-1636376400@aiatriangle.org
SUMMARY:Joint Lecture - Tatiana Bilbao
DESCRIPTION:2021 Fall Joint Lecture Series \nTatiana Bilbao \nTatiana Bilbao Estudio \nMonday\, November 8  \nNOTE TIME CHANGE: 12:00 pm (ET) \nCE credit pending approval \nREGISTER FOR ZOOM MEETING HERE \n 
URL:https://aiatriangle.org/event/joint-lecture-tatiana-bilbao/
LOCATION:Online Meeting
CATEGORIES:Joint Lecture Series
END:VEVENT
BEGIN:VEVENT
DTSTART;TZID=America/New_York:20211101T180000
DTEND;TZID=America/New_York:20211101T190000
DTSTAMP:20260423T104044
CREATED:20210820T143656Z
LAST-MODIFIED:20210827T144307Z
UID:10000174-1635789600-1635793200@aiatriangle.org
SUMMARY:Joint Lecture - Emmanuel Pratt
DESCRIPTION:Fall 2021 Joint Lecture Series \nEmmanuel Pratt \nSweet Water Foundation \nMonday\, November 1 | 6:00 pm \nCE credit pending approval \nREGISTER FOR ZOOM MEETING HERE
URL:https://aiatriangle.org/event/joint-lecture-emmanuel-pratt/
LOCATION:Online Meeting
CATEGORIES:Joint Lecture Series
END:VEVENT
BEGIN:VEVENT
DTSTART;TZID=America/New_York:20211025T180000
DTEND;TZID=America/New_York:20211025T190000
DTSTAMP:20260423T104044
CREATED:20210820T143014Z
LAST-MODIFIED:20210827T150049Z
UID:10000172-1635184800-1635188400@aiatriangle.org
SUMMARY:Joint Lecture - Caroline Shannon
DESCRIPTION:Fall 2021 Joint Lecture Series \nCaroline Shannon \nHoweler + Yoon Architecture \nMonday\, October 25 | 6:00 pm \nCE credit pending approval \nOption to view in-person at Burns Auditorium or online via Zoom meeting \nREGISTER FOR ZOOM MEETING HERE \n 
URL:https://aiatriangle.org/event/joint-lecture-caroline-shannon/
LOCATION:NC State Joint Lectures\, Burns Auditorium\, 2221 Katharine Stinson Drive\, Raleigh\, NC\, 27607\, United States
CATEGORIES:Joint Lecture Series
END:VEVENT
BEGIN:VEVENT
DTSTART;TZID=America/New_York:20211018T180000
DTEND;TZID=America/New_York:20211018T190000
DTSTAMP:20260423T104044
CREATED:20210820T142204Z
LAST-MODIFIED:20210827T145309Z
UID:10000286-1634580000-1634583600@aiatriangle.org
SUMMARY:Joint Lecture - Antoine Bryant
DESCRIPTION:Fall 2021 Joint Lecture Series \nAntoine Bryant \nDetroit Planning & Development Department Director \nMonday\, October 18 | 6:00 pm \nCE credit pending approval \nOption to view in-person at Burns Auditorium or online via Zoom \nREGISTER FOR ZOOM MEETING HERE
URL:https://aiatriangle.org/event/joint-lecture-antoine-bryant/
LOCATION:NC State Joint Lectures\, Burns Auditorium\, 2221 Katharine Stinson Drive\, Raleigh\, NC\, 27607\, United States
CATEGORIES:Joint Lecture Series
END:VEVENT
BEGIN:VEVENT
DTSTART;TZID=America/New_York:20211011T180000
DTEND;TZID=America/New_York:20211011T190000
DTSTAMP:20260423T104044
CREATED:20210820T140815Z
LAST-MODIFIED:20211008T132316Z
UID:10000288-1633975200-1633978800@aiatriangle.org
SUMMARY:Joint Lecture - Rahul Mehrota
DESCRIPTION:Fall 2021 Joint Lecture Series \nRahul Mehrotra \nRMA Architects \nMonday\, October 11  | 6:00 pm \nCE credit pending approval \nREGISTER FOR ZOOM MEETING HERE \n\nRahul’s Mumbai & Boston-based practice RMA Architects has completed a wide range of projects in India and around the world. To get to know Rahul a bit\, check out his TED talk on the architectural wonder of impermanent cities and his interview on ArchDaily.\n\nFollow our lecture calendar and stay tuned for upcoming events.
URL:https://aiatriangle.org/event/joint-lecture-rahul-mehrota/
LOCATION:Online Meeting
CATEGORIES:Joint Lecture Series
END:VEVENT
END:VCALENDAR