BEGIN:VCALENDAR
VERSION:2.0
PRODID:-//AIA Triangle - ECPv6.15.20//NONSGML v1.0//EN
CALSCALE:GREGORIAN
METHOD:PUBLISH
X-ORIGINAL-URL:https://aiatriangle.org
X-WR-CALDESC:Events for AIA Triangle
REFRESH-INTERVAL;VALUE=DURATION:PT1H
X-Robots-Tag:noindex
X-PUBLISHED-TTL:PT1H
BEGIN:VTIMEZONE
TZID:America/New_York
BEGIN:DAYLIGHT
TZOFFSETFROM:-0500
TZOFFSETTO:-0400
TZNAME:EDT
DTSTART:20230312T070000
END:DAYLIGHT
BEGIN:STANDARD
TZOFFSETFROM:-0400
TZOFFSETTO:-0500
TZNAME:EST
DTSTART:20231105T060000
END:STANDARD
BEGIN:DAYLIGHT
TZOFFSETFROM:-0500
TZOFFSETTO:-0400
TZNAME:EDT
DTSTART:20240310T070000
END:DAYLIGHT
BEGIN:STANDARD
TZOFFSETFROM:-0400
TZOFFSETTO:-0500
TZNAME:EST
DTSTART:20241103T060000
END:STANDARD
BEGIN:DAYLIGHT
TZOFFSETFROM:-0500
TZOFFSETTO:-0400
TZNAME:EDT
DTSTART:20250309T070000
END:DAYLIGHT
BEGIN:STANDARD
TZOFFSETFROM:-0400
TZOFFSETTO:-0500
TZNAME:EST
DTSTART:20251102T060000
END:STANDARD
END:VTIMEZONE
BEGIN:VEVENT
DTSTART;TZID=America/New_York:20240510T120000
DTEND;TZID=America/New_York:20240510T130000
DTSTAMP:20260423T042540
CREATED:20240411T140023Z
LAST-MODIFIED:20240503T115535Z
UID:10000555-1715342400-1715346000@aiatriangle.org
SUMMARY:SkyMobile Showroom and In Search of Deep Beauty Class (1LU/HSW)
DESCRIPTION:SkyMobile Demonstration presented by Platinum Partner Team Lighting\nIn Search of Deep Beauty: Neuroaesthetics and Wholeness in Design\, Part I (TSF019)\nFriday\, May 10\, 2024\, 12:00pm\nCenter for Architecture and Design\n14 E Peace Street | Raleigh\, NC 27601\n1LU/HSW \nCome be wowed by SkyMobile\, by Sky Factory\, presented by our Platinum Partner Team Lighting. The exciting SkyMobile unit will be onsite at CfAD from 8:30am – 2:30pm May 10.  While touring the mobile showroom you can earn CE credit at two different programs\, one at breakfast and one at lunch. \n \nSession I:   “The Restorative Impact of Perceived Open Space”\n9:00am\nBreakfast at 8:30am \nSession II: “In Search of Deep Beauty\, Neuroaesthetics & Wholeness in Design”\n12:00pm\nLunch at 11:30am \nYou are welcome to attend one or both sessions – register separately for each session please.  
URL:https://aiatriangle.org/event/skymobile-showroom-and-in-search-of-deep-beauty-class-1lu-hsw/
LOCATION:Center for Architecture and Design\, 14 E Peace Street\, Raleigh\, NC\, 27604
CATEGORIES:CE Program
ORGANIZER;CN="The Sky Factory":MAILTO:rebeccac@skyfactory.com
END:VEVENT
END:VCALENDAR