BEGIN:VCALENDAR
VERSION:2.0
PRODID:-//AIA Triangle - ECPv6.15.20//NONSGML v1.0//EN
CALSCALE:GREGORIAN
METHOD:PUBLISH
X-ORIGINAL-URL:https://aiatriangle.org
X-WR-CALDESC:Events for AIA Triangle
REFRESH-INTERVAL;VALUE=DURATION:PT1H
X-Robots-Tag:noindex
X-PUBLISHED-TTL:PT1H
BEGIN:VTIMEZONE
TZID:America/New_York
BEGIN:DAYLIGHT
TZOFFSETFROM:-0500
TZOFFSETTO:-0400
TZNAME:EDT
DTSTART:20220313T070000
END:DAYLIGHT
BEGIN:STANDARD
TZOFFSETFROM:-0400
TZOFFSETTO:-0500
TZNAME:EST
DTSTART:20221106T060000
END:STANDARD
BEGIN:DAYLIGHT
TZOFFSETFROM:-0500
TZOFFSETTO:-0400
TZNAME:EDT
DTSTART:20230312T070000
END:DAYLIGHT
BEGIN:STANDARD
TZOFFSETFROM:-0400
TZOFFSETTO:-0500
TZNAME:EST
DTSTART:20231105T060000
END:STANDARD
BEGIN:DAYLIGHT
TZOFFSETFROM:-0500
TZOFFSETTO:-0400
TZNAME:EDT
DTSTART:20240310T070000
END:DAYLIGHT
BEGIN:STANDARD
TZOFFSETFROM:-0400
TZOFFSETTO:-0500
TZNAME:EST
DTSTART:20241103T060000
END:STANDARD
BEGIN:DAYLIGHT
TZOFFSETFROM:-0500
TZOFFSETTO:-0400
TZNAME:EDT
DTSTART:20250309T070000
END:DAYLIGHT
BEGIN:STANDARD
TZOFFSETFROM:-0400
TZOFFSETTO:-0500
TZNAME:EST
DTSTART:20251102T060000
END:STANDARD
BEGIN:DAYLIGHT
TZOFFSETFROM:-0500
TZOFFSETTO:-0400
TZNAME:EDT
DTSTART:20260308T070000
END:DAYLIGHT
BEGIN:STANDARD
TZOFFSETFROM:-0400
TZOFFSETTO:-0500
TZNAME:EST
DTSTART:20261101T060000
END:STANDARD
BEGIN:DAYLIGHT
TZOFFSETFROM:-0500
TZOFFSETTO:-0400
TZNAME:EDT
DTSTART:20270314T070000
END:DAYLIGHT
BEGIN:STANDARD
TZOFFSETFROM:-0400
TZOFFSETTO:-0500
TZNAME:EST
DTSTART:20271107T060000
END:STANDARD
END:VTIMEZONE
BEGIN:VEVENT
DTSTART;TZID=America/New_York:20260220T083000
DTEND;TZID=America/New_York:20260220T120000
DTSTAMP:20260423T003222
CREATED:20251205T030049Z
LAST-MODIFIED:20260209T175946Z
UID:10000678-1771576200-1771588800@aiatriangle.org
SUMMARY:4th Annual Women in Architecture Breakfast
DESCRIPTION:4th Annual Women in Architecture BreakfastFeaturing Morgan Chawaga of “The Healthy Architect”Friday\, February 20\, 20268:30 AM – 12:00 PMPrestonwood Country Club | 300 Prestonwood Pkwy Cary\, NC 275132 LUTicketsMembers – $50 | Non-Members – $80Tickets are now SOLD OUT.To be placed on a waitlist and notified if tickets become available\, please email us.Students – Are you a student interested in attending?Contact us to get on a waitlist for complimentary\, sponsored tickets. \n  \nNegotiating Your Value So Everyone Wins \nUnlock your potential in the AEC industry by mastering the art of negotiation. This session empowers architects at all career stages to recognize and assert their value. Through practical insights and strategies\, you’ll learn how to approach compensation discussions and professional growth opportunities\, while advancing with confidence. Perfect for emerging professionals and seasoned architects alike\, this workshop provides actionable tools to help you drive meaningful conversations that enhance your projects\, your career and foster a more inclusive\, value-driven work. Join us to start building a career where your contributions are fully recognized and rewarded.After the conference\, attendees will return to their firms equipped with a renewed sense of self-worth and practical negotiation strategies that elevate both individual careers and firm standards. By implementing these skills\, attendees can advocate more effectively for fair compensation and professional growth opportunities. This not only benefits their personal development but also contributes to a workplace culture where value is recognized\, improving employee retention and job satisfaction across the industry. Ultimately\, this session fosters a more resilient\, equitable AEC field by empowering architects to drive impactful change from within their practices. \n\n\n\n \n\n\n\n  \n\n \nAbout Morgan Chawaga\, Career + Business Coach and Founder of The Healthy Architect \nMorgan Chawaga is a career and business coach and the founder of The Healthy Architect\, dedicated to helping architects create MORE IMPACT and MORE INCOME. Through her evidence-based coaching\, Morgan has successfully guided architects to secure job offers with salaries up to $70\,000 above their current earnings\, double their revenue in less than 6 months\, and become firm owners\, all while achieving 32-hour work weeks. With a focus on strategic negotiation and work life balance\, she empowers her clients to thrive both personally and professionally. Through her coaching\, architects – both employees and employers – are making and living MORE. \nInstagram: @the_healthy_architect_ | Facebook: Morgan Chawaga | Website: www.thehealthyarchitect.org | Podcast: The Healthy Architect\, LCC \n\n\n\n\n \n\n\n \n\n\n \n\n\n \n\n\n\nThank you to our 2026 WIA Breakfast Sponsors! \n \nReach out to us at info@aiatriangle.org for more information on sponsorship. Thank you for your support!
URL:https://aiatriangle.org/event/fourth-annual-women-in-architecture-breakfast/
LOCATION:Prestonwood Country Club\, 300 Prestonwood Pkwy\, Cary\, NC\, 27513\, United States
CATEGORIES:Women in Architecture
END:VEVENT
BEGIN:VEVENT
DTSTART;TZID=America/New_York:20250314T083000
DTEND;TZID=America/New_York:20250314T120000
DTSTAMP:20260423T003222
CREATED:20241206T193148Z
LAST-MODIFIED:20250307T183934Z
UID:10000597-1741941000-1741953600@aiatriangle.org
SUMMARY:3rd Annual Women in Architecture Breakfast - NEW DATE!
DESCRIPTION:3rd Annual Women in Architecture Breakfast – NEW DATE!\n\n\nStrength in Action: Women Redefining Leadership in Architecture\n\n\n\n\n\nFriday\, March 14\, 2025 | 8:30 AM – 12:00 PM\n\n\nPrestonwood County Club | 300 Prestonwood Pkwy | Cary\, NC 27513\n\n\nDeadline for individual registration is Friday\, March 7th at 5:00 PM Sponsor registration is closed. \n\n\n\n\n\n\n \n\n\n\n\n\n\n\n\nReady to advance your career and connect with inspiring leaders in architecture? Join AIA Triangle Women in Architecture for the third annual WIA Breakfast on Friday\, February 21\, 2025. This year’s theme\, Strength in Action: Women Redefining Leadership in Architecture\, celebrates the unique strengths women bring to the profession and their role in reshaping the industry in innovative ways. The event kicks off with a keynote highlighting how women are leading in diverse and impactful ways across our industry. Following the keynote\, a panel of accomplished women—including small\, midsize\, and large firms—will share career stories\, challenges\, and lessons learned in a dynamic discussion with participants. The morning concludes with breakout table discussions\, offering attendees the chance to reflect\, exchange ideas\, and connect with peers\, mentors\, and industry leaders. Topics will include discovering strengths\, overcoming barriers\, redefining leadership\, and closing the gap. Don’t miss this inspiring opportunity to celebrate the leadership and impact of women in our region. Grab your seat now! This event has sold out two years in a row!\n\n\n\nMEETING SCHEDULE \n\n\n\n\n8:30 AM – 9:00 AM: Registration \n9:00 am – 9:30 AM: Breakfast & Networking \n9:30 AM – 10:45 AM: Keynote & Panel \n10:45 AM – 11:45 AM: Breakout Table Discussions  \n11:45 AM – 12:00 PM: Conclusion \n\n\n\n Keynote & Facilitator: Je’Nen M. Chastain\, MBA\, Founder of Apostrophe Consulting Je’Nen launched her Raleigh-based consulting practice in 2019\, following 10 years working in architectural practice in the Bay Area. Blending her background in architecture and an MBA in social entrepreneurship\, she now focuses on helping AEC leaders drive strategic growth and transformation within their companies. Since founding Apostrophe Consulting\, she has supported over 30 businesses and 300 leaders nationwide in achieving their goals. To learn more visit: Apostrophe Consulting\n\n\n  Panelists: Angela Watson\, FAIA – President and CEO at Shepley Bulfinch Angela became CEO of Shepley Bulfinch in 2021\, leading the firm into its next era while honoring its 150-year legacy. A nationally recognized design leader with over 20 years of experience\, she also represents Shepley Bulfinch on the AIA Large Firm Round Table contributing to vital conversations on industry leadership. Cathy Morrison\, CEO – Partner at Neighboring Concepts As CEO of Neighboring Concepts\, Cathy is leading this purpose-driven\, midsize firm into its next chapter. An active leader with NCARB and the North Carolina Board of Architecture\, she also spearheads the firm’s healthcare projects. The firm was recently honored with the Equitable and Inclusive Practice Award by AIA North Carolina and NC NOMA. Megan Kaufmann\, AIA – Founder and Principal of KC Studios  Megan is the founder and principal of KC Studios\, a Raleigh-based architecture practice she launched in 2017. Since its founding\, the firm has grown into a team of five\, specializing in commercial and healthcare projects across North Carolina. As an entrepreneur and architect\, Megan is passionate about supporting women in practice.  What you’ll gain from this event: \n\nBuild connections with a community that shares your values.\nHear inspiring stories from women leading in the profession.\nTake time to reflect on your own story and recognize your strengths.\n\n\n\n\nTESTIMONIAL: “Being a sole proprietor can be lonely and by participating in the breakfast\, I have had the opportunity to catch up with my fellow practitioners\, meet new people and discuss challenges and successes that I am experiencing. After the breakfast\, I feel supported and inspired…ready to take on the next challenge.”   -Heather Washburn\, calico studio \n\n\n\n\nIndividual tickets are still available for purchase! If you purchased a ticket for the original date and are not able to join us on March 14\, please click here to begin the refund process.  \nSign Up for the 2025 WIA Triangle Mentorship Circles below!
URL:https://aiatriangle.org/event/3rd-annual-women-in-architecture-breakfast/
LOCATION:Prestonwood Country Club\, 300 Prestonwood Pkwy\, Cary\, NC\, 27513\, United States
CATEGORIES:Women in Architecture
END:VEVENT
BEGIN:VEVENT
DTSTART;TZID=America/New_York:20240306T170000
DTEND;TZID=America/New_York:20240306T190000
DTSTAMP:20260423T003222
CREATED:20240125T212130Z
LAST-MODIFIED:20240304T140233Z
UID:10000546-1709744400-1709751600@aiatriangle.org
SUMMARY:Women in Architecture Workshop with Leadership Coach Debbie Laxer
DESCRIPTION:AIA Triangle Women in Architecture\n\n\nRISING TOGETHER Workshop \n\n\nwith Leadership Coach Debbie Laxer\n\n\nWednesday\, March 6\, 2024\n\n\n5:00 – 7:00 PM5:00 – 5:45 PM – Networking5:45 – 7:00 PM – Workshop\n\n\nCenter for Architecture and Design\n\n\n\n14 E Peace St  | Raleigh\, NC \n2 AIA LU \n\n\n\n\n\n\n\n\n\nLast year’s How Women Rise\, was such a success\, we have invited Debbie Laxer back to present a brand-new Workshop! Join us March 6th\, 5pm – 7pm for an interactive and highly engaging session with Debbie. Debbie Laxer\, founder of Laxer and Associates has over 25 years’ experience as a senior-level coach and consultant in the Triangle area.  \nThis RISING TOGETHER workshop will introduce you to some triggers that often undermine our success and teach us practices to overcome them. Using short lessons\, breakout groups and discussions\, we will discuss practical solutions to real world challenges. We will discuss the challenges of unfairness\, confidence vs. competence and barriers to networking. The foundation of the workshop will be based on the book\, “Rising Together” by Sally Helgesen. \nFor more details on Debbie Laxer and additional information of the HOW WOMEN RISE workshops\, click here. \nSpace is limited to 30 participants and sold out quickly last year! Register below! \nThank you to our Food & Beverage Sponsor\, EXP.
URL:https://aiatriangle.org/event/women-in-architecture-workshop-career-coach/
LOCATION:Center for Architecture and Design\, 14 E Peace Street\, Raleigh\, NC\, 27604
CATEGORIES:Women in Architecture
END:VEVENT
BEGIN:VEVENT
DTSTART;TZID=America/New_York:20240215T173000
DTEND;TZID=America/New_York:20240215T193000
DTSTAMP:20260423T003222
CREATED:20240119T185133Z
LAST-MODIFIED:20240119T185133Z
UID:10000539-1708018200-1708025400@aiatriangle.org
SUMMARY:Women At The Top - Galentine's Unplugged Event with WIA and NAWIC Triangle
DESCRIPTION:  \n\n\n\n\nAIA Triangle Women in Architecture with\nthe National Association of Women in Construction\n\n\n\n\n\n\n\n\n\nThursday\, February 15\, 2024\n\n\n5:30 – 7:30 PM\n\n\nBonitz\n\n\n10701 World Trade Blvd | Raleigh NC\, 27617\n\n\n\n\n\n\n\n\nJoin AIAT’s Women in Architecture and the National Association of Women in Construction for an unforgettable evening filled with empowerment\, connection\, and celebration at the Women At The Top – Galentine’s Unplugged Event on Thursday\, February 15 from 5:30 – 7:30 PM! Get ready to be inspired by a lineup of incredible women who have reached the pinnacle of success in their respective fields. Through an engaging panel discussion\, they will share their stories\, insights\, and strategies for achieving greatness. For more details and to register\, click here.
URL:https://aiatriangle.org/event/galentines24/
LOCATION:Bonitz Contracting Co.\, 10701 World Trade Boulevard\, Raleigh\, 27617\, United States
CATEGORIES:Women in Architecture
END:VEVENT
BEGIN:VEVENT
DTSTART;TZID=America/New_York:20240118T173000
DTEND;TZID=America/New_York:20240118T190000
DTSTAMP:20260423T003222
CREATED:20231221T182548Z
LAST-MODIFIED:20240108T194610Z
UID:10000532-1705599000-1705604400@aiatriangle.org
SUMMARY:Women in Architecture Networking Social with Gensler
DESCRIPTION:  \n\n\n\nAIA Triangle Women in Architecture\n\n\nNetworking Social with Gensler\n\n\n\n\n\nThursday\, January 18\, 2024\n\n\n5:30 – 7:00 PM\n\n\nTower 2 Bloc(83)\n\n\nSecond Floor Terrace | 621 Hillsborough St. | Raleigh NC\, 27603\n\n\n\n\n\n\n\n\nWIA is hosting a Networking Social to kick off 2024! Join us on Thursday\, January 18 from 5:30 – 7:00 p.m. This event is free but RSVPs are requested below. Thank you to Gensler for hosting WIA for this event!
URL:https://aiatriangle.org/event/women-in-architecture-networking-social-gensler/
LOCATION:Tower2 Bloc(83)\, 621 Hillsborough St - 2nd Flr Terrace\, Raleigh\, NC\, 27603
CATEGORIES:Women in Architecture
END:VEVENT
BEGIN:VEVENT
DTSTART;TZID=America/New_York:20231212T173000
DTEND;TZID=America/New_York:20231212T193000
DTSTAMP:20260423T003222
CREATED:20231121T222616Z
LAST-MODIFIED:20231201T172053Z
UID:10000531-1702402200-1702409400@aiatriangle.org
SUMMARY:Women in Architecture Annual Holiday Party
DESCRIPTION:  \n\n\n\nAIA Triangle Women in Architecture\n\n\nAnnual Holiday Party\n\n\n\n\n\nTuesday\, December 12\, 2023\n\n\n5:30 PM\n\n\nPMC Interiors\n\n\n1331 Sunday Drive | Raleigh NC\, 27607\n\n\n\n\n\n\n\n\nPlease join AIAT Women in Architecture for their annual Holiday Party on Tuesday\, December 12th at 5:30 p.m. at PMC Interiors. Registration is free but RSVPs are requested below. In the spirit of holiday giving\, WIA will be raising money for the nonprofit Youth Villages during this event. (Please note that donating is not required\, just encouraged!)
URL:https://aiatriangle.org/event/women-in-architecture-2023-holiday-party/
LOCATION:PMC Commercial Interiors Headquarters\, 1331 Sunday Drive\, Raleigh\, NC\, 27607\, United States
CATEGORIES:Women in Architecture
END:VEVENT
BEGIN:VEVENT
DTSTART;TZID=America/New_York:20231116T160000
DTEND;TZID=America/New_York:20231116T170000
DTSTAMP:20260423T003222
CREATED:20231019T203327Z
LAST-MODIFIED:20231019T203433Z
UID:10000524-1700150400-1700154000@aiatriangle.org
SUMMARY:Women in Architecture - Building Tour - Steve Troxler Agricultural Sciences Center
DESCRIPTION:  \n\n\n\nAIA Triangle Women in Architecture\n\n\nBuilding Tour – Steve Troxler Agricultural Sciences Center\n\n\nThursday\, November 16\, 2023\n\n\n4:00 – 5:00 PM\n\n\nSteve Troxler Agricultural Sciences Center\n\n\n4400 Reedy Creek Rd | Raleigh NC\, 27607\n\n\nRegistration Required — Tour Is Limited to 40 Attendees!\n\n\n\n\n\n\n\n\nPlease join WIA for a tour of the Steve Troxler Agricultural Sciences Center. Designed by HH Architecture\, The Steve Troxler Agricultural Sciences Center was awarded first place for the 2022 Triangle Business Journal Space Awards in the Top State/County/Municipal Project category. The tour will start promptly at 4:00 p.m. and end at 5:00 p.m. The tour is free but registration is required\, as space is limited to 40 participants.
URL:https://aiatriangle.org/event/women-in-architecture-building-tour/
LOCATION:Steve Troxler Agricultural Sciences Center\, 4400 Reedy Creek Rd\, Raleigh\, NC\, 27607
CATEGORIES:Women in Architecture
END:VEVENT
BEGIN:VEVENT
DTSTART;TZID=America/New_York:20231026T170000
DTEND;TZID=America/New_York:20231026T193000
DTSTAMP:20260423T003222
CREATED:20230922T010917Z
LAST-MODIFIED:20230922T010917Z
UID:10000516-1698339600-1698348600@aiatriangle.org
SUMMARY:Women in Architecture - Networking Happy Hour
DESCRIPTION:  \n\n\n\nAIA Triangle Women in Architecture\n\n\nNetworking Happy Hour\n\n\nThursday\, October 26\, 2023\n\n\n5:00 – 7:30 PM\n\n\nLone Rider Brewing Company (Near RDU)\n\n\n8816 Gulf Court\, Suite 100 | Raleigh NC 27617\n\n\nRegistration is not required — just join us on the 26th!
URL:https://aiatriangle.org/event/wia-networking-happy-hour/
CATEGORIES:Women in Architecture
END:VEVENT
BEGIN:VEVENT
DTSTART;TZID=America/New_York:20230922T073000
DTEND;TZID=America/New_York:20230922T103000
DTSTAMP:20260423T003222
CREATED:20230822T023430Z
LAST-MODIFIED:20241206T192136Z
UID:10000491-1695367800-1695378600@aiatriangle.org
SUMMARY:2nd Annual Women in Architecture Breakfast
DESCRIPTION:2nd Annual Women in Architecture Breakfast\n\n\nCareer Development & Networking ( 1 AIA LU)\n\n\nFriday\, September 22\, 2023 | 7:30 AM – 10:30 AM\n\n\nEmbassy Suites Cary | 201 Harrison Oaks Boulevard | Cary\, NC 27513\n\n\nDeadline for individual registration is Friday\, September 15th at 5:00 PM\nDeadline for sponsor registration is Tuesday\, September 12th at 5:00 PM\n\n\n\n\n\nMEETING SCHEDULE\n\n\n\n7:30 AM – 8:00 AM: Registration  \n8:00 am – 8:30 AM: Breakfast & Networking \n8:30 AM – 9:30 AM: Panel Discussion \n9:30 AM – 10:30 AM: Breakout Table Discussions \n\n\n\n\n\n\n\n\n\n\n\nReady to move your career forward? Join AIA Triangle Women in Architecture for the second annual WIA Breakfast on Friday\, September 22nd. Learn career lessons from a panel of accomplished women and build your network of peers\, mentors\, industry experts and firm principals. Following the panel discussions\, we will have two rounds of breakout sessions at tables of your choosing with each table featuring a leader in our industry. There will be five table topics to choose from\, including the balancing act of motherhood\, advocacy and activism\, mid-career moves\, and more. Register today for this empowering event geared towards female architects of all ages! \n\n\n\n\n\nPANELISTS\nBailey Allred\, AIA\, NCARB\, LEED GA\, SEED | Principal Architect\, Bobbitt\nEspy Harper\, EDAC\, Six Sigma GB | Associate Principal\, LS3P\nAnna Lynch\, PE | CEO\, Lynch Mykins\nEllen Weinstein\, AIA\, LEED | Partner\, weinstein friedlein Architects\n\n\n\nSPONSORSHIP & INDIVIDUAL REGISTRATION\nNew this year\, we are excited to offer sponsorship opportunities! Each sponsorship level includes tickets and varying perks. Please note our sponsorship deadline of September 12. Individual tickets are available for purchase too! \nCLICK HERE TO REGISTER OR BECOME AN EVENT SPONSOR \n\nIndividual Registration AIA Members/AIA Triangle Annual Partners: $35 \nIndividual Registration Non-Members: $50 \nIndividual registration deadline is Friday\, September 15 at 5:00 PM\nRefunds must be requested in writing (by email) 7 business days prior to the program date. The refund amount will be paid by check or credit card depending on the original payment method and may be subject to a service fee. AIA Triangle withholds the right to deny or approve any refund based on condition or circumstance.\nRegistrations and sponsorships for this event are being processed through Eventbrite. Please click here to purchase your tickets or sponsorship!\nSponsorships\n\n  \n\n\n\nThank you\, Sponsors!\n\n\nPlatinum Sponsors\n\n\n\n\n\n\n\n\n\n\n\n\n\n\n\n\n  \nGold Sponsors\n\n\n\n\n\n\n\n\n\n\nSilver Sponsors
URL:https://aiatriangle.org/event/2nd-annual-women-in-architecture-breakfast/
LOCATION:Embassy Suites Cary\, 201 Harrison Oaks Boulevard\, Cary\, NC\, 27513\, United States
CATEGORIES:Women in Architecture
END:VEVENT
BEGIN:VEVENT
DTSTART;TZID=America/New_York:20230713T120000
DTEND;TZID=America/New_York:20230713T130000
DTSTAMP:20260423T003222
CREATED:20230629T190059Z
LAST-MODIFIED:20230629T191619Z
UID:10000472-1689249600-1689253200@aiatriangle.org
SUMMARY:Ladies Who Lunch -- with AIAT Women in Architecture
DESCRIPTION:AIA Triangle Women in Architecture Presents\n\n\nLadies Who Lunch\n\n\nThursday\, July 13\, 2023 | 12:00 PM – 1:00 PM\n\n\nTWO LOCATION OPTIONS!\n\n\nTransfer Co. Food Hall | 500 E. Davie St.\, Raleigh\, NC 27601\n\n\nBoxyard RTP | 900 Park Offices Dr.\, Research Triangle Park\, NC 27709\n\n\nFor headcount purposes\, please register below.\n\n\n\n\n\n\n\n\nPlease join us for an informal meet and eat!\nOur first “Ladies Who Lunch” is scheduled for Thursday\, July 13. (12:00 pm – 1:00 pm). \nPlease stop by at one of the two locations most convenient for you.\nGrab your lunch at either Boxyard RTP or Transfer Food Hall Raleigh.\nWe will save some tables. \nBoxyard RTP \nTransfer Co. Food Hall \nFor headcount purposes\, please register below.
URL:https://aiatriangle.org/event/ladieswholunch2023/
CATEGORIES:Women in Architecture
END:VEVENT
BEGIN:VEVENT
DTSTART;TZID=America/New_York:20230620T170000
DTEND;TZID=America/New_York:20230620T190000
DTSTAMP:20260423T003222
CREATED:20230504T140844Z
LAST-MODIFIED:20230619T141440Z
UID:10000467-1687280400-1687287600@aiatriangle.org
SUMMARY:Behind the DesignHERS
DESCRIPTION:AIA Triangle Women in Architecture\n\n\nBehind the DesignHERS\n\n\n1 AIA LU credit\n\n\nTuesday\, June 20\, 2023 | 5:00 PM – 7:00 PM\n\n\nCenter for Architecture & Design | 14 E Peace St\, Raleigh\, NC 27604\n\n\n\n\n\nRegistration Deadline: June 18th\, 2023 at 5:00 PM\n\n\nAIA Members/AIAT Annual Partners: FREE | Non-members: FREE\n\n\n\n\n\n\n\nYou will not want to miss the upcoming Behind the DesignHers event on June 20th! Participants will gain insights into communication and career growth\, as shared by the professional life experiences of three leaders in the Architectural and Building Industry in North Carolina.\n\n\n \n\n\nAmy Bullington\, Jeané Whittington Powers\, and Brandy Thompson will each share their unique perspectives. We will learn about their current women-led project in Pinehurst\, and advice for overcoming obstacles in the field\, while collaborating and supporting one another along the way. Project Feature:  The new six-acre campus\, named “Golf House Pinehurst\,” includes an equipment-testing facility\, a visitor-friendly USGA Experience\, and an educational landscape feature\, to be completed and ready for the 2024 US Open! \n\n\n\n\nOUR SPEAKERS\nAmy Bullington\, AIA\, LEED AP BD+C\, Associate Principal\, Clearscapes\nJeané Whittington Powers\, Senior Project Executive\, Gilbane Building Company\nBrandy Thompson\, AIA\, Principal\, Clearscapes
URL:https://aiatriangle.org/event/behind-the-designhers-2/
LOCATION:Center for Architecture and Design\, 14 E Peace Street\, Raleigh\, NC\, 27604
CATEGORIES:Women in Architecture
END:VEVENT
BEGIN:VEVENT
DTSTART;TZID=America/New_York:20230523T173000
DTEND;TZID=America/New_York:20230523T193000
DTSTAMP:20260423T003222
CREATED:20230423T011015Z
LAST-MODIFIED:20230516T014340Z
UID:10000463-1684863000-1684870200@aiatriangle.org
SUMMARY:WIA and NAWIC present "Unplugged - Working Moms"
DESCRIPTION:AIA Triangle Women in Architecture + National Association of Women in Construction\n\n\nUnplugged – Working Moms\n\n\nSpecial Thanks to Event Sponsor: BRASCO / / / Design + Marketing\n\n\nTuesday\, May 23\, 2023 | 5:30 PM – 7:30 PM\n\n\nOffice Revolution | 301 Fayetteville St STE 120\, Raleigh\, NC 27601\n\n\nHors d’oeuvres and drinks will be provided.\n\n\nRegistration Deadline: May 19th\, 2023 at 5:00 PM\n\n\nAIA Members/AIAT Annual Partners: FREE | Non-members: FREE\n\n\n\n\n\n\n\nThis is the event you’ve all been waiting for! Join us for a frank\, unplugged conversation about motherhood in the workplace co-hosted by Women in Architecture and NAWIC Triangle. This unplugged panel will be moderated by Tonia Rivers\, Founder of Mothers in Construction and owner of WLS Construction Consultants\, LLC.\n\n\nOUR PANEL\nCandis Parker\, Senior Project Manager at Cumming Group\nMegan Kaufmann\, Founder and Principal of KC Studio Architecture\nMartrisha Bradshaw\, Founder & CEO at Homeowners Project Installers\, LLC\nTina Govan\, Principal of Placemaking Studio\n\n\n \n\n\nGet Registered HERE\n\n\n 
URL:https://aiatriangle.org/event/wia-and-nawic-present-unplugged-working-moms/
LOCATION:Office Revolution\, 301 Fayetteville St STE 120\, Raleigh\, NC\, 27601\, United States
CATEGORIES:Women in Architecture
END:VEVENT
END:VCALENDAR