BEGIN:VCALENDAR
VERSION:2.0
PRODID:-//AIA Triangle - ECPv6.15.20//NONSGML v1.0//EN
CALSCALE:GREGORIAN
METHOD:PUBLISH
X-WR-CALNAME:AIA Triangle
X-ORIGINAL-URL:https://aiatriangle.org
X-WR-CALDESC:Events for AIA Triangle
REFRESH-INTERVAL;VALUE=DURATION:PT1H
X-Robots-Tag:noindex
X-PUBLISHED-TTL:PT1H
BEGIN:VTIMEZONE
TZID:America/New_York
BEGIN:DAYLIGHT
TZOFFSETFROM:-0500
TZOFFSETTO:-0400
TZNAME:EDT
DTSTART:20250309T070000
END:DAYLIGHT
BEGIN:STANDARD
TZOFFSETFROM:-0400
TZOFFSETTO:-0500
TZNAME:EST
DTSTART:20251102T060000
END:STANDARD
BEGIN:DAYLIGHT
TZOFFSETFROM:-0500
TZOFFSETTO:-0400
TZNAME:EDT
DTSTART:20260308T070000
END:DAYLIGHT
BEGIN:STANDARD
TZOFFSETFROM:-0400
TZOFFSETTO:-0500
TZNAME:EST
DTSTART:20261101T060000
END:STANDARD
BEGIN:DAYLIGHT
TZOFFSETFROM:-0500
TZOFFSETTO:-0400
TZNAME:EDT
DTSTART:20270314T070000
END:DAYLIGHT
BEGIN:STANDARD
TZOFFSETFROM:-0400
TZOFFSETTO:-0500
TZNAME:EST
DTSTART:20271107T060000
END:STANDARD
END:VTIMEZONE
BEGIN:VEVENT
DTSTART;TZID=America/New_York:20260429T173000
DTEND;TZID=America/New_York:20260429T190000
DTSTAMP:20260422T225437
CREATED:20260415T124740Z
LAST-MODIFIED:20260415T125920Z
UID:10000708-1777483800-1777489200@aiatriangle.org
SUMMARY:WIA Presents: Breathe & Build (Your Network)
DESCRIPTION:WIA presents\nBreathe & Build (Your Network)\nWednesday\, April 29\, 2026\n5:30 – 7:00 p.m.\nLocation TBD\n\nAIAT Members and Annual Partners – $5\nNon-Members – $10\n\nJoin WIA for an evening of wellness and connection at our upcoming event: Breathe & Build (Your Network). \n\n\nWe are excited to offer a one-hour yoga session led by Kara McCormack\, a 200-Hour YTT Certified Instructor. We will move gently through a grounding exercise\, a simple breath practice\, and a beginner-friendly yoga flow/stretch. No prior yoga experience is required. The session will be followed by networking and refreshments.\n\n\nLocation and additional details to come soon! Registration is required and limited to 30 people. 
URL:https://aiatriangle.org/event/wia-presents-breathe-build-your-network/
CATEGORIES:Women in Architecture
END:VEVENT
END:VCALENDAR