BEGIN:VCALENDAR
VERSION:2.0
PRODID:-//AIA Triangle - ECPv6.15.20//NONSGML v1.0//EN
CALSCALE:GREGORIAN
METHOD:PUBLISH
X-ORIGINAL-URL:https://aiatriangle.org
X-WR-CALDESC:Events for AIA Triangle
REFRESH-INTERVAL;VALUE=DURATION:PT1H
X-Robots-Tag:noindex
X-PUBLISHED-TTL:PT1H
BEGIN:VTIMEZONE
TZID:America/New_York
BEGIN:DAYLIGHT
TZOFFSETFROM:-0500
TZOFFSETTO:-0400
TZNAME:EDT
DTSTART:20180311T070000
END:DAYLIGHT
BEGIN:STANDARD
TZOFFSETFROM:-0400
TZOFFSETTO:-0500
TZNAME:EST
DTSTART:20181104T060000
END:STANDARD
BEGIN:DAYLIGHT
TZOFFSETFROM:-0500
TZOFFSETTO:-0400
TZNAME:EDT
DTSTART:20190310T070000
END:DAYLIGHT
BEGIN:STANDARD
TZOFFSETFROM:-0400
TZOFFSETTO:-0500
TZNAME:EST
DTSTART:20191103T060000
END:STANDARD
BEGIN:DAYLIGHT
TZOFFSETFROM:-0500
TZOFFSETTO:-0400
TZNAME:EDT
DTSTART:20200308T070000
END:DAYLIGHT
BEGIN:STANDARD
TZOFFSETFROM:-0400
TZOFFSETTO:-0500
TZNAME:EST
DTSTART:20201101T060000
END:STANDARD
END:VTIMEZONE
BEGIN:VEVENT
DTSTART;TZID=America/New_York:20190731T060000
DTEND;TZID=America/New_York:20190731T200000
DTSTAMP:20260423T072742
CREATED:20190612T073946Z
LAST-MODIFIED:20200304T005722Z
UID:10000010-1564552800-1564603200@aiatriangle.org
SUMMARY:Young Architects Forum - ARE/AXP Study Group
DESCRIPTION:Every Wednesday until July 31st! \nRaleigh ARE/AXP Study Group \nMoseley Architects | 911 N West Street\, Suite 205 | Raleigh \nThis is a self-directed casual study group split between two methods: a 6-month fast-track and a more relaxed\, easy-going schedule.  We will provide access to ARE study materials and resources for getting started.  We will have informal discussions\, flashcard review\, practice quiz & exam sessions\, and small group break outs specific to the topic you are studying.  Contact Alison Croop (arcroop@gmail.com) or Sarah Lower (sarah.d.lower@gmail.com) if you have any questions.
URL:https://aiatriangle.org/event/young-architects-forum-are-axp-study-group-7/
LOCATION:Moseley Architects\, 911 N West Street\, Raleigh\, NC\, 27603\, United States
CATEGORIES:YAF
ATTACH;FMTTYPE=image/jpeg:https://aiatriangle.org/wp-content/uploads/2019/06/yaf_study_group.jpg
ORGANIZER;CN="YAF":MAILTO:info@aiatriangle.org
END:VEVENT
BEGIN:VEVENT
DTSTART;TZID=America/New_York:20190724T180000
DTEND;TZID=America/New_York:20190724T200000
DTSTAMP:20260423T072742
CREATED:20190612T073741Z
LAST-MODIFIED:20200304T005733Z
UID:10000009-1563991200-1563998400@aiatriangle.org
SUMMARY:Young Architects Forum - ARE/AXP Study Group
DESCRIPTION:Every Wednesday until July 31st! \nRaleigh ARE/AXP Study Group \nMoseley Architects | 911 N West Street\, Suite 205 | Raleigh \nThis is a self-directed casual study group split between two methods: a 6-month fast-track and a more relaxed\, easy-going schedule.  We will provide access to ARE study materials and resources for getting started.  We will have informal discussions\, flashcard review\, practice quiz & exam sessions\, and small group break outs specific to the topic you are studying.  Contact Alison Croop (arcroop@gmail.com) or Sarah Lower (sarah.d.lower@gmail.com) if you have any questions.
URL:https://aiatriangle.org/event/young-architects-forum-are-axp-study-group-6/
LOCATION:Moseley Architects\, 911 N West Street\, Raleigh\, NC\, 27603\, United States
CATEGORIES:YAF
ATTACH;FMTTYPE=image/jpeg:https://aiatriangle.org/wp-content/uploads/2019/06/yaf_study_group.jpg
ORGANIZER;CN="YAF":MAILTO:info@aiatriangle.org
END:VEVENT
BEGIN:VEVENT
DTSTART;TZID=America/New_York:20190717T180000
DTEND;TZID=America/New_York:20190717T210000
DTSTAMP:20260423T072742
CREATED:20190612T073639Z
LAST-MODIFIED:20200304T005952Z
UID:10000005-1563386400-1563397200@aiatriangle.org
SUMMARY:Young Architects Forum - ARE/AXP Study Group
DESCRIPTION:Every Wednesday until July 31st! \nRaleigh ARE/AXP Study Group \nMoseley Architects | 911 N West Street\, Suite 205 | Raleigh \nThis is a self-directed casual study group split between two methods: a 6-month fast-track and a more relaxed\, easy-going schedule.  We will provide access to ARE study materials and resources for getting started.  We will have informal discussions\, flashcard review\, practice quiz & exam sessions\, and small group break outs specific to the topic you are studying.  Contact Alison Croop (arcroop@gmail.com) or Sarah Lower (sarah.d.lower@gmail.com) if you have any questions.
URL:https://aiatriangle.org/event/young-architects-forum-are-axp-study-group-5/
LOCATION:Moseley Architects\, 911 N West Street\, Raleigh\, NC\, 27603\, United States
CATEGORIES:YAF
ATTACH;FMTTYPE=image/jpeg:https://aiatriangle.org/wp-content/uploads/2019/06/yaf_study_group.jpg
ORGANIZER;CN="YAF":MAILTO:info@aiatriangle.org
END:VEVENT
BEGIN:VEVENT
DTSTART;TZID=America/New_York:20190710T180000
DTEND;TZID=America/New_York:20190710T210000
DTSTAMP:20260423T072742
CREATED:20190612T073513Z
LAST-MODIFIED:20200304T005956Z
UID:10000024-1562781600-1562792400@aiatriangle.org
SUMMARY:Young Architects Forum - ARE/AXP Study Group
DESCRIPTION:Every Wednesday until July 31st! \nRaleigh ARE/AXP Study Group \nMoseley Architects | 911 N West Street\, Suite 205 | Raleigh \nThis is a self-directed casual study group split between two methods: a 6-month fast-track and a more relaxed\, easy-going schedule.  We will provide access to ARE study materials and resources for getting started.  We will have informal discussions\, flashcard review\, practice quiz & exam sessions\, and small group break outs specific to the topic you are studying.  Contact Alison Croop (arcroop@gmail.com) or Sarah Lower (sarah.d.lower@gmail.com) if you have any questions.
URL:https://aiatriangle.org/event/young-architects-forum-are-axp-study-group-4/
LOCATION:Moseley Architects\, 911 N West Street\, Raleigh\, NC\, 27603\, United States
CATEGORIES:YAF
ATTACH;FMTTYPE=image/jpeg:https://aiatriangle.org/wp-content/uploads/2019/06/yaf_study_group.jpg
ORGANIZER;CN="YAF":MAILTO:info@aiatriangle.org
END:VEVENT
BEGIN:VEVENT
DTSTART;TZID=America/New_York:20190703T180000
DTEND;TZID=America/New_York:20190703T200000
DTSTAMP:20260423T072742
CREATED:20190612T073413Z
LAST-MODIFIED:20200304T005956Z
UID:10000020-1562176800-1562184000@aiatriangle.org
SUMMARY:Young Architects Forum - ARE/AXP Study Group
DESCRIPTION:Every Wednesday until July 31st! \nRaleigh ARE/AXP Study Group \nMoseley Architects | 911 N West Street\, Suite 205 | Raleigh \nThis is a self-directed casual study group split between two methods: a 6-month fast-track and a more relaxed\, easy-going schedule.  We will provide access to ARE study materials and resources for getting started.  We will have informal discussions\, flashcard review\, practice quiz & exam sessions\, and small group break outs specific to the topic you are studying.  Contact Alison Croop (arcroop@gmail.com) or Sarah Lower (sarah.d.lower@gmail.com) if you have any questions.
URL:https://aiatriangle.org/event/young-architects-forum-are-axp-study-group-3/
LOCATION:Moseley Architects\, 911 N West Street\, Raleigh\, NC\, 27603\, United States
CATEGORIES:YAF
ATTACH;FMTTYPE=image/jpeg:https://aiatriangle.org/wp-content/uploads/2019/06/yaf_study_group.jpg
ORGANIZER;CN="YAF":MAILTO:info@aiatriangle.org
END:VEVENT
BEGIN:VEVENT
DTSTART;TZID=America/New_York:20190626T180000
DTEND;TZID=America/New_York:20190626T200000
DTSTAMP:20260423T072742
CREATED:20190612T073257Z
LAST-MODIFIED:20200304T010129Z
UID:10000019-1561572000-1561579200@aiatriangle.org
SUMMARY:Young Architect Forum - ARE/AXP Study Group
DESCRIPTION:Every Wednesday until July 31st! \nRaleigh ARE/AXP Study Group \nMoseley Architects | 911 N West Street\, Suite 205 | Raleigh \nThis is a self-directed casual study group split between two methods: a 6-month fast-track and a more relaxed\, easy-going schedule.  We will provide access to ARE study materials and resources for getting started.  We will have informal discussions\, flashcard review\, practice quiz & exam sessions\, and small group break outs specific to the topic you are studying.  Contact Alison Croop (arcroop@gmail.com) or Sarah Lower (sarah.d.lower@gmail.com) if you have any questions.
URL:https://aiatriangle.org/event/young-architect-forum-are-axp-study-group/
LOCATION:Moseley Architects\, 911 N West Street\, Raleigh\, NC\, 27603\, United States
CATEGORIES:YAF
ATTACH;FMTTYPE=image/jpeg:https://aiatriangle.org/wp-content/uploads/2019/06/yaf_study_group.jpg
ORGANIZER;CN="YAF":MAILTO:info@aiatriangle.org
END:VEVENT
BEGIN:VEVENT
DTSTART;TZID=America/New_York:20190619T180000
DTEND;TZID=America/New_York:20190619T200000
DTSTAMP:20260423T072742
CREATED:20190612T072211Z
LAST-MODIFIED:20200304T010142Z
UID:10000015-1560967200-1560974400@aiatriangle.org
SUMMARY:Young Architects Forum - ARE/AXP Study Group
DESCRIPTION:Every Wednesday until July 31st! \nRaleigh ARE/AXP Study Group \nMoseley Architects | 911 N West Street\, Suite 205 | Raleigh \nThis is a self-directed casual study group split between two methods: a 6-month fast-track and a more relaxed\, easy-going schedule.  We will provide access to ARE study materials and resources for getting started.  We will have informal discussions\, flashcard review\, practice quiz & exam sessions\, and small group break outs specific to the topic you are studying.  Contact Alison Croop (arcroop@gmail.com) or Sarah Lower (sarah.d.lower@gmail.com) if you have any questions.
URL:https://aiatriangle.org/event/young-architects-forum-are-axp-study-group-2/
LOCATION:Moseley Architects\, 911 N West Street\, Raleigh\, NC\, 27603\, United States
CATEGORIES:YAF
ATTACH;FMTTYPE=image/jpeg:https://aiatriangle.org/wp-content/uploads/2019/06/yaf_study_group.jpg
ORGANIZER;CN="YAF":MAILTO:info@aiatriangle.org
END:VEVENT
BEGIN:VEVENT
DTSTART;TZID=America/New_York:20190612T180000
DTEND;TZID=America/New_York:20190612T200000
DTSTAMP:20260423T072742
CREATED:20190612T070901Z
LAST-MODIFIED:20200304T010143Z
UID:10000014-1560362400-1560369600@aiatriangle.org
SUMMARY:Young Architects Forum - ARE/AXP Study Group
DESCRIPTION:  \nEvery Wednesday until July 31st!  \nRaleigh ARE/AXP Study Group  \nMoseley Architects | 911 N West Street\, Suite 205 | Raleigh \nThis is a self-directed casual study group split between two methods: a 6-month fast-track and a more relaxed\, easy-going schedule.  We will provide access to ARE study materials and resources for getting started.  We will have informal discussions\, flashcard review\, practice quiz & exam sessions\, and small group break outs specific to the topic you are studying.  Contact Alison Croop (arcroop@gmail.com) or Sarah Lower (sarah.d.lower@gmail.com) if you have any questions.
URL:https://aiatriangle.org/event/young-architects-forum-are-axp-study-group/
LOCATION:Moseley Architects\, 911 N West Street\, Raleigh\, NC\, 27603\, United States
CATEGORIES:YAF
ATTACH;FMTTYPE=image/jpeg:https://aiatriangle.org/wp-content/uploads/2019/06/yaf_study_group.jpg
ORGANIZER;CN="YAF":MAILTO:info@aiatriangle.org
END:VEVENT
END:VCALENDAR