BEGIN:VCALENDAR
VERSION:2.0
PRODID:-//AIA Triangle - ECPv6.15.20//NONSGML v1.0//EN
CALSCALE:GREGORIAN
METHOD:PUBLISH
X-WR-CALNAME:AIA Triangle
X-ORIGINAL-URL:https://aiatriangle.org
X-WR-CALDESC:Events for AIA Triangle
REFRESH-INTERVAL;VALUE=DURATION:PT1H
X-Robots-Tag:noindex
X-PUBLISHED-TTL:PT1H
BEGIN:VTIMEZONE
TZID:America/New_York
BEGIN:DAYLIGHT
TZOFFSETFROM:-0500
TZOFFSETTO:-0400
TZNAME:EDT
DTSTART:20240310T070000
END:DAYLIGHT
BEGIN:STANDARD
TZOFFSETFROM:-0400
TZOFFSETTO:-0500
TZNAME:EST
DTSTART:20241103T060000
END:STANDARD
BEGIN:DAYLIGHT
TZOFFSETFROM:-0500
TZOFFSETTO:-0400
TZNAME:EDT
DTSTART:20250309T070000
END:DAYLIGHT
BEGIN:STANDARD
TZOFFSETFROM:-0400
TZOFFSETTO:-0500
TZNAME:EST
DTSTART:20251102T060000
END:STANDARD
BEGIN:DAYLIGHT
TZOFFSETFROM:-0500
TZOFFSETTO:-0400
TZNAME:EDT
DTSTART:20260308T070000
END:DAYLIGHT
BEGIN:STANDARD
TZOFFSETFROM:-0400
TZOFFSETTO:-0500
TZNAME:EST
DTSTART:20261101T060000
END:STANDARD
END:VTIMEZONE
BEGIN:VEVENT
DTSTART;TZID=America/New_York:20250910T170000
DTEND;TZID=America/New_York:20250910T200000
DTSTAMP:20260423T112551
CREATED:20250728T122933Z
LAST-MODIFIED:20250910T144243Z
UID:10000651-1757523600-1757534400@aiatriangle.org
SUMMARY:Q3 New Member Social
DESCRIPTION:Join AIA Triangle for our Q3 New Member Social on Wednesday\, September 10\, from 5:00 to 8:00 p.m.\, hosted by Walter P Moore at their Raleigh office\, located at 301 Hillsborough Street\, Suite 930. We’ll gather in the 9th floor lobby and on the roof terrace for an evening of connection\, conversation\, and community. \nThis special event is designed to welcome and celebrate our newest members while offering all attendees a chance to network and strengthen relationships within the AIA Triangle community. \nRegistration is required\, please have your member number ready at registration. We look forward to seeing you there.
URL:https://aiatriangle.org/event/q3-new-member-social/
LOCATION:301 Hillsborough St\, Suite 930\, Raleigh
END:VEVENT
END:VCALENDAR