BEGIN:VCALENDAR
VERSION:2.0
PRODID:-//AIA Triangle - ECPv6.15.20//NONSGML v1.0//EN
CALSCALE:GREGORIAN
METHOD:PUBLISH
X-WR-CALNAME:AIA Triangle
X-ORIGINAL-URL:https://aiatriangle.org
X-WR-CALDESC:Events for AIA Triangle
REFRESH-INTERVAL;VALUE=DURATION:PT1H
X-Robots-Tag:noindex
X-PUBLISHED-TTL:PT1H
BEGIN:VTIMEZONE
TZID:America/New_York
BEGIN:DAYLIGHT
TZOFFSETFROM:-0500
TZOFFSETTO:-0400
TZNAME:EDT
DTSTART:20210314T070000
END:DAYLIGHT
BEGIN:STANDARD
TZOFFSETFROM:-0400
TZOFFSETTO:-0500
TZNAME:EST
DTSTART:20211107T060000
END:STANDARD
BEGIN:DAYLIGHT
TZOFFSETFROM:-0500
TZOFFSETTO:-0400
TZNAME:EDT
DTSTART:20220313T070000
END:DAYLIGHT
BEGIN:STANDARD
TZOFFSETFROM:-0400
TZOFFSETTO:-0500
TZNAME:EST
DTSTART:20221106T060000
END:STANDARD
BEGIN:DAYLIGHT
TZOFFSETFROM:-0500
TZOFFSETTO:-0400
TZNAME:EDT
DTSTART:20230312T070000
END:DAYLIGHT
BEGIN:STANDARD
TZOFFSETFROM:-0400
TZOFFSETTO:-0500
TZNAME:EST
DTSTART:20231105T060000
END:STANDARD
BEGIN:DAYLIGHT
TZOFFSETFROM:-0500
TZOFFSETTO:-0400
TZNAME:EDT
DTSTART:20240310T070000
END:DAYLIGHT
BEGIN:STANDARD
TZOFFSETFROM:-0400
TZOFFSETTO:-0500
TZNAME:EST
DTSTART:20241103T060000
END:STANDARD
BEGIN:DAYLIGHT
TZOFFSETFROM:-0500
TZOFFSETTO:-0400
TZNAME:EDT
DTSTART:20250309T070000
END:DAYLIGHT
BEGIN:STANDARD
TZOFFSETFROM:-0400
TZOFFSETTO:-0500
TZNAME:EST
DTSTART:20251102T060000
END:STANDARD
BEGIN:DAYLIGHT
TZOFFSETFROM:-0500
TZOFFSETTO:-0400
TZNAME:EDT
DTSTART:20260308T070000
END:DAYLIGHT
BEGIN:STANDARD
TZOFFSETFROM:-0400
TZOFFSETTO:-0500
TZNAME:EST
DTSTART:20261101T060000
END:STANDARD
BEGIN:DAYLIGHT
TZOFFSETFROM:-0500
TZOFFSETTO:-0400
TZNAME:EDT
DTSTART:20270314T070000
END:DAYLIGHT
BEGIN:STANDARD
TZOFFSETFROM:-0400
TZOFFSETTO:-0500
TZNAME:EST
DTSTART:20271107T060000
END:STANDARD
END:VTIMEZONE
BEGIN:VEVENT
DTSTART;TZID=America/New_York:20260122T173000
DTEND;TZID=America/New_York:20260122T190000
DTSTAMP:20260423T060825
CREATED:20260108T194333Z
LAST-MODIFIED:20260121T182836Z
UID:10000679-1769103000-1769108400@aiatriangle.org
SUMMARY:WIA Winter Networking Event
DESCRIPTION:WIA Winter Networking\nat Alfred Williams & Company\, co-sponsored by LP Building Solutions \nWIA invites you to our Winter Networking Event – the perfect opportunity to connect with industry professionals & share insights while getting a chance to check out the beautiful Alfred Williams Showroom! Whether you’re looking to expand your network or find fresh inspiration for the year ahead\, this event is a must-attend!\nThere may also be a swag giveaway! \nThursday\, January 22 \n5:30 – 7:00 p.m.\nRegistration is free but required. \nAlfred Williams & Company\n410 S. Salisbury St.\, Ste. 200  |  Raleigh\, NC 27601\nIncludes a tour of the showroom\nParking is limited but available for free in the upper level at the AWC deck (see map here). \nStreet parking is free as well in the surrounding area. Nearby lots are available at varying costs.\n \nLet’s kick off 2026 with a cheer! See you there! \nFood and Beverage sponsored by: LP Building Solutions and Alfred Williams & Company \n\n \n \n 
URL:https://aiatriangle.org/event/wia-winter-networking-event/
LOCATION:Alfred Williams & Company\, 410 South Salisbury Street\, #200\, Raleigh\, NC\, 27601\, United States
CATEGORIES:Women in Architecture
END:VEVENT
BEGIN:VEVENT
DTSTART;TZID=America/New_York:20250206T180000
DTEND;TZID=America/New_York:20250206T200000
DTSTAMP:20260423T060825
CREATED:20250123T160005Z
LAST-MODIFIED:20250123T190803Z
UID:10000598-1738864800-1738872000@aiatriangle.org
SUMMARY:WIA Winter Networking at Alfred Williams - POSTPONED DUE TO WEATHER
DESCRIPTION:WIA Winter Networking at Alfred Williams\n410 S. Salisbury St.\, Ste. 200  |  Raleigh\, NC 27601\nThursday\, February 6 from 6:00 – 8:00pm\nFood and Beverage sponsored by: LP Building Solutions\, DIRTT and MillerKnoll \n  \n  \n 
URL:https://aiatriangle.org/event/wia-winter-networking-at-alfred-williams/
LOCATION:Alfred Williams & Company\, 410 South Salisbury Street\, #200\, Raleigh\, NC\, 27601\, United States
CATEGORIES:Women in Architecture
END:VEVENT
BEGIN:VEVENT
DTSTART;TZID=America/New_York:20220809T173000
DTEND;TZID=America/New_York:20220809T193000
DTSTAMP:20260423T060825
CREATED:20220719T124613Z
LAST-MODIFIED:20220719T124613Z
UID:10000301-1660066200-1660073400@aiatriangle.org
SUMMARY:AIA Triangle WIA and NAWIC Triangle - Unplugged: A Frank Discussion on Non-Profits
DESCRIPTION:Unplugged: A Frank Discussion on Non-Profits  \nTuesday\, August 9 | 5:30 PM to 7:30 PM \nAlfred Williams & Company \n410 South Salisbury Street\, #200 \nRaleigh\, NC 27601 \nREGISTER HERE \n\nNAWIC Triangle Chapter and Women in Architecture of the AIA Triangle are joining forces once again for an eye opening and no-holds-barred discussion on the state of non-profits and how we can give back to our communities. We have an exciting panel of leaders and founders in the non-profit sector who will be sharing their stories and the stories of those their organizations support. Drinks and apps will be provided. \nOur panel includes: \nCary Heise | Founder\, Designed for Joy \nSherry Taylor | Asset Manager\, Durham Community Land Trustees \nVicki Ismail | Founder\, Carrolls Kitchen \nNora Spencer | Founder\, Hope Renovations \nSponsored by Bobbitt Construction\, Fred Smith Company\, and Alfred Williams & Company \n100% of sponsorship will be donated to our panelist organizations. We will be accepting donations at the door as well.
URL:https://aiatriangle.org/event/aia-triangle-wia-and-nawic-triangle-unplugged-a-frank-discussion-on-non-profits/
LOCATION:Alfred Williams & Company\, 410 South Salisbury Street\, #200\, Raleigh\, NC\, 27601\, United States
CATEGORIES:Women in Architecture
ORGANIZER;CN="Megan Kaufmann":MAILTO:megank@kcsarchitecture.com
END:VEVENT
END:VCALENDAR