BEGIN:VCALENDAR
VERSION:2.0
PRODID:-//AIA Triangle - ECPv6.15.20//NONSGML v1.0//EN
CALSCALE:GREGORIAN
METHOD:PUBLISH
X-ORIGINAL-URL:https://aiatriangle.org
X-WR-CALDESC:Events for AIA Triangle
REFRESH-INTERVAL;VALUE=DURATION:PT1H
X-Robots-Tag:noindex
X-PUBLISHED-TTL:PT1H
BEGIN:VTIMEZONE
TZID:America/New_York
BEGIN:DAYLIGHT
TZOFFSETFROM:-0500
TZOFFSETTO:-0400
TZNAME:EDT
DTSTART:20210314T070000
END:DAYLIGHT
BEGIN:STANDARD
TZOFFSETFROM:-0400
TZOFFSETTO:-0500
TZNAME:EST
DTSTART:20211107T060000
END:STANDARD
BEGIN:DAYLIGHT
TZOFFSETFROM:-0500
TZOFFSETTO:-0400
TZNAME:EDT
DTSTART:20220313T070000
END:DAYLIGHT
BEGIN:STANDARD
TZOFFSETFROM:-0400
TZOFFSETTO:-0500
TZNAME:EST
DTSTART:20221106T060000
END:STANDARD
BEGIN:DAYLIGHT
TZOFFSETFROM:-0500
TZOFFSETTO:-0400
TZNAME:EDT
DTSTART:20230312T070000
END:DAYLIGHT
BEGIN:STANDARD
TZOFFSETFROM:-0400
TZOFFSETTO:-0500
TZNAME:EST
DTSTART:20231105T060000
END:STANDARD
BEGIN:DAYLIGHT
TZOFFSETFROM:-0500
TZOFFSETTO:-0400
TZNAME:EDT
DTSTART:20240310T070000
END:DAYLIGHT
BEGIN:STANDARD
TZOFFSETFROM:-0400
TZOFFSETTO:-0500
TZNAME:EST
DTSTART:20241103T060000
END:STANDARD
BEGIN:DAYLIGHT
TZOFFSETFROM:-0500
TZOFFSETTO:-0400
TZNAME:EDT
DTSTART:20250309T070000
END:DAYLIGHT
BEGIN:STANDARD
TZOFFSETFROM:-0400
TZOFFSETTO:-0500
TZNAME:EST
DTSTART:20251102T060000
END:STANDARD
BEGIN:DAYLIGHT
TZOFFSETFROM:-0500
TZOFFSETTO:-0400
TZNAME:EDT
DTSTART:20260308T070000
END:DAYLIGHT
BEGIN:STANDARD
TZOFFSETFROM:-0400
TZOFFSETTO:-0500
TZNAME:EST
DTSTART:20261101T060000
END:STANDARD
BEGIN:DAYLIGHT
TZOFFSETFROM:-0500
TZOFFSETTO:-0400
TZNAME:EDT
DTSTART:20270314T070000
END:DAYLIGHT
BEGIN:STANDARD
TZOFFSETFROM:-0400
TZOFFSETTO:-0500
TZNAME:EST
DTSTART:20271107T060000
END:STANDARD
END:VTIMEZONE
BEGIN:VEVENT
DTSTART;TZID=America/New_York:20260209T180000
DTEND;TZID=America/New_York:20260209T200000
DTSTAMP:20260423T044701
CREATED:20260123T183513Z
LAST-MODIFIED:20260123T183648Z
UID:10000682-1770660000-1770667200@aiatriangle.org
SUMMARY:EP/YAF Pizza + Pros - Mock Interviews
DESCRIPTION:  \nPizza + Pros – Call for Professionals!\nMonday\, February 2\nMonday\, February 9\n6:00 p.m.\nBrooks Hall at NCSU\nRSVP Here \nEP/YAF is hosting Pizza + Pros in a two-part series again this year! Both events will take place at 6:00 p.m. in Brooks Hall at NCSU’s College of Design (Monday\, February 2nd and 9th).\nWe are looking for volunteers for one or both dates to review student portfolios or participate in mock interviews with the students. Pizza will be provided! \n 
URL:https://aiatriangle.org/event/epyaf-pizza-pros-mock-interviews/
LOCATION:Brooks Hall\, 3rd Floor Rotunda\, 50 Pullen Road\, Raleigh\, NC\, United States
CATEGORIES:YAF
END:VEVENT
BEGIN:VEVENT
DTSTART;TZID=America/New_York:20260202T180000
DTEND;TZID=America/New_York:20260202T200000
DTSTAMP:20260423T044701
CREATED:20260123T181454Z
LAST-MODIFIED:20260123T183539Z
UID:10000681-1770055200-1770062400@aiatriangle.org
SUMMARY:EP/YAF Pizza + Pros - Resume and Portfolio Review
DESCRIPTION:  \nPizza + Pros – Call for Professionals!\nMonday\, February 2\nMonday\, February 9\n6:00 p.m.\nBrooks Hall at NCSU\nRSVP Here \nEP/YAF is hosting Pizza + Pros in a two-part series again this year! Both events will take place at 6:00 p.m. in Brooks Hall at NCSU’s College of Design (Monday\, February 2nd and 9th).\nWe are looking for volunteers for one or both dates to review student portfolios or participate in mock interviews with the students. Pizza will be provided! \n 
URL:https://aiatriangle.org/event/epyaf-pizza-pros/
LOCATION:Brooks Hall\, 3rd Floor Rotunda\, 50 Pullen Road\, Raleigh\, NC\, United States
CATEGORIES:YAF
END:VEVENT
BEGIN:VEVENT
DTSTART;TZID=America/New_York:20250203T180000
DTEND;TZID=America/New_York:20250203T200000
DTSTAMP:20260423T044701
CREATED:20250128T193624Z
LAST-MODIFIED:20250128T193727Z
UID:10000600-1738605600-1738612800@aiatriangle.org
SUMMARY:NCSU Pizza and Pros
DESCRIPTION:Interview Workshop at NCSU
URL:https://aiatriangle.org/event/ncsu-pizza-and-pros-2/
LOCATION:Brooks Hall\, 3rd Floor Rotunda\, 50 Pullen Road\, Raleigh\, NC\, United States
CATEGORIES:YAF
END:VEVENT
BEGIN:VEVENT
DTSTART;TZID=America/New_York:20250129T180000
DTEND;TZID=America/New_York:20250129T200000
DTSTAMP:20260423T044701
CREATED:20250128T193052Z
LAST-MODIFIED:20250128T193052Z
UID:10000599-1738173600-1738180800@aiatriangle.org
SUMMARY:NCSU Pizza and Pros
DESCRIPTION:Portfolio Reviews
URL:https://aiatriangle.org/event/ncsu-pizza-and-pros/
LOCATION:Brooks Hall\, 3rd Floor Rotunda\, 50 Pullen Road\, Raleigh\, NC\, United States
CATEGORIES:YAF
END:VEVENT
BEGIN:VEVENT
DTSTART;TZID=America/New_York:20221103T163000
DTEND;TZID=America/New_York:20221103T180000
DTSTAMP:20260423T044701
CREATED:20220812T141014Z
LAST-MODIFIED:20220812T144408Z
UID:10000244-1667493000-1667498400@aiatriangle.org
SUMMARY:NC State Joint Lecture - Jack Halberstam
DESCRIPTION:AIA TRIANGLE & NC STATE COLLEGE OF DESIGN\n\n\nJOINT LECTURE SERIES\n\n\n\n\n\nJack Halberstam\n\n\nColumbia University\n\n\nThursday\, November 3 | 4:30 PM – 6:00 PM\n\n\nBrooks Hall\, 3rd Floor Rotunda | 50 Pullen Road\, Raleigh\, NC\n\n\n\n\nJack Halberstam is Professor of Gender Studies and English at Columbia University. Halberstam is the author of seven books including: Skin Shows: Gothic Horror and the Technology of Monsters (Duke UP\, 1995)\, Female Masculinity (Duke UP\, 1998)\, In A Queer Time and Place (NYU Press\, 2005)\, The Queer Art of Failure (Duke UP\, 2011)\, Gaga Feminism: Sex\, Gender\, and the End of Normal (Beacon Press\, 2012) and\, a short book titled Trans*: A Quick and Quirky Account of Gender Variance (University of California Press). \n\n\n\n\nRegistration is required for each lectureREGISTER HERETimes and dates are subject to change\, and more lectures are added as scheduled\, so please check NC State’s lecture schedule for updates!
URL:https://aiatriangle.org/event/2022-nc-state-joint-lecture-jack-halberstam/
LOCATION:Brooks Hall\, 3rd Floor Rotunda\, 50 Pullen Road\, Raleigh\, NC\, United States
CATEGORIES:Joint Lecture Series
ORGANIZER;CN="Shawn Protz":MAILTO:ssprotz@ncsu.edu
END:VEVENT
BEGIN:VEVENT
DTSTART;TZID=America/New_York:20221012T123000
DTEND;TZID=America/New_York:20221012T140000
DTSTAMP:20260423T044701
CREATED:20220812T135536Z
LAST-MODIFIED:20221007T200030Z
UID:10000376-1665577800-1665583200@aiatriangle.org
SUMMARY:NC State Joint Lecture - Traci Rider
DESCRIPTION:AIA TRIANGLE & NC STATE COLLEGE OF DESIGN\n\n\nJOINT LECTURE SERIES\n\n\n\n\n\nDr. Traci Rider\n\n\nNC State College of Design\n\n\nWednesday\, October 12 | 12:30 PM – 2:00 PM\n\n\nBrooks Hall\, 3rd Floor Rotunda | 50 Pullen Road\, Raleigh\, NC\n\n\n\n\nDr. Traci Rose Rider is an Assistant Professor of Architecture\, Doctor of Design faculty\, and PhD Faculty at North Carolina State University’s College of Design. Dr. Rider’s research has focused on the relationship between the design culture and the notion of sustainability\, exploring factors impacting environmental attitudes of designers including environmental education\, learned associations\, and informal influences. Dr. Rider teaches courses focusing on sustainability and health for the School of Architecture\, addressing topics such as existing building operations and maintenance\, and holistic considerations for both health and sustainability. \n\n\n\n\n\nRegistration is required for each lectureREGISTER HERETimes and dates are subject to change\, and more lectures are added as scheduled\, so please check NC State’s lecture schedule for updates!
URL:https://aiatriangle.org/event/2022-nc-state-joint-lecture-traci-rider/
LOCATION:Brooks Hall\, 3rd Floor Rotunda\, 50 Pullen Road\, Raleigh\, NC\, United States
CATEGORIES:Joint Lecture Series
ORGANIZER;CN="Shawn Protz":MAILTO:ssprotz@ncsu.edu
END:VEVENT
END:VCALENDAR