BEGIN:VCALENDAR
VERSION:2.0
PRODID:-//AIA Triangle - ECPv6.15.20//NONSGML v1.0//EN
CALSCALE:GREGORIAN
METHOD:PUBLISH
X-WR-CALNAME:AIA Triangle
X-ORIGINAL-URL:https://aiatriangle.org
X-WR-CALDESC:Events for AIA Triangle
REFRESH-INTERVAL;VALUE=DURATION:PT1H
X-Robots-Tag:noindex
X-PUBLISHED-TTL:PT1H
BEGIN:VTIMEZONE
TZID:America/New_York
BEGIN:DAYLIGHT
TZOFFSETFROM:-0500
TZOFFSETTO:-0400
TZNAME:EDT
DTSTART:20250309T070000
END:DAYLIGHT
BEGIN:STANDARD
TZOFFSETFROM:-0400
TZOFFSETTO:-0500
TZNAME:EST
DTSTART:20251102T060000
END:STANDARD
BEGIN:DAYLIGHT
TZOFFSETFROM:-0500
TZOFFSETTO:-0400
TZNAME:EDT
DTSTART:20260308T070000
END:DAYLIGHT
BEGIN:STANDARD
TZOFFSETFROM:-0400
TZOFFSETTO:-0500
TZNAME:EST
DTSTART:20261101T060000
END:STANDARD
BEGIN:DAYLIGHT
TZOFFSETFROM:-0500
TZOFFSETTO:-0400
TZNAME:EDT
DTSTART:20270314T070000
END:DAYLIGHT
BEGIN:STANDARD
TZOFFSETFROM:-0400
TZOFFSETTO:-0500
TZNAME:EST
DTSTART:20271107T060000
END:STANDARD
END:VTIMEZONE
BEGIN:VEVENT
DTSTART;TZID=America/New_York:20260427T080000
DTEND;TZID=America/New_York:20260427T120000
DTSTAMP:20260424T163656
CREATED:20260312T015805Z
LAST-MODIFIED:20260420T150420Z
UID:10000698-1777276800-1777291200@aiatriangle.org
SUMMARY:Commercial Accessibility CE Seminar (4 LU|HSW)
DESCRIPTION:PUBLIC ACCOMMODATIONS (COMMERCIAL OCCUPANCIES)\n\n\nACCESSIBILITY PROGRAM – 4 AIA LU/HSW\n\n\nMonday\, April 27\, 2026 | 8:00 AM – 12:00 PM\n(Check-In begins at 7:30 AM)\n\n\n(Registration Deadline: Thursday\, April 23 @ 11:59 PM)\n\n\nIn-person only | Coffee + Light Snacks will be provided\n\n\nCenter for Architecture and Design (CfAD)\n\n\n14 E Peace Street | Raleigh\, NC 27601 \n4 LU|HSW\n\n\n\n\nAIA Members/AIA Triangle Annual Partners: $75\nAIA Members with ‘Associate AIA’ designation: $45\nNon-members: $105\nGroup pricing of six or more members: $65 (include names of attendees)\nGroup pricing of six or more non-members: $95 each (include names of attendees)\n\nAGENDA\nApplying Accessibility Requirements Applicable to your Projects to Stadiums & Arenas \n\nRevisiting Applicable State & Federal Accessibility Standards\nCase Study: Unique Accessibility Challenges & Issues\nReview of Accessibility Considerations of NFL Stadium Opening in the Fall of 2026\nIncluding Exterior Accessible Routes\,  Accessible Parking\, Entrances\, Ticketing\, Point of Sale Concessions/Merchandise Locations\, Toilet Rooms and how the number and location of Wheelchair Viewing Locations are determined\nUnique Spaces to Accommodate Sensitivity Issues\, Adult Changing Tables\, etc.\nBehind the Scenes Review of Locker Rooms and Player Amenities (Spa\, Whirlpool\, Saunas\, etc.) \n\n\nREFUND POLICY\nRefunds must be requested in writing (by email) 5 business days prior to the program date.  AIA Triangle withholds the right to deny or approve any refund based on condition or circumstance. \n\nAbout this Course\nThis course is intended to educate the learner on the new requirements of ICC ANSI A117.1 – 2017 edition. \nPrerequisite Knowledge:\nNone \nHSW Justification:\nDesigning accessible and equitable environments is critical to the health\, safety\, and welfare of its occupants. This course covers accessibility as it relates to project planning and design\, project development and documentation\, and construction and evaluation. \nLearning Objective 1:\nAttendees will be able to compare and contrast their state building code’s scoping for accessibility requirements with the 2017 ICC ANSI A117.1 Standards requirements. \nLearning Objective 2:\nAttendees will gain insight into the development of federal laws that impact accessibility\, including the ADA\, ABA\, etc. \nLearning Objective 3:\nAttendees will learn the technical requirements for accessibility features within commercial occupancies as referenced in the 2010 ADA Standards for Accessible Design and ICC ANSI A117.1 – 2017. This includes a focus on the requirements for accessible routes (doors\, ramps\, walking surfaces\, lifts)\, toilet & bathing rooms\, special occupancies (assembly areas\, employee work areas\, etc.). \nLearning Objective 4:\nAttendees will be able to compare and contrast their state building code’s technical requirements for accessibility (i.e. ICC ANSI A117.1 – 2017) with the 2010 ADA Standards requirements. \n\nDominic Marinelli\, Vice President\, Accessibility Services \n\nDominic Marinelli has been with the United Spinal Association for over 30 years. Mr. Marinelli provides continuing education to members of the American Institute of Architects (AIA) and the Society of American Registered Architects (SARA). He is a Contract Instructor for the International Codes Council (ICC) and an Adjunct Faculty Member at Pratt’s Center for Continuing & Professional Studies in New York City.\n\n\n\n  \nMr. Marinelli is a certified Accessibility Specialist/Plans Examiner by the International Code Council and serves on various committees including American National Standard Institute Residential Committee which he serves as Chair. He also represented the United Spinal Association on the US Access Board’s Emergency Transportable Housing Advisory Committee.\n  \nMr. Marinelli holds a Master of Science from the State University of New York at Buffalo. He is certified in code enforcement by the New York State Department of State Codes Division and as an Accessibility Specialist/Plans Examiner by the International Codes Council (ICC).
URL:https://aiatriangle.org/event/commercial-accessibility-ce-seminar-4-lusw/
LOCATION:Center for Architecture and Design\, 14 E Peace Street\, Raleigh\, NC\, 27604
CATEGORIES:CE Program
ORGANIZER;CN="AIA Triangle":MAILTO:info@aiatriangle.org
END:VEVENT
BEGIN:VEVENT
DTSTART;TZID=America/New_York:20260514T073000
DTEND;TZID=America/New_York:20260514T180000
DTSTAMP:20260424T163656
CREATED:20260422T134505Z
LAST-MODIFIED:20260422T135650Z
UID:10000710-1778743800-1778781600@aiatriangle.org
SUMMARY:Bike To Work Pit Stop at CfAD
DESCRIPTION:Participating in Bike to Work Day in Raleigh on May 14? Stop by CfAD for beverages and light snacks on your way in OR on the way home. We’re proud to serve a a morning pit stop location! \nCfAD Pit Stop Hours\n7:30 – 9:00 a.m. and 4:30 – 6:00 p.m.\n14 E Peace St | Raleigh\, NC\nHosted by COTE
URL:https://aiatriangle.org/event/bike-to-work-pit-stop-at-cfad/
LOCATION:Center for Architecture and Design\, 14 E Peace Street\, Raleigh\, NC\, 27604
CATEGORIES:COTE Committee
END:VEVENT
BEGIN:VEVENT
DTSTART;TZID=America/New_York:20260514T090000
DTEND;TZID=America/New_York:20260514T140000
DTSTAMP:20260424T163656
CREATED:20260323T141459Z
LAST-MODIFIED:20260323T141459Z
UID:10000705-1778749200-1778767200@aiatriangle.org
SUMMARY:AIA North Carolina Summer School - Raleigh
DESCRIPTION:AIA North Carolina’s Summer School: Raleigh\nThursday\, May 14\, 2026\n9:00 a.m. – 2:00 p.m.\n\nCenter for Architecture and Design\n14 E Peace St. | Raleigh\, NC\n4 LU|HSW \nREGISTER HERE \nJoin AIA North Carolina for a half-day Summer School program designed to help architects deepen their understanding of building performance\, material impacts\, and construction best practices. Brought to you in partnership with the Beauty of Block\, this engaging program provides 4 HSW credits and includes lunch and networking with colleagues. \nThe morning begins with Danielle Mokris\, Technical Director for the Southeast Region of the Beauty of Block Design Collective\, who will lead two sessions exploring embodied carbon in concrete masonry. Through the Beauty of Block’s Embodied Carbon Series\, Danielle will break down the environmental impact of concrete materials and explain why not all concrete is created equal. Participants will gain a clearer understanding of carbon sequestration\, lifecycle assessment (LCA)\, and how CMU can play a role in reducing embodied carbon in building design. \nThe program continues with Derek Hodgin\, PE\, RBEC\, CCCA\, F-IIBEC\, founder of Positive Friction Consulting\, who brings nearly 30 years of experience as a forensic engineer and building enclosure expert. In his interactive session\, “It’s All in the Details\,” Derek will explore the often-overlooked decisions that can dramatically influence building durability\, safety\, and long-term performance. Drawing from real-world lessons learned throughout his career\, he will share practical insights that architects can immediately apply to improve construction outcomes. \nTogether\, these sessions provide a valuable blend of sustainability insight and practical construction knowledge\, equipping architects with the tools to design buildings that are both environmentally responsible and built to last.
URL:https://aiatriangle.org/event/aia-north-carolina-summer-school-raleigh/
LOCATION:Center for Architecture and Design\, 14 E Peace Street\, Raleigh\, NC\, 27604
CATEGORIES:CE Program
END:VEVENT
BEGIN:VEVENT
DTSTART;TZID=America/New_York:20260519T120000
DTEND;TZID=America/New_York:20260519T130000
DTSTAMP:20260424T163656
CREATED:20260421T183801Z
LAST-MODIFIED:20260423T135044Z
UID:10000709-1779192000-1779195600@aiatriangle.org
SUMMARY:Lunch and Learn Hosted by Sierra Pacific
DESCRIPTION:Join AIAT for a Lunch and Learn hosted by Sierra Pacific and focused on sustainable forestry! \nTuesday\, May 19\, 2026\n12:00 p.m. – 1:00 p.m.\nCenter for Architecture and Design\n14 E Peace St. | Raleigh\, NC\n \n1 LU|HSW  \nFREE for AIAT Members/Annual Partners\n$20 for Non-Members \nExplore the developments in forestry practices\, supply and demand of wood consumption\, and impact of forest ownership on industry and trade.  We will discuss the importance of forest certification for environmental sustainability\, including protection of wildlife\, water quality and the conservation of biological diversity\, and provide an overview of the Sustainable Forestry Initiative (SFI).  We will cover the benefits to our wellness and health of our forests\, and how Chain of Custody procurement ensures wood products originate from sustainable forests.  More benefits are revealed when comparing wood to steel and concrete\, and looking at how carbon is sequestered long term. The program discusses forest fire prevention\, wildlife preservation and how Sierra Pacific manages 2.4 million acres of forest as they grow trees from seed.  \n 
URL:https://aiatriangle.org/event/lunch-and-learn-hosted-by-sierra-pacific/
LOCATION:Center for Architecture and Design\, 14 E Peace Street\, Raleigh\, NC\, 27604
CATEGORIES:Lunch and Learn
END:VEVENT
END:VCALENDAR