BEGIN:VCALENDAR
VERSION:2.0
PRODID:-//AIA Triangle - ECPv6.15.20//NONSGML v1.0//EN
CALSCALE:GREGORIAN
METHOD:PUBLISH
X-ORIGINAL-URL:https://aiatriangle.org
X-WR-CALDESC:Events for AIA Triangle
REFRESH-INTERVAL;VALUE=DURATION:PT1H
X-Robots-Tag:noindex
X-PUBLISHED-TTL:PT1H
BEGIN:VTIMEZONE
TZID:America/New_York
BEGIN:DAYLIGHT
TZOFFSETFROM:-0500
TZOFFSETTO:-0400
TZNAME:EDT
DTSTART:20220313T070000
END:DAYLIGHT
BEGIN:STANDARD
TZOFFSETFROM:-0400
TZOFFSETTO:-0500
TZNAME:EST
DTSTART:20221106T060000
END:STANDARD
BEGIN:DAYLIGHT
TZOFFSETFROM:-0500
TZOFFSETTO:-0400
TZNAME:EDT
DTSTART:20230312T070000
END:DAYLIGHT
BEGIN:STANDARD
TZOFFSETFROM:-0400
TZOFFSETTO:-0500
TZNAME:EST
DTSTART:20231105T060000
END:STANDARD
BEGIN:DAYLIGHT
TZOFFSETFROM:-0500
TZOFFSETTO:-0400
TZNAME:EDT
DTSTART:20240310T070000
END:DAYLIGHT
BEGIN:STANDARD
TZOFFSETFROM:-0400
TZOFFSETTO:-0500
TZNAME:EST
DTSTART:20241103T060000
END:STANDARD
END:VTIMEZONE
BEGIN:VEVENT
DTSTART;TZID=America/New_York:20231214T120000
DTEND;TZID=America/New_York:20231214T140000
DTSTAMP:20260423T063023
CREATED:20231117T143710Z
LAST-MODIFIED:20231204T193635Z
UID:10000526-1702555200-1702562400@aiatriangle.org
SUMMARY:Lunch and Learn - Two Sessions with Fitch Lumber
DESCRIPTION:AIA Triangle Lunch & Learn – Two Sessions! \nSponsored by Fitch Lumber \n \n\n\n\nAIA Triangle Lunch & Learn – Two Sessions\n\n\nSponsored by Fitch Lumber\n\n\n\nSession #1: Meeting Design and Performance Requirements with\nPultruded Fiberglass Windows and Doors (presented by Marvin)\n\nSession #2: Transforming Residential Design Through\nUnique Applications of Interior Doors (presented by Mid-Atlantic Millwork Sales)\n\n\nDecember 14\, 2023\nSession #1 – 12:00 PM – 1:00 PM | Session #2 – 1:00 PM – 2:00 PM\nAIA CE Credit Pending Approval\n\n\nChapel Hill Country Club\n\n\n103 Lancaster Drive | Chapel Hill\, NC\n\n\nLunch will be provided for all attendees\n**Attendance capped at 35 – register soon!**\n\n\n\n\n\n\n\nSession #1: Meeting Design and Performance Requirements with Pultruded Fiberglass Windows and Doors\nThis course will familiarize you with the basic aspects of fiberglass composites\, with a specific emphasis on pultruded fiberglass. By examining the performance characteristics\, durability\, and numerous environmental advantages of pultruded fiberglass\, this course will outline the advantages of windows and doors made from pultruded fiberglass and use case studies to demonstrate applications across a wide variety of multi-family and commercial build environments. \n\n\n\nLEARNING OBJECTIVES\n\n\n\n\nDiscuss how composite materials provide predictable\, sustainable and superior performance characteristics over other materials.\nExplain the production of fiberglass composites and the advantages of the pultrusion process from a manufacturing and environmental perspective\nIdentify the performance characteristics of windows and doors made from pultruded fiberglass and how they help meet the latest design trends that maximize light\, air and views for building-user well-being\nDiscuss finishes\, AAMA certification and energy efficiency for pultruded fiberglass windows and doors\nExplore case studies of pultruded fiberglass windows and doors in various projects for performance\, resiliency\, and sustainability.\n\n\n\n\nPRESENTED BY\n\n\nCheryl McRae | Architectural Project Manager | Marvin\n\n\nCheryl McRae has worked for Marvin for ten years with a focus on clients in the south and mid-Atlantic. Cheryl recently began to serve the Triangle and Triad areas of North Carolina. Through all her work\, Cheryl aims to educate architects on window and door solutions for their residential and commercial projects with an emphasis on Marvin products.\n\n\n\n\nSession #2: Transforming Residential Design Through Unique Applications of Interior Doors\nThis course demonstrates the role interior doors can play in transforming residential interior design. \nLEARNING OBJECTIVES \n\nHighlight the role of interior door design during select architectural periods\nReview interior door application trends\nExplore new opportunities to design interior doors into projects\nUnderstand how doors interact with larger consumer trends\n\nPRESENTED BY\nChris Roberson | Vice President | Mid-Atlantic Millwork Sales\nChris spent 12 years working as a sales manager for Benchmark Steel Doors before joining the Mid-Atlantic Millwork Sales team as a partner in 2000. Today he is the vice-president of the company\, responsible for Central and Southern Virginia.\n \n\n\n\n\n\nREGISTRATION OPTIONS \nIN-PERSON REGISTRATION \n\nAIA Member/AIAT Annual Partners: $0 | Non-member: Free\, but suggested $35 donation to the Fitch Family Comprehensive Pediatric Rehabilitation Program\nRegister below to attend in-person; (Deadline for registration: Wednesday\, December 13 at 5:00 PM)\nLunch will be provided\nThe program will begin promptly at 12:00 PM\nCheck-in begins at 11:30 AM – Please arrive early to allow time for check-in and lunch
URL:https://aiatriangle.org/event/lunch-and-learn-two-sessions-with-fitch-lumber-2/
LOCATION:Chapel Hill Country Club\, 103 Lancaster Dr\, Chapel Hill\, NC\, 27517
CATEGORIES:Lunch and Learn
ORGANIZER;CN="AIA Triangle":MAILTO:info@aiatriangle.org
END:VEVENT
END:VCALENDAR