BEGIN:VCALENDAR
VERSION:2.0
PRODID:-//AIA Triangle - ECPv6.15.20//NONSGML v1.0//EN
CALSCALE:GREGORIAN
METHOD:PUBLISH
X-ORIGINAL-URL:https://aiatriangle.org
X-WR-CALDESC:Events for AIA Triangle
REFRESH-INTERVAL;VALUE=DURATION:PT1H
X-Robots-Tag:noindex
X-PUBLISHED-TTL:PT1H
BEGIN:VTIMEZONE
TZID:America/New_York
BEGIN:DAYLIGHT
TZOFFSETFROM:-0500
TZOFFSETTO:-0400
TZNAME:EDT
DTSTART:20220313T070000
END:DAYLIGHT
BEGIN:STANDARD
TZOFFSETFROM:-0400
TZOFFSETTO:-0500
TZNAME:EST
DTSTART:20221106T060000
END:STANDARD
BEGIN:DAYLIGHT
TZOFFSETFROM:-0500
TZOFFSETTO:-0400
TZNAME:EDT
DTSTART:20230312T070000
END:DAYLIGHT
BEGIN:STANDARD
TZOFFSETFROM:-0400
TZOFFSETTO:-0500
TZNAME:EST
DTSTART:20231105T060000
END:STANDARD
BEGIN:DAYLIGHT
TZOFFSETFROM:-0500
TZOFFSETTO:-0400
TZNAME:EDT
DTSTART:20240310T070000
END:DAYLIGHT
BEGIN:STANDARD
TZOFFSETFROM:-0400
TZOFFSETTO:-0500
TZNAME:EST
DTSTART:20241103T060000
END:STANDARD
END:VTIMEZONE
BEGIN:VEVENT
DTSTART;TZID=America/New_York:20230413T183000
DTEND;TZID=America/New_York:20230413T203000
DTSTAMP:20260423T060656
CREATED:20230227T134914Z
LAST-MODIFIED:20230413T132131Z
UID:10000453-1681410600-1681417800@aiatriangle.org
SUMMARY:2023 AIA Triangle Design Awards Ceremony
DESCRIPTION:AIA Triangle Design Awards\n\n\nDix Chapel\n\n\n1030 Richardson Drive | Raleigh\, NC 27603\n\n\n6:30 PM – 8:30 PM\n\n\nWe welcome everyone in the design community to gather in celebration of the outstanding work architects create. The AIA Triangle Design Awards recognizes excellence in architectural design throughout the Triangle area. The jury selection of this year’s winning projects will be announced during the awards ceremony. We will name the projects receiving the prestigious AIA Triangle Honor and Merit Awards as well as announce the Gail Lindsey Award and Community Impact Through Design Award. Plus\, NC State student scholarship recipients will be acknowledged during the ceremony. \nEVENT PRICING \n\nAIA Members: $70\nAIA Member with “Assoc. AIA” designation: $35\nStudents: $25\nNon-members and Guests of members: $95
URL:https://aiatriangle.org/event/2023-aia-triangle-design-awards-ceremony/
LOCATION:Dix Chapel\, 1030 Richardson Drive\, Raleigh\, NC\, 27603\, United States
CATEGORIES:Design Awards
ORGANIZER;CN="AIA Triangle":MAILTO:info@aiatriangle.org
END:VEVENT
BEGIN:VEVENT
DTSTART;TZID=America/New_York:20230413T160000
DTEND;TZID=America/New_York:20230413T180000
DTSTAMP:20260423T060656
CREATED:20230308T141551Z
LAST-MODIFIED:20230413T184418Z
UID:10000455-1681401600-1681408800@aiatriangle.org
SUMMARY:Pre-Design Awards Tour - Engagement & Adaptation at Dix Park
DESCRIPTION:PRE-DESIGN AWARDS TOUR AND Q&A SESSION\n\n\nEngagement and Adaptation at Dix Park\n\n\nThursday\, April 13\, 2023 | 4:00 PM – 6:00 PM\n\n\nDix Chapel | 1030 Richardson Drive | Raleigh\, NC\n\n\n2 AIA LU/HSW credits\n\n\nTour Limited to 40 Participants\n\n\nAIA Members/Assoc. AIA Members/Annual Partners: $25 | Students $10\n\n\nNOTE: This registration is for the Pre-Design Awards tour only. Separate registration for the Design Awards ceremony is required.\n\n\n\n\n\n\n\nJoin us for a short walking tour of the Dix Chapel and other current adaptive reuse projects on campus\, followed by a panel discussion led by City of Raleigh Planning and Dix Park Conservancy about building equity and excitement during the community engagement process.\n\n\nLEARNING OBJECTIVES\n\n\n\n\nParticipants will describe how adaptive reuse will play a significant role in defining the future character of Dix Park.\nParticipants will explore how Dix Park’s community engagement process has increased equity and inclusion.\nParticipants will discuss how tactical urbanism strategies have been used to build excitement about the Park.\nParticipants will explore flexibility and adaptability in the Park’s design and conception that will help respond to future change.\n\n\n\n\nPANEL SPEAKERS \nBrandy Thompson\, AIA — Clearscapes\, Principal\nBrandy joined Clearscapes in 2004\, and as a Principal is responsible for the leadership and development of projects throughout all phases of design and construction. She was drawn to architecture by her interest in historic preservation and adaptive reuse and found a passion for improving communities through quality design and place-making. Brandy’s experience includes a range of public and private sector work\, often requiring consensus-building among complex stakeholder groups. Many of the projects Brandy has led are Historic Tax Credit projects and contribute to the preservation and revitalization of historic districts and cultural heritage sites across the state. \nMeredith Kirkpatrick\, AIA — Maurer Architecture\, Partner & Architect\nMeredith is passionate about placemaking and understanding the ways in which the built environment can help communities thrive. She is a partner at Maurer Architecture where she enjoys working with local businesses to reimagine existing buildings. Meredith’s work is centered around adaptive reuse and historic preservation\, and her design process is thoughtful\, collaborative\, and client-focused. \nPANEL MODERATORS: \nScott Hefner\, AIA\, NCARB\, LEED AP BD+C — Perkins&Will\, Project Architect and Senior Associate\nScott brings a contagious energy to his projects – a design leader with a sensitivity toward community impact. He thrives in complex and visionary teams\, with a can-do attitude and collaborative spirit. His curiosity often lies at the intersection of digital and physical experiences\, exploring how digital interactivity can enhance our experience of the world around us. He leads Perkins&Will North Carolina’s Social Purpose initiative\, empowering nonprofits with pro bono design services. Scott believes that everyone has something to contribute to the design process – all we have to do is listen. These unique relationships have reinforced his conviction that design can be a powerful tool to unite and inspire. Scott also serves as an intermittent guest lecturer and juror for academic studio courses at North Carolina State University\, helping give back to the next generation of designers. \nJulie Barghout\, AIA\, NCARB — Hanbury\, Project Architect and Associate\nAs an architect with a strong interest in the civic and cultural sector\, Julie Barghout delivers beautiful and impactful designs that address complex project needs and thoughtfully integrate public input. In-depth research is central to Julie’s design process\, including deep examination of project precedents\, materials exploration\, and historical and contextual research. She loves working collaboratively with colleagues and clients\, iteratively translating research and insights into sketches and model using both analog and digital methods. Julie has experience in all phases of design including preliminary and concept design through construction administration\, as well as BIM management and documentation. Julie is a strong advocate for women and marginalized voices in architecture and looks forward to seeing the industry continuously evolve to better support emerging architects from all backgrounds. Julie is also an avid reader and traveler\, both of which inform her perspective as a designer. \nPANEL SPEAKERS: \nKate Pearce AICP — City of Raleigh\, Planning Supervisor – Dix Park\nKate Pearce is the Executive Director for Dorothea Dix Park for the City of Raleigh. She is responsible for the planning\, development and operations of the park. Prior to joining the City she worked as both an urban planning and business management consultant. She has a Bachelor’s Degree in Economics and a MBA from Millsaps College in Jackson\, Mississippi and a Master’s Degree in City and Regional Planning from University of North Carolina at Chapel Hill. \nJanet Cowell — Dix Park Conservancy\, President & CEO\nJanet brings a passion for nature\, history\, and design and 30 years of experience in both public and private-sector roles\, including state treasurer\, chief executive officer\, corporate director\, state senator\, and city councilor. Her broad and diverse career experience spans finance\, education\, and healthcare in the United States and abroad. She has been engaged with the Park since its inception and immediately before joining the staff team she served on the Dix Park Conservancy Board. \nTrey Roberts — Dix Park Conservancy\, Manager of Community Engagement\nTrey combines his passion for community building\, local advocacy\, and the arts in his role to expand community engagement and collaboration at the Dix Park Conservancy. He is a co-founder of Raleigh Pride and earned a BA in Communications from William Peace University. He is also a proud member of the Haliwa-Saponi tribe. When Trey isn’t working\, he’s probably watching a movie.\n\n\n\nNOTE: The registration below is for the Pre-Design Awards tour only. Separate registration for the Design Awards ceremony is required – HERE
URL:https://aiatriangle.org/event/pre-design-awards-tour-engagement-adaptation-at-dix-park/
LOCATION:Dix Chapel\, 1030 Richardson Drive\, Raleigh\, NC\, 27603\, United States
CATEGORIES:Design Awards
ORGANIZER;CN="AIA Triangle":MAILTO:info@aiatriangle.org
END:VEVENT
END:VCALENDAR