BEGIN:VCALENDAR
VERSION:2.0
PRODID:-//AIA Triangle - ECPv6.15.20//NONSGML v1.0//EN
CALSCALE:GREGORIAN
METHOD:PUBLISH
X-ORIGINAL-URL:https://aiatriangle.org
X-WR-CALDESC:Events for AIA Triangle
REFRESH-INTERVAL;VALUE=DURATION:PT1H
X-Robots-Tag:noindex
X-PUBLISHED-TTL:PT1H
BEGIN:VTIMEZONE
TZID:America/New_York
BEGIN:DAYLIGHT
TZOFFSETFROM:-0500
TZOFFSETTO:-0400
TZNAME:EDT
DTSTART:20230312T070000
END:DAYLIGHT
BEGIN:STANDARD
TZOFFSETFROM:-0400
TZOFFSETTO:-0500
TZNAME:EST
DTSTART:20231105T060000
END:STANDARD
BEGIN:DAYLIGHT
TZOFFSETFROM:-0500
TZOFFSETTO:-0400
TZNAME:EDT
DTSTART:20240310T070000
END:DAYLIGHT
BEGIN:STANDARD
TZOFFSETFROM:-0400
TZOFFSETTO:-0500
TZNAME:EST
DTSTART:20241103T060000
END:STANDARD
BEGIN:DAYLIGHT
TZOFFSETFROM:-0500
TZOFFSETTO:-0400
TZNAME:EDT
DTSTART:20250309T070000
END:DAYLIGHT
BEGIN:STANDARD
TZOFFSETFROM:-0400
TZOFFSETTO:-0500
TZNAME:EST
DTSTART:20251102T060000
END:STANDARD
END:VTIMEZONE
BEGIN:VEVENT
DTSTART;TZID=America/New_York:20241028T110000
DTEND;TZID=America/New_York:20241029T190000
DTSTAMP:20260423T073556
CREATED:20241002T185912Z
LAST-MODIFIED:20241010T191819Z
UID:10000584-1730113200-1730228400@aiatriangle.org
SUMMARY:Innovation in Mass Timber Solutions (IMTS) Conference
DESCRIPTION:The Innovation in Mass Timber Solutions (IMTS) is a two-day conference that will gather experts from across industry and academia\, to provide an experience that engages participants in the exploration of the development and application of mass timber and cross laminated timber. This conference provides an opportunity to bridge industry and academia to come together to develop a road map for an initiative in innovation in wood education. Featuring a field tour\, expert presentations\, small group activities\, and discussions\, IMTS will engage attendees in the exploration of the development and application of mass timber solutions. \nDuring the field tour\, participants will watch a demonstration of engineering and mechanical testing of cross-laminated timber (CLT) panels at NC State’s Constructed Facilities Lab\, visit sites–including JC Raulston Arboretum–with heavy timber construction\, and learn about growing timber by visiting a managed forest (Schenck Forest). This event will cater to the diverse interests of academics\, architects and designers\, builders\, forestry professionals\, industry\, manufacturers\, municipalities\, and others. \nIf you are interested in submitting a poster to promote your work/projects\, click here. \nCredit pending. \nClick here to register.  (Registration closes October 13\, 2024.)
URL:https://aiatriangle.org/event/innovation-in-mass-timber-solutions-imts-conference/
LOCATION:Dorothy and Roy Park Alumni Center\, 2450 Alumni Drive\, Raleigh\, NC\, 27606\, United States
END:VEVENT
END:VCALENDAR