BEGIN:VCALENDAR
VERSION:2.0
PRODID:-//AIA Triangle - ECPv6.15.20//NONSGML v1.0//EN
CALSCALE:GREGORIAN
METHOD:PUBLISH
X-ORIGINAL-URL:https://aiatriangle.org
X-WR-CALDESC:Events for AIA Triangle
REFRESH-INTERVAL;VALUE=DURATION:PT1H
X-Robots-Tag:noindex
X-PUBLISHED-TTL:PT1H
BEGIN:VTIMEZONE
TZID:America/New_York
BEGIN:DAYLIGHT
TZOFFSETFROM:-0500
TZOFFSETTO:-0400
TZNAME:EDT
DTSTART:20180311T070000
END:DAYLIGHT
BEGIN:STANDARD
TZOFFSETFROM:-0400
TZOFFSETTO:-0500
TZNAME:EST
DTSTART:20181104T060000
END:STANDARD
BEGIN:DAYLIGHT
TZOFFSETFROM:-0500
TZOFFSETTO:-0400
TZNAME:EDT
DTSTART:20190310T070000
END:DAYLIGHT
BEGIN:STANDARD
TZOFFSETFROM:-0400
TZOFFSETTO:-0500
TZNAME:EST
DTSTART:20191103T060000
END:STANDARD
BEGIN:DAYLIGHT
TZOFFSETFROM:-0500
TZOFFSETTO:-0400
TZNAME:EDT
DTSTART:20200308T070000
END:DAYLIGHT
BEGIN:STANDARD
TZOFFSETFROM:-0400
TZOFFSETTO:-0500
TZNAME:EST
DTSTART:20201101T060000
END:STANDARD
END:VTIMEZONE
BEGIN:VEVENT
DTSTART;TZID=America/New_York:20190919T170000
DTEND;TZID=America/New_York:20190919T193000
DTSTAMP:20260423T165148
CREATED:20190812T210909Z
LAST-MODIFIED:20200303T232027Z
UID:10000006-1568912400-1568921400@aiatriangle.org
SUMMARY:Joint Networking Event
DESCRIPTION:JOINT NETWORKING EVENT \nSeptember 19 | 5:00 pm – 7:30 pm \nDrive Shack | 6901 Golf Way | Raleigh \n$35 Pre-Registration through 9/19/19 | $50 registration at the door \nREGISTER HERE
URL:https://aiatriangle.org/event/joint-networking-event/
LOCATION:Drive Shack\, 6901 Golf Way\, Raleigh\, NC\, United States
END:VEVENT
END:VCALENDAR