BEGIN:VCALENDAR
VERSION:2.0
PRODID:-//AIA Triangle - ECPv6.15.20//NONSGML v1.0//EN
CALSCALE:GREGORIAN
METHOD:PUBLISH
X-ORIGINAL-URL:https://aiatriangle.org
X-WR-CALDESC:Events for AIA Triangle
REFRESH-INTERVAL;VALUE=DURATION:PT1H
X-Robots-Tag:noindex
X-PUBLISHED-TTL:PT1H
BEGIN:VTIMEZONE
TZID:America/New_York
BEGIN:DAYLIGHT
TZOFFSETFROM:-0500
TZOFFSETTO:-0400
TZNAME:EDT
DTSTART:20190310T070000
END:DAYLIGHT
BEGIN:STANDARD
TZOFFSETFROM:-0400
TZOFFSETTO:-0500
TZNAME:EST
DTSTART:20191103T060000
END:STANDARD
BEGIN:DAYLIGHT
TZOFFSETFROM:-0500
TZOFFSETTO:-0400
TZNAME:EDT
DTSTART:20200308T070000
END:DAYLIGHT
BEGIN:STANDARD
TZOFFSETFROM:-0400
TZOFFSETTO:-0500
TZNAME:EST
DTSTART:20201101T060000
END:STANDARD
BEGIN:DAYLIGHT
TZOFFSETFROM:-0500
TZOFFSETTO:-0400
TZNAME:EDT
DTSTART:20210314T070000
END:DAYLIGHT
BEGIN:STANDARD
TZOFFSETFROM:-0400
TZOFFSETTO:-0500
TZNAME:EST
DTSTART:20211107T060000
END:STANDARD
BEGIN:DAYLIGHT
TZOFFSETFROM:-0500
TZOFFSETTO:-0400
TZNAME:EDT
DTSTART:20220313T070000
END:DAYLIGHT
BEGIN:STANDARD
TZOFFSETFROM:-0400
TZOFFSETTO:-0500
TZNAME:EST
DTSTART:20221106T060000
END:STANDARD
BEGIN:DAYLIGHT
TZOFFSETFROM:-0500
TZOFFSETTO:-0400
TZNAME:EDT
DTSTART:20230312T070000
END:DAYLIGHT
BEGIN:STANDARD
TZOFFSETFROM:-0400
TZOFFSETTO:-0500
TZNAME:EST
DTSTART:20231105T060000
END:STANDARD
BEGIN:DAYLIGHT
TZOFFSETFROM:-0500
TZOFFSETTO:-0400
TZNAME:EDT
DTSTART:20240310T070000
END:DAYLIGHT
BEGIN:STANDARD
TZOFFSETFROM:-0400
TZOFFSETTO:-0500
TZNAME:EST
DTSTART:20241103T060000
END:STANDARD
END:VTIMEZONE
BEGIN:VEVENT
DTSTART;TZID=America/New_York:20230420T171500
DTEND;TZID=America/New_York:20230420T184500
DTSTAMP:20260423T055923
CREATED:20230328T000614Z
LAST-MODIFIED:20230418T020450Z
UID:10000458-1682010900-1682016300@aiatriangle.org
SUMMARY:Mid-Career Panel
DESCRIPTION:Thursday\, April 20\, 2023 \n5:15 pm – 6:45 pm \nDiscussion will focus on career visioning (and actualizing) especially as it relates to designing spaces for social and environmental connection\, respect and inclusion. \n\nRSVP required
URL:https://aiatriangle.org/event/mid-career-panel/
LOCATION:Duda Paine\, 333 Liggett Street\, Durham\, NC\, 27701\, United States
CATEGORIES:Leadership Forum
ORGANIZER;CN="AIA Triangle":MAILTO:info@aiatriangle.org
END:VEVENT
BEGIN:VEVENT
DTSTART;TZID=America/New_York:20220317T120000
DTEND;TZID=America/New_York:20220317T130000
DTSTAMP:20260423T055923
CREATED:20220210T192324Z
LAST-MODIFIED:20220224T193448Z
UID:10000198-1647518400-1647522000@aiatriangle.org
SUMMARY:AIA North Carolina State of the State (DURHAM)
DESCRIPTION:STATE OF THE STATE  \n1 AIA/LU Credit \nAIA North Carolina Executive Vice-President\, David Crawford\, Hon. AIA\, will update members on issues happening across the state. Dave will include a legislative and regulatory update as well as overall state issues we can expect to see in 2022. Matthew Hart\, AIA\, 2022 AIA North Carolina President will be on hand to discuss our chapter and what changes\, plans and events are in store for the coming year. \n\nOption to attend in-person or online via Zoom \nThursday\, March 17\, 2022 | 12:00 pm \nDuda | Paine Architects | 333 Liggett Street | Durham\, NC \n\nRSVP Required\nCE credit pending approval\nLight snacks will be provided\nFace masks must be worn for in-person meetings
URL:https://aiatriangle.org/event/aia-north-carolina-state-of-the-state-durham/
LOCATION:Duda Paine\, 333 Liggett Street\, Durham\, NC\, 27701\, United States
ORGANIZER;CN="Chris Stetkiewicz":MAILTO:info@aiatriangle.org
END:VEVENT
BEGIN:VEVENT
DTSTART;TZID=America/New_York:20200227T100000
DTEND;TZID=America/New_York:20200227T120000
DTSTAMP:20260423T055923
CREATED:20200210T201320Z
LAST-MODIFIED:20200303T212352Z
UID:10000154-1582797600-1582804800@aiatriangle.org
SUMMARY:The Big Move Workshop - DURHAM
DESCRIPTION:The Big Move Toward Environmental Stewardship Workshop – DURHAM \nTransforming the Business of Architecture –  \nEmbracing AIA’s Big Move Toward Environmental Stewardship \nFebruary 27\, 2020 | 10:00 am to 12:00 pm | 2 AIA HSW Credits \nDuda | Paine | 333 Liggett Street | Durham \nUnequaled in AIA’s 162 year history\, The Big Move for Environmental Sustainability represents a “dramatic and unprecedented change in focus.”  In conjunction with what the AIA has informally nicknamed the Big Move Toward Environmental Stewardship\, the resolution marks a bold step forward in position the architectural profession as key leaders for climate action. It outlines three key areas: declare an urgent climate imperative for carbon reduction; transform the day-to-day built practice of architects to achieve a zero-carbon\, equitable\, resilient and healthy build environment; and leverage support of peers\, clients\, policy makers\, and the public at large. \nWhile Sustainability is a complex subject\, even for those whose expertise brings them neck deep in it\, AIANC has prepared a program which provides the context and describes the transformation that is necessary for architects to take a leadership role in addressing the Climate Imperative. The Climate Action Plan reiterates our commitment to designing a sustainable\, healthy and equitable world \nPresented by AIANC Director of Advocacy\, Richard Alsop\, Jr. AIA \nProgram questions? Email: richard.alsop@ARCHREVIEW.org \n  \n 
URL:https://aiatriangle.org/event/the-big-move-workshop-durham/
LOCATION:Duda Paine\, 333 Liggett Street\, Durham\, NC\, 27701\, United States
CATEGORIES:CE Program
ORGANIZER;CN="Chris Stetkiewicz":MAILTO:info@aiatriangle.org
END:VEVENT
BEGIN:VEVENT
DTSTART;TZID=America/New_York:20200218T190000
DTEND;TZID=America/New_York:20200218T210000
DTSTAMP:20260423T055923
CREATED:20200130T194510Z
LAST-MODIFIED:20200303T212424Z
UID:10000133-1582052400-1582059600@aiatriangle.org
SUMMARY:EP|YAF - Task Force Planning Meeting
DESCRIPTION:EP / YAF Task Force Planning Meeting:\nFebruary 18th at 7:00pm – 9:00pm\nDuda|Paine at 333 Liggett St\, Durham\n\nThe EP / YAF Task Force is getting ready for ARE sessions\, member socials\, studio drops\, construction tours\, conference trips and more this year. We need your help on our team to continue putting our plans into action! If you’ve got an interest in helping plan awesome events\, send emails or taking part in these activities or some of your very own ideas\, please come on out to the planning meeting!  
URL:https://aiatriangle.org/event/epyaf-task-force-planning-meeting/
LOCATION:Duda Paine\, 333 Liggett Street\, Durham\, NC\, 27701\, United States
ORGANIZER;CN="Shawna Mabie":MAILTO:shawna.m.mabie@gmail.com
END:VEVENT
END:VCALENDAR