BEGIN:VCALENDAR
VERSION:2.0
PRODID:-//AIA Triangle - ECPv6.15.20//NONSGML v1.0//EN
CALSCALE:GREGORIAN
METHOD:PUBLISH
X-ORIGINAL-URL:https://aiatriangle.org
X-WR-CALDESC:Events for AIA Triangle
REFRESH-INTERVAL;VALUE=DURATION:PT1H
X-Robots-Tag:noindex
X-PUBLISHED-TTL:PT1H
BEGIN:VTIMEZONE
TZID:America/New_York
BEGIN:DAYLIGHT
TZOFFSETFROM:-0500
TZOFFSETTO:-0400
TZNAME:EDT
DTSTART:20210314T070000
END:DAYLIGHT
BEGIN:STANDARD
TZOFFSETFROM:-0400
TZOFFSETTO:-0500
TZNAME:EST
DTSTART:20211107T060000
END:STANDARD
BEGIN:DAYLIGHT
TZOFFSETFROM:-0500
TZOFFSETTO:-0400
TZNAME:EDT
DTSTART:20220313T070000
END:DAYLIGHT
BEGIN:STANDARD
TZOFFSETFROM:-0400
TZOFFSETTO:-0500
TZNAME:EST
DTSTART:20221106T060000
END:STANDARD
BEGIN:DAYLIGHT
TZOFFSETFROM:-0500
TZOFFSETTO:-0400
TZNAME:EDT
DTSTART:20230312T070000
END:DAYLIGHT
BEGIN:STANDARD
TZOFFSETFROM:-0400
TZOFFSETTO:-0500
TZNAME:EST
DTSTART:20231105T060000
END:STANDARD
END:VTIMEZONE
BEGIN:VEVENT
DTSTART;TZID=America/New_York:20220407T173000
DTEND;TZID=America/New_York:20220407T203000
DTSTAMP:20260423T074407
CREATED:20220224T155140Z
LAST-MODIFIED:20220407T162207Z
UID:10000189-1649352600-1649363400@aiatriangle.org
SUMMARY:2022 AIA Triangle Design Awards Ceremony
DESCRIPTION:AIA TRIANGLE DESIGN AWARDS CEREMONY \nNORTH CAROLINA BOTANICAL GARDEN | CHAPEL HILL  \nPARKING FOR EVENT AT FRIDAY CONFERENCE CENTER  \n(See important parking information below) \nTHURSDAY\, APRIL 7\, 2022 \n6:30 PM – 8:30 PM  \n(Check-in begins at 5:30 PM) \nWe welcome everyone in the design community to gather in celebration of the outstanding work architects create. The AIA Triangle Design Awards recognizes excellence in architectural design throughout the Triangle area. The jury selection of this year’s winning projects will be announced during the awards ceremony. We will name the projects receiving the prestigious AIA Triangle Honor and Merit Awards as well as announce this year’s Gail Lindsey Award winner and the newly added Community Impact Through Design Award. Plus\, this year’s student scholarship recipients will also be acknowledged during the ceremony. \nFood and beverage will be provided including gluten free and vegetarian selections. \nIMPORTANT EVENT PARKING SHUTTLE SERVICE \n\nParking for this event will be at the Friday Conference Center\nShuttle service will be provided to and from the Friday Conference Center parking lot to the Botanical Garden beginning at 5:30 PM\nPlan your arrival accordingly to allow time for transportation to the event\n\n\nEVENT PRICING \n\nAIA Members: $65\nAIA Member with “Assoc. AIA” designation: $30\nStudents: $25\nNon-members and Guests of members: $95
URL:https://aiatriangle.org/event/2022-aia-triangle-design-awards/
LOCATION:EVENT PARKING AT FRIDAY CONFERENCE CENTER
CATEGORIES:Design Awards
ORGANIZER;CN="Chris Stetkiewicz":MAILTO:info@aiatriangle.org
END:VEVENT
END:VCALENDAR