BEGIN:VCALENDAR
VERSION:2.0
PRODID:-//AIA Triangle - ECPv6.15.20//NONSGML v1.0//EN
CALSCALE:GREGORIAN
METHOD:PUBLISH
X-WR-CALNAME:AIA Triangle
X-ORIGINAL-URL:https://aiatriangle.org
X-WR-CALDESC:Events for AIA Triangle
REFRESH-INTERVAL;VALUE=DURATION:PT1H
X-Robots-Tag:noindex
X-PUBLISHED-TTL:PT1H
BEGIN:VTIMEZONE
TZID:America/New_York
BEGIN:DAYLIGHT
TZOFFSETFROM:-0500
TZOFFSETTO:-0400
TZNAME:EDT
DTSTART:20210314T070000
END:DAYLIGHT
BEGIN:STANDARD
TZOFFSETFROM:-0400
TZOFFSETTO:-0500
TZNAME:EST
DTSTART:20211107T060000
END:STANDARD
BEGIN:DAYLIGHT
TZOFFSETFROM:-0500
TZOFFSETTO:-0400
TZNAME:EDT
DTSTART:20220313T070000
END:DAYLIGHT
BEGIN:STANDARD
TZOFFSETFROM:-0400
TZOFFSETTO:-0500
TZNAME:EST
DTSTART:20221106T060000
END:STANDARD
BEGIN:DAYLIGHT
TZOFFSETFROM:-0500
TZOFFSETTO:-0400
TZNAME:EDT
DTSTART:20230312T070000
END:DAYLIGHT
BEGIN:STANDARD
TZOFFSETFROM:-0400
TZOFFSETTO:-0500
TZNAME:EST
DTSTART:20231105T060000
END:STANDARD
END:VTIMEZONE
BEGIN:VEVENT
DTSTART;TZID=America/New_York:20220316T190000
DTEND;TZID=America/New_York:20220316T190000
DTSTAMP:20260423T133012
CREATED:20220310T151400Z
LAST-MODIFIED:20220311T180117Z
UID:10000393-1647457200-1647457200@aiatriangle.org
SUMMARY:EP/YAF Planning Meeting
DESCRIPTION:ALL ARE WELCOME! \nEP/YAF Planning Meeting \nWednesday\, March 16 | 7:00 PM – 8:00 PM \nHosted by: \n \n223 S. Wilmington Street\, Suite 200 | Raleigh\, NC 27601 \nAttend in-person or online via Zoom \nATTENDING IN PERSON – RSVP BELOW  \nATTENDING ONLINE VIA ZOOM – REGISTER HERE \n(Deadline to RSVP is March 16th at 12:00 PM) \n\nThe EP / YAF Task Force is getting ready for ARE sessions\, mentorship pods\, construction tours and more this year. We need your help on our team to continue putting our plans into action! If you’ve got an interest in helping plan awesome events\, send emails or taking part in these activities or some of your very own ideas\, please join us. Everyone is welcome!
URL:https://aiatriangle.org/event/ep-yaf-planning-meeting/
LOCATION:Hamby\, 223 S. Wilmington Street\, Suite 200\, Raleigh\, NC\, 27601\, United States
CATEGORIES:YAF
ORGANIZER;CN="Colin McCarville":MAILTO:cpm616@gmail.com
END:VEVENT
END:VCALENDAR