BEGIN:VCALENDAR
VERSION:2.0
PRODID:-//AIA Triangle - ECPv6.15.20//NONSGML v1.0//EN
CALSCALE:GREGORIAN
METHOD:PUBLISH
X-ORIGINAL-URL:https://aiatriangle.org
X-WR-CALDESC:Events for AIA Triangle
REFRESH-INTERVAL;VALUE=DURATION:PT1H
X-Robots-Tag:noindex
X-PUBLISHED-TTL:PT1H
BEGIN:VTIMEZONE
TZID:America/New_York
BEGIN:DAYLIGHT
TZOFFSETFROM:-0500
TZOFFSETTO:-0400
TZNAME:EDT
DTSTART:20210314T070000
END:DAYLIGHT
BEGIN:STANDARD
TZOFFSETFROM:-0400
TZOFFSETTO:-0500
TZNAME:EST
DTSTART:20211107T060000
END:STANDARD
BEGIN:DAYLIGHT
TZOFFSETFROM:-0500
TZOFFSETTO:-0400
TZNAME:EDT
DTSTART:20220313T070000
END:DAYLIGHT
BEGIN:STANDARD
TZOFFSETFROM:-0400
TZOFFSETTO:-0500
TZNAME:EST
DTSTART:20221106T060000
END:STANDARD
BEGIN:DAYLIGHT
TZOFFSETFROM:-0500
TZOFFSETTO:-0400
TZNAME:EDT
DTSTART:20230312T070000
END:DAYLIGHT
BEGIN:STANDARD
TZOFFSETFROM:-0400
TZOFFSETTO:-0500
TZNAME:EST
DTSTART:20231105T060000
END:STANDARD
END:VTIMEZONE
BEGIN:VEVENT
DTSTART;TZID=America/New_York:20220611T100000
DTEND;TZID=America/New_York:20220611T150000
DTSTAMP:20260423T135130
CREATED:20220525T183225Z
LAST-MODIFIED:20220607T153333Z
UID:10000418-1654941600-1654959600@aiatriangle.org
SUMMARY:Design Summer Social with AIAT EP/YAF\, Diversify Architecture\, NCNOMA & NCASLA EPC
DESCRIPTION:Design Summer Social with AIAT EP/YAF\, Diversify Architecture\, NCNOMA & NCASLA EPC \nJohn Chavis Park\, Shelter 3  \n501 Martin Luther King Jr. Blvd | Raleigh\, NC 27601\nJune 11\, 2022 | 10:00 AM – 2:30 PM\nAIAT EP/YAF\, Diversify Architecture\, NCNOMA & NCASLA EPC are joining to provide a day of adult field activities and community on June 11 at John Chavis Park. Come join us for a day of friendly competition\, prizes and of course lunch! Although the competition is for the adults\, families are welcome with activities for kids as well! \nSchedule of Events: \n9:45 AM – 10:15 AM: Check in \n10:15 AM – 12:30 PM: Field Games \n12:30 PM – 1:30 PM/2:00 PM: Lunch \n2:00 PM – 2:30 PM: Prizes! \nPlease RSVP by June 8.  Contact Colin McCarville for more information.
URL:https://aiatriangle.org/event/design-summer-social-with-aiat-ep-yaf-diversify-architecture-ncnoma-ncasla-epc/
LOCATION:John Chavis Park\, Shelter 3
CATEGORIES:YAF
ORGANIZER;CN="Colin McCarville":MAILTO:cpm616@gmail.com
END:VEVENT
END:VCALENDAR