BEGIN:VCALENDAR
VERSION:2.0
PRODID:-//AIA Triangle - ECPv6.15.20//NONSGML v1.0//EN
CALSCALE:GREGORIAN
METHOD:PUBLISH
X-ORIGINAL-URL:https://aiatriangle.org
X-WR-CALDESC:Events for AIA Triangle
REFRESH-INTERVAL;VALUE=DURATION:PT1H
X-Robots-Tag:noindex
X-PUBLISHED-TTL:PT1H
BEGIN:VTIMEZONE
TZID:America/New_York
BEGIN:DAYLIGHT
TZOFFSETFROM:-0500
TZOFFSETTO:-0400
TZNAME:EDT
DTSTART:20230312T070000
END:DAYLIGHT
BEGIN:STANDARD
TZOFFSETFROM:-0400
TZOFFSETTO:-0500
TZNAME:EST
DTSTART:20231105T060000
END:STANDARD
BEGIN:DAYLIGHT
TZOFFSETFROM:-0500
TZOFFSETTO:-0400
TZNAME:EDT
DTSTART:20240310T070000
END:DAYLIGHT
BEGIN:STANDARD
TZOFFSETFROM:-0400
TZOFFSETTO:-0500
TZNAME:EST
DTSTART:20241103T060000
END:STANDARD
BEGIN:DAYLIGHT
TZOFFSETFROM:-0500
TZOFFSETTO:-0400
TZNAME:EDT
DTSTART:20250309T070000
END:DAYLIGHT
BEGIN:STANDARD
TZOFFSETFROM:-0400
TZOFFSETTO:-0500
TZNAME:EST
DTSTART:20251102T060000
END:STANDARD
BEGIN:DAYLIGHT
TZOFFSETFROM:-0500
TZOFFSETTO:-0400
TZNAME:EDT
DTSTART:20260308T070000
END:DAYLIGHT
BEGIN:STANDARD
TZOFFSETFROM:-0400
TZOFFSETTO:-0500
TZNAME:EST
DTSTART:20261101T060000
END:STANDARD
BEGIN:DAYLIGHT
TZOFFSETFROM:-0500
TZOFFSETTO:-0400
TZNAME:EDT
DTSTART:20270314T070000
END:DAYLIGHT
BEGIN:STANDARD
TZOFFSETFROM:-0400
TZOFFSETTO:-0500
TZNAME:EST
DTSTART:20271107T060000
END:STANDARD
END:VTIMEZONE
BEGIN:VEVENT
DTSTART;TZID=America/New_York:20260304T120000
DTEND;TZID=America/New_York:20260304T140000
DTSTAMP:20260424T195912
CREATED:20260212T220539Z
LAST-MODIFIED:20260217T213141Z
UID:10000691-1772625600-1772632800@aiatriangle.org
SUMMARY:Lunch & Learn sponsored by Fitch Lumber with Marvin + Trustile
DESCRIPTION:Join us for a Lunch and Learn sponsored by Fitch Lumber together with Marvin and Trustile!\n\nWednesday\, March 4\, 2026\nMez Contemporary Mexican\n5410 Page Rd Durham\, NC 27703 \n2 LU | HSW \nFree for AIAT Members and Annual Partners\nIn lieu of a non-member registration fee\, a suggested $35 donation can be made to the Fitch Pediatric Rehabilitation Center.\nGive here: https://unchealthfoundation.org/fitch-family-comprehensive-pediatric-rehabilitation-program.\n \nSpace is limited. Please register below. \n  \n 
URL:https://aiatriangle.org/event/lunch-learn-sponsored-by-fitch-lumber-with-marvin-trustile-2026/
LOCATION:Mez Restaurant\, 5410 Page Rd\, Durham\, NC\, 27703\, United States
CATEGORIES:Lunch and Learn
END:VEVENT
BEGIN:VEVENT
DTSTART;TZID=America/New_York:20250716T120000
DTEND;TZID=America/New_York:20250716T140000
DTSTAMP:20260424T195912
CREATED:20250602T165547Z
LAST-MODIFIED:20250710T151151Z
UID:10000643-1752667200-1752674400@aiatriangle.org
SUMMARY:Lunch & Learn sponsored by Fitch Lumber with Marvin and Trustile
DESCRIPTION:
URL:https://aiatriangle.org/event/lunch-learn-sponsored-by-fitch-lumber-with-marvin-and-trustile/
LOCATION:Mez Restaurant\, 5410 Page Rd\, Durham\, NC\, 27703\, United States
CATEGORIES:Lunch and Learn
END:VEVENT
BEGIN:VEVENT
DTSTART;TZID=America/New_York:20240828T113000
DTEND;TZID=America/New_York:20240828T143000
DTSTAMP:20260424T195912
CREATED:20240717T133106Z
LAST-MODIFIED:20240826T185335Z
UID:10000566-1724844600-1724855400@aiatriangle.org
SUMMARY:Lunch and Learn - Two Sessions with Fitch Lumber
DESCRIPTION:AIA Triangle Lunch & Learn – Two Sessions! \nSponsored by Fitch Lumber \n  \n\n\n\nAIA Triangle Lunch & Learn – Two Sessions\n\n\nSponsored by Fitch Lumber\n\n\n Session #1: Designing Wood Entry Doors For Today’s Custom Homes: Form\, Function & Well-Being (presented by Trustile Doors)  Session #2: Understanding Key Performance Factors for Window and Door Exterior Finishes (WDExtFinishes) (presented by Marvin) \n\n\nAugust 28\, 2024 Session #1 – 12:00 PM – 1:00 PM | Session #2 – 1:00 PM – 2:00 PM 2 AIA CE Credits\n\n\nMEZ Restaurant\n\n\n5410 Page Rd\, Durham\, NC 27703\n\n\nLunch\, a buffet style taco bar\, will be provided for all attendees\n*Event limited to 50 attendees*\n\n\n\n\n\n\n\n\nSession #1: Designing Wood Entry Doors For Today’s Custom Homes: Form\, Function & Well-Being This Continuing Education Course provides a detailed overview of wood entry systems\, how they can be integrated into different architectural styles\, maximizing health and safety benefits\, and which modern materials are improving durability and energy efficiency. \n\n\nLEARNING OBJECTIVES\n\n\n\n\nSpecify an entry system that enhances your next residential project\nFocus on wellness when designing an entry system\nKnow of the components of an entry system\nUnderstand how modern materials and technology contribute to better performance on wood entry doors\n\n\n\n\nPRESENTED BY\n\n\nTruStile Doors\n\n\n\n\n\n\n\nSession #2: Understanding Key Performance Factors for Window and Door Exterior Finishes (WDExtFinishes) The exterior finish you select for the windows and doors play a key role in the durability\, long-term maintenance\, and lasting beauty of any residential or commercial building. In this course\, you will learn about industry standards and factors you need to weigh in specifying the finish based on the project requirements.  PRESENTED BY MARVIN \n\n\n\n\n\nREGISTRATION OPTIONS \nONLINE REGISTRATION \n\nAIA Member/AIAT Annual Partners: $0 | Non-member: Free\, but suggested $35 donation to the Fitch Family Comprehensive Pediatric Rehabilitation Program\nRegister below to attend in-person; (Deadline for registration: Monday\, August 26 at 12:00 PM)\nLunch\, a buffet style taco bar\, will be provided\nThe program will begin promptly at 12:00 PM\nCheck-in begins at 11:30 AM – Please arrive early to allow time for check-in and lunch
URL:https://aiatriangle.org/event/lunch-and-learn-two-sessions-with-fitch-lumber-2-copy/
LOCATION:Mez Restaurant\, 5410 Page Rd\, Durham\, NC\, 27703\, United States
CATEGORIES:Lunch and Learn
ORGANIZER;CN="AIA Triangle":MAILTO:info@aiatriangle.org
END:VEVENT
END:VCALENDAR