BEGIN:VCALENDAR
VERSION:2.0
PRODID:-//AIA Triangle - ECPv6.15.20//NONSGML v1.0//EN
CALSCALE:GREGORIAN
METHOD:PUBLISH
X-ORIGINAL-URL:https://aiatriangle.org
X-WR-CALDESC:Events for AIA Triangle
REFRESH-INTERVAL;VALUE=DURATION:PT1H
X-Robots-Tag:noindex
X-PUBLISHED-TTL:PT1H
BEGIN:VTIMEZONE
TZID:America/New_York
BEGIN:DAYLIGHT
TZOFFSETFROM:-0500
TZOFFSETTO:-0400
TZNAME:EDT
DTSTART:20200308T070000
END:DAYLIGHT
BEGIN:STANDARD
TZOFFSETFROM:-0400
TZOFFSETTO:-0500
TZNAME:EST
DTSTART:20201101T060000
END:STANDARD
BEGIN:DAYLIGHT
TZOFFSETFROM:-0500
TZOFFSETTO:-0400
TZNAME:EDT
DTSTART:20210314T070000
END:DAYLIGHT
BEGIN:STANDARD
TZOFFSETFROM:-0400
TZOFFSETTO:-0500
TZNAME:EST
DTSTART:20211107T060000
END:STANDARD
BEGIN:DAYLIGHT
TZOFFSETFROM:-0500
TZOFFSETTO:-0400
TZNAME:EDT
DTSTART:20220313T070000
END:DAYLIGHT
BEGIN:STANDARD
TZOFFSETFROM:-0400
TZOFFSETTO:-0500
TZNAME:EST
DTSTART:20221106T060000
END:STANDARD
END:VTIMEZONE
BEGIN:VEVENT
DTSTART;TZID=America/New_York:20210402T160000
DTEND;TZID=America/New_York:20210402T210000
DTSTAMP:20260423T163716
CREATED:20210329T183753Z
LAST-MODIFIED:20210329T183921Z
UID:10000153-1617379200-1617397200@aiatriangle.org
SUMMARY:First Friday Raleigh - Architectural Scavenger Hunt
DESCRIPTION:APRIL IS ARCHITECTURE MONTH!\n\nAIA Triangle and Downtown Raleigh Alliance (DRA) have partnered for April First Friday on April 2 in honor of Architecture Month – a celebration of architecture\, design and the contribution architects make to the creation of livable communities. \nWith the goal of bringing people into downtown Raleigh and encouraging them to notice the building detail that surrounds them\, AIA Triangle has created a scavenger hunt that highlights prominent architectural features on Hargett and Martin Streets between Nash Square and Moore Square. This scavenger hunt is free and for all ages.  \nHOW TO PARTICIPATE\nDownload and print the map and set off to locate the treasures hiding in plain sight\, then read the glossary of terms and definitions to learn more. Share other examples of the features you find and tag @aiatriangle and @downtownraleighalliance on social media. \nWIN PRIZES!\nEnter to win prizes including gift cards to local businesses and prize packs from AIA Triangle (shoulder bag\, water bottle and journal). Take and share a photo of your favorite stop along the route or your favorite building in downtown Raleigh and tag @aiatriangle and @downtownraleighallience on social media by midnight on April 2nd to be entered to win. \nDOWNLOAD PDF to print flyer and glossary \nCLICK HERE for mobile friendly version
URL:https://aiatriangle.org/event/first-friday-raleigh-architectural-scavenger-hunt/
LOCATION:Moore Square\, Raleigh\, NC\, 226 E. Martin Street\, Raleigh\, NC\, 27601\, United States
ORGANIZER;CN="Chris Stetkiewicz":MAILTO:info@aiatriangle.org
END:VEVENT
END:VCALENDAR