BEGIN:VCALENDAR
VERSION:2.0
PRODID:-//AIA Triangle - ECPv6.15.20//NONSGML v1.0//EN
CALSCALE:GREGORIAN
METHOD:PUBLISH
X-ORIGINAL-URL:https://aiatriangle.org
X-WR-CALDESC:Events for AIA Triangle
REFRESH-INTERVAL;VALUE=DURATION:PT1H
X-Robots-Tag:noindex
X-PUBLISHED-TTL:PT1H
BEGIN:VTIMEZONE
TZID:America/New_York
BEGIN:DAYLIGHT
TZOFFSETFROM:-0500
TZOFFSETTO:-0400
TZNAME:EDT
DTSTART:20210314T070000
END:DAYLIGHT
BEGIN:STANDARD
TZOFFSETFROM:-0400
TZOFFSETTO:-0500
TZNAME:EST
DTSTART:20211107T060000
END:STANDARD
BEGIN:DAYLIGHT
TZOFFSETFROM:-0500
TZOFFSETTO:-0400
TZNAME:EDT
DTSTART:20220313T070000
END:DAYLIGHT
BEGIN:STANDARD
TZOFFSETFROM:-0400
TZOFFSETTO:-0500
TZNAME:EST
DTSTART:20221106T060000
END:STANDARD
BEGIN:DAYLIGHT
TZOFFSETFROM:-0500
TZOFFSETTO:-0400
TZNAME:EDT
DTSTART:20230312T070000
END:DAYLIGHT
BEGIN:STANDARD
TZOFFSETFROM:-0400
TZOFFSETTO:-0500
TZNAME:EST
DTSTART:20231105T060000
END:STANDARD
BEGIN:DAYLIGHT
TZOFFSETFROM:-0500
TZOFFSETTO:-0400
TZNAME:EDT
DTSTART:20240310T070000
END:DAYLIGHT
BEGIN:STANDARD
TZOFFSETFROM:-0400
TZOFFSETTO:-0500
TZNAME:EST
DTSTART:20241103T060000
END:STANDARD
END:VTIMEZONE
BEGIN:VEVENT
DTSTART;TZID=America/New_York:20231023T163000
DTEND;TZID=America/New_York:20231023T173000
DTSTAMP:20260423T122807
CREATED:20230918T151644Z
LAST-MODIFIED:20230918T151726Z
UID:10000512-1698078600-1698082200@aiatriangle.org
SUMMARY:Joint Lecture Series - Thomas Barrie\, FAIA
DESCRIPTION:Fall 2023 Joint Lecture Series \nThomas Barrie\, FAIA\, Bryan Bell + Julio Bermudez \nThe Critical Conversations Project: Spiritual Approaches to the Built Environment \nBurns Auditorium\, NCSU College of Design \nMonday\, October 23 | 4:30 PM\nIn-Person or Virtual \nFOR MORE DETAILS OR TO REGISTER\, CLICK HERE \nZOOM LINK \nThomas Barrie\, FAIA\, DPACSA is a professor of architecture and director of the Affordable Housing and Sustainable Communities Initiative at the NC State College of Design. Two parallel interests comprise Professor Barrie’s teaching\, scholarship and publication – both of which occupy the common ground of syncretic approaches to meaningful placemaking in the built environment. The first focuses on alternative histories of architecture and\, in particular\, the interrelationship of a culture’s architecture and its cultural/religious beliefs. Professor Barrie’s scholarship on the symbolism\, ritual use\, and cultural significance of architecture has brought him to sacred places around the world\, and he has published and lectured extensively on this subject area.
URL:https://aiatriangle.org/event/joint-lecture-series-thomas-barrie/
LOCATION:NC State College of Design – Burns Auditorium\, 2221 Katherine Stinson Drive\, Raleigh\, NC\, United States
CATEGORIES:Joint Lecture Series
END:VEVENT
BEGIN:VEVENT
DTSTART;TZID=America/New_York:20231016T163000
DTEND;TZID=America/New_York:20231016T173000
DTSTAMP:20260423T122807
CREATED:20230918T151329Z
LAST-MODIFIED:20230918T151329Z
UID:10000511-1697473800-1697477400@aiatriangle.org
SUMMARY:Joint Lecture Series - Roger Clark Endowed Lecture with Carol Wilson
DESCRIPTION:Fall 2023 Joint Lecture Series \nRoger Clark Endowed Lecture: \nCarol Wilson \nBurns Auditorium\, NCSU College of Design \nMonday\, October 16 | 4:30 PM\nIn-Person or Virtual \nFOR MORE DETAILS OR TO REGISTER\, CLICK HERE \nZOOM LINK \nCarol A. Wilson\, FAIA has been working in Maine since 1981. “Deeply tied to the landscape of Maine\, my desire is to produce buildings worthy of this place.” She established her own firm in 1986. In addition to the work of her studio\, she teaches\, lectures and is an active force in the Portland Society of Architects. Her work has been published and widely recognized for its excellence in design.
URL:https://aiatriangle.org/event/joint-lecture-series-carol-wilson/
LOCATION:NC State College of Design – Burns Auditorium\, 2221 Katherine Stinson Drive\, Raleigh\, NC\, United States
CATEGORIES:Joint Lecture Series
END:VEVENT
BEGIN:VEVENT
DTSTART;TZID=America/New_York:20231002T163000
DTEND;TZID=America/New_York:20231002T173000
DTSTAMP:20260423T122807
CREATED:20230918T150104Z
LAST-MODIFIED:20230918T150104Z
UID:10000510-1696264200-1696267800@aiatriangle.org
SUMMARY:Joint Lecture Series - Kelley Van Dyck Murphy
DESCRIPTION:Fall 2023 Joint Lecture Series \nKelley Van Dyck Murphy \nBeauty in Enormous Bleakness: The Design History of the Interned Generation of Japanese American Designers \nBurns Auditorium\, NCSU College of Design \nMonday\, October 2 | 4:30 PM\nIn-Person or Virtual \nFOR MORE DETAILS OR TO REGISTER\, CLICK HERE \nZOOM LINK \nKelley Van Dyck Murphy is an assistant professor of architecture in the Sam Fox School of Design & Visual Arts at Washington University in St. Louis. In the College of Architecture\, she teaches design studios and seminar courses in digital fabrication and representation. She is the co-director of Van Dyck Murphy Studio\, a multidisciplinary architecture and design collaborative based in St. Louis\, Missouri. The practice engages in built and speculative projects at the scales of objects\, installations\, and environments\, focusing on work that explores materiality\, craft\, and experiential narratives. Recently\, Van Dyck Murphy studio was among the winning designers for the Alleyway Project\, an international public art competition that will result in the re-envisioning of an alleyway in downtown Ann Arbor\, Michigan. They are also in the process of designing and fabricating a ceramic 3D-printed masonry screen wall in downtown St. Louis. Recent work has been exhibited at the Des Lee Gallery\, the Sheldon\, and the Farrell Learning Center.
URL:https://aiatriangle.org/event/joint-lecture-series-kelley-van-dyck-murphy/
LOCATION:NC State College of Design – Burns Auditorium\, 2221 Katherine Stinson Drive\, Raleigh\, NC\, United States
CATEGORIES:Joint Lecture Series
END:VEVENT
BEGIN:VEVENT
DTSTART;TZID=America/New_York:20230918T163000
DTEND;TZID=America/New_York:20230918T173000
DTSTAMP:20260423T122807
CREATED:20230918T145439Z
LAST-MODIFIED:20230918T145605Z
UID:10000509-1695054600-1695058200@aiatriangle.org
SUMMARY:Joint Lecture Series - Arthur J. Clement\, AIA
DESCRIPTION:Fall 2023 Joint Lecture Series \nArthur J. Clement\, AIA \nWhat Can and Can’t be Designed: The Museum Architecture of Phil Freelon \nBurns Auditorium\, NCSU College of Design \nMonday\, September 18 | 4:30 PM\nIn-Person or Virtual \nFOR MORE DETAILS OR TO REGISTER\, CLICK HERE \nZOOM LINK \nArthur J. Clement\, FAIA is an accomplished construction executive and results-driven\, project leader. His forte is successfully managing complex architectural/engineering projects from concept to completion. \nArt’s professional successes are enhanced by a multi-faceted background and cultural perspective\, and a 35-year career with several architectural\, construction\, and program management firms. He has worked throughout the southeastern United States in a variety of roles as Owner’s representative\, project designer\, project manager and team leader\, and end user of new or re-adapted facilities.
URL:https://aiatriangle.org/event/joint-lecture-series-arthur-clement/
LOCATION:NC State College of Design – Burns Auditorium\, 2221 Katherine Stinson Drive\, Raleigh\, NC\, United States
CATEGORIES:Joint Lecture Series
END:VEVENT
BEGIN:VEVENT
DTSTART;TZID=America/New_York:20230525T170000
DTEND;TZID=America/New_York:20230525T183000
DTSTAMP:20260423T122807
CREATED:20230505T032830Z
LAST-MODIFIED:20230518T011931Z
UID:10000468-1685034000-1685039400@aiatriangle.org
SUMMARY:COTE Presents: Mass Timber's Mass Appeal
DESCRIPTION:AIAT COMMITTEE ON THE ENVIRONMENT (COTE) PRESENTS \nMASS TIMBER’S MASS APPEAL \n \nNC State College of Design\, Burns Auditorium \nThursday\, May 25 | 5:00 pm – 6:30 pm| 1.5 AIA LU credits \nAIA Members/AIAT Annual Partners/Students: $0 | Non Members: $35 \n\nSPEAKERS: Casey Farren\, AIA (Gensler);  Steve Kelley\, PhD (NC State College of Natural Resources) \nFor countless reasons\, mass timber in the United States is typically associated with the Pacific Northwest. And while it is true that most wood used for production of mass timber in North America comes from Canada and the Pacific Northwest\, the southeast United States is emerging as a serious contender in the market\, now contributing a significant proportion of the North American lumber used for mass timber. While the sourcing of mass timber from the southeast is important by itself\, it matters just as much for major organizations to adopt mass timber construction within the region and across the country. \nThere are several large-scale projects poised to redefine sustainable architecture as we know it. The benefits of mass timber can often seem too good to be true. We understand the skepticism\, but have experienced comparable schedule improvements firsthand\, and we believe the strategy holds just as many benefits for developers as it does for end users. It turns out that mass timber can prove beneficial for both short-term and long-term timeframes. And while mass timber materials present users with a higher upfront cost than steel and concrete\, offsite assembly\, safer construction\, reduced labor costs\, and lower interior finishing costs are only a few examples of how to offset that initial cost. We will be pulling mass timber explorations from various projects around the continental U.S. and abroad. For example\, construction is underway on the Walmart Home Office Campus in Bentonville\, Arkansas\, where mass timber will comprise the primary structural material for the campus\, marking an evolution in how the strategy is implemented. With more than 2.4 million square feet of office space\, the company’s new campus is the largest mass timber corporate campus currently under construction in the United States. This session will explain the timber supply chain\, regional variation\, manufacturing limitations\, and the impacts on carbon emissions. \nLEARNING OBJECTIVES \nParticipants will be able to describe the timber supply chain from forest to mill to site. \nParticipants will be able to outline how carbon flows from forest to building products compares to other structural systems from structural span\, to a cost\, schedule\, and embodied carbon perspective. \nParticipants will be able to identify strategies to move beyond the technical aspects of mass timber design and advocate for the experience of being in a space that connects to nature. \nParticipants will see the potential paths for making sure no wood goes into the landfill. Reclaimed wood and Bioenergy – Opportunities to have a second\, third\, or fourth life. Whether you’re cutting down trees or demolishing a board room or your back deck\, you have a biomass feedstock on your hands.  \nSPEAKER BIOS: \nCasey Farren: An architect at Gensler and native North Carolinian\, Casey possesses a deep interest in designing architecture that both respects and celebrates its surrounding natural environment. After earning a Bachelor of Environmental Design in Architecture and a Masters in Architecture from North Carolina State University Casey worked for several years in Raleigh\, NC and San Antonio\, TX focusing primarily on K-12 and multifamily housing work while also having the opportunity to work as Architect of Record for Ruby City in San Antonio in collaboration with Adjaye Associates. \nSteve Kelley: Dr. Steve Kelley is the Reubin B. Robertson Professor and Head of the Department of Forest Biomaterials at NC State. His research interests include the sustainable production of energy and materials from biomass. Prior to joining NC State\, he spent 13 years at the DOE’s National Renewable Energy Laboratory working on biomass conversion technologies. He also spent 6 years in industry.\nAt NC State he has led a series of research projects focused on bioenergy and carbon cycles\, and most recently focused on forest carbon capture from relatively slow growth\, and the implications of ‘immediate release’ of carbon\, e.g.\, from bioenergy\, vs. the ‘temporary storage’ in durable wood products\, e.g.\, buildings or biochar.
URL:https://aiatriangle.org/event/cote-presents-mass-timbers-mass-appeal/
LOCATION:NC State College of Design – Burns Auditorium\, 2221 Katherine Stinson Drive\, Raleigh\, NC\, United States
CATEGORIES:COTE Committee
ORGANIZER;CN="AIA Triangle":MAILTO:info@aiatriangle.org
END:VEVENT
BEGIN:VEVENT
DTSTART;TZID=America/New_York:20230327T183000
DTEND;TZID=America/New_York:20230327T200000
DTSTAMP:20260423T122807
CREATED:20230104T193530Z
LAST-MODIFIED:20230307T195712Z
UID:10000436-1679941800-1679947200@aiatriangle.org
SUMMARY:NC State Joint Lecture - Yasmin Vobis and Aaron Forrest
DESCRIPTION:AIA TRIANGLE & NC STATE COLLEGE OF DESIGN\n\n\nSPRING 2023 JOINT LECTURE SERIES\n\n\n\n\n\n\n\n\n\n\n\n Yasmin Vobis and Aaron Forrest\n\n\nMarch 27\, 2023 | 6:30 PM to 8:00 PM\n\n\nNCSU Kamphoefner Hall\, Burns Auditorium | 221 Stinson Drive | Raleigh\, NC \nRegistration is required. Option to attend in-person or onlineREGISTER HERE\n\n\n\n\nYasmin Vobis is co-founder of Ultramoderne\, an office committed to creating architecture and public spaces that are at once modern\, playful\, and generous. Their view that architecture is not a boutique luxury but plays an important role in all aspects of urban life\, has driven them to mine the rich possibilities for contact between the discipline and the everyday. \nAaron Forrest is a registered architect and co-founding Principal of Ultramoderne. He has extensive professional experience\, having practiced in New York with Bernheimer Architecture and Guy Nordenson and Associates Structural Engineers\, and in Madrid with Ábalos & Herreros Arquitectos. Aaron’s work has been recognized widely\, both for design excellence and for innovations in architectural technology and the design of public space. \n\n\n\n\nTimes and dates are subject to change\, please check NC State’s lecture schedule for updates
URL:https://aiatriangle.org/event/nc-state-joint-lecture-yasminvobis-and-aaron-forest/
LOCATION:NC State College of Design – Burns Auditorium\, 2221 Katherine Stinson Drive\, Raleigh\, NC\, United States
CATEGORIES:Joint Lecture Series
ORGANIZER;CN="Shawn Protz":MAILTO:ssprotz@ncsu.edu
END:VEVENT
BEGIN:VEVENT
DTSTART;TZID=America/New_York:20230220T183000
DTEND;TZID=America/New_York:20230220T200000
DTSTAMP:20260423T122807
CREATED:20230104T191816Z
LAST-MODIFIED:20230118T140021Z
UID:10000434-1676917800-1676923200@aiatriangle.org
SUMMARY:NC State Joint Lecture - Lyndon Neri
DESCRIPTION:AIA TRIANGLE & NC STATE COLLEGE OF DESIGN\n\n\nSPRING 2023 JOINT LECTURE SERIES\n\n\nTESAR LECTURE ON ARCHITECTURE AND CULTURE\n\n\n\n\n\n\n\n\n Lyndon Neri\n\n\nFebruary 20\, 2023 | 6:30 PM to 8:00 PM\n\n\nNCSU Kamphoefner Hall\, Burns Auditorium | 221 Stinson Drive | Raleigh\, NC \n\nRegistration is required. Option to attend in person or onlineREGISTER HERE\n\n\n\n\nLyndon Neri is a Founding Partner of Neri&Hu Design and Research Office\, an inter-disciplinary international architectural design practice based in Shanghai\, China.\n\n\nTimes and dates are subject to change\, please check NC State’s lecture schedule for updates
URL:https://aiatriangle.org/event/nc-state-joint-lecture-lyndon-neri/
LOCATION:NC State College of Design – Burns Auditorium\, 2221 Katherine Stinson Drive\, Raleigh\, NC\, United States
CATEGORIES:Joint Lecture Series
ORGANIZER;CN="Shawn Protz":MAILTO:ssprotz@ncsu.edu
END:VEVENT
BEGIN:VEVENT
DTSTART;TZID=America/New_York:20221114T163000
DTEND;TZID=America/New_York:20221114T180000
DTSTAMP:20260423T122807
CREATED:20220812T142022Z
LAST-MODIFIED:20220812T144701Z
UID:10000248-1668443400-1668448800@aiatriangle.org
SUMMARY:NC State Joint Lecture - Takuro and Hitomi Shibata
DESCRIPTION:AIA TRIANGLE & NC STATE COLLEGE OF DESIGN\n\n\nJOINT LECTURE SERIES\n\n\n\n\n\nTakuro and Hitomi Shibata\n\n\nStudio Shibata\n\n\nMonday\, November 14 | 4:30 PM – 6:00 PM\n\n\nKamphoefner Hall\, Burns Auditorium | 2221 Stinson Drive\, Raleigh\, NC\n\n\n\n\nHitomi and Takuro Shibata\, potters from Shigaraki\, Japan\, run Studio Touya in Seagrove\, North Carolina. They make handmade pottery and sculptural work using natural material\, wild clays and wood firing techniques. \n\n\n\n\nRegistration is required for each lectureREGISTER HERETimes and dates are subject to change\, and more lectures are added as scheduled\, so please check NC State’s lecture schedule for updates!
URL:https://aiatriangle.org/event/nc-state-joint-lecture-takuro-and-hitomi-shibata/
LOCATION:NC State College of Design – Burns Auditorium\, 2221 Katherine Stinson Drive\, Raleigh\, NC\, United States
CATEGORIES:Joint Lecture Series
ORGANIZER;CN="Shawn Protz":MAILTO:ssprotz@ncsu.edu
END:VEVENT
BEGIN:VEVENT
DTSTART;TZID=America/New_York:20221107T163000
DTEND;TZID=America/New_York:20221107T180000
DTSTAMP:20260423T122807
CREATED:20220812T141524Z
LAST-MODIFIED:20220812T144539Z
UID:10000246-1667838600-1667844000@aiatriangle.org
SUMMARY:NC State Joint Lecture - David Benjamin
DESCRIPTION:AIA TRIANGLE & NC STATE COLLEGE OF DESIGN\n\n\nJOINT LECTURE SERIES\n\n\n\n\n\nDavid Benjamin\n\n\nThe Living and Columbia GSAPP\n\n\nMonday\, November 7 | 4:30 PM – 6:00 PM\n\n\nKamphoefner Hall\, Burns Auditorium | 2221 Stinson Drive\, Raleigh\, NC\n\n\n\n\nDavid Benjamin is Founding Principal of The Living and Associate Professor at Columbia GSAPP. He also directs the GSAPP Incubator. Benjamin’s work combines research and practice\, and it involves exploring new ideas through prototyping. Focusing on the intersection of biology\, computation\, and design\, Benjamin has articulated three frameworks for harnessing living organisms for architecture: bio-processing\, bio-sensing\, and bio-manufacturing.\n\n\n\n\nRegistration is required for each lectureREGISTER HERETimes and dates are subject to change\, and more lectures are added as scheduled\, so please check NC State’s lecture schedule for updates!
URL:https://aiatriangle.org/event/nc-state-joint-lecture-david-benjamin/
LOCATION:NC State College of Design – Burns Auditorium\, 2221 Katherine Stinson Drive\, Raleigh\, NC\, United States
CATEGORIES:Joint Lecture Series
ORGANIZER;CN="Shawn Protz":MAILTO:ssprotz@ncsu.edu
END:VEVENT
BEGIN:VEVENT
DTSTART;TZID=America/New_York:20220912T163000
DTEND;TZID=America/New_York:20220912T180000
DTSTAMP:20260423T122807
CREATED:20220812T134725Z
LAST-MODIFIED:20220912T180529Z
UID:10000379-1663000200-1663005600@aiatriangle.org
SUMMARY:NC State Joint Lecture - Felecia Davis
DESCRIPTION:AIA TRIANGLE & NC STATE COLLEGE OF DESIGN\n\n\nJOINT LECTURE SERIES\n\n\n\n\n\nFelecia Davis\n\n\nStuckeman Center for Design and Computation\n\n\nMonday\, September 12 | 4:30 PM – 6:00 PM\n\n\nKamphoefner Hall\, Burins Auditorium | 2221 Stinson Drive\, Raleigh\, NC\n\n\n\n\nFelecia Davis is an associate professor of architecture\, lead researcher in the Stuckeman Center for Design and Computation\, and director of SOFTLAB in the Stuckeman School. Davis’s work in architecture and textiles connects art\, science\, engineering and design and re-imagines how we might use textiles in our daily lives and in architecture.  \n\n\n\n\n\nRegistration is required for each lectureREGISTER HERETimes and dates are subject to change\, and more lectures are added as scheduled\, so please check NC State’s lecture schedule for updates! \n\n\n\n\n\n\n\n 
URL:https://aiatriangle.org/event/nc-state-2022-joint-lecture-felecia-davis/
LOCATION:NC State College of Design – Burns Auditorium\, 2221 Katherine Stinson Drive\, Raleigh\, NC\, United States
CATEGORIES:Joint Lecture Series
ORGANIZER;CN="Shawn Protz":MAILTO:ssprotz@ncsu.edu
END:VEVENT
BEGIN:VEVENT
DTSTART;TZID=America/New_York:20220228T180000
DTEND;TZID=America/New_York:20220228T190000
DTSTAMP:20260423T122807
CREATED:20211129T141753Z
LAST-MODIFIED:20220112T200354Z
UID:10000283-1646071200-1646074800@aiatriangle.org
SUMMARY:Joint Lecture - Guy Nordenson
DESCRIPTION:2022 Spring Joint Lecture Series \nGuy Nordenson  \nRobert Burns Endowed Lecture (Structural Innovation) \nGuy Nordenson and Associates (New York) | Structures of Coastal Resistance & Princeton \n\nMonday\, February 28\, 2022 | 6:00 pm \nCE credit pending approval \nOption to attend in-person at Burns Auditorium  \nor online via Zoom meeting \nREGISTER FOR ZOOM MEETING HERE \nLectures are presented by NC State College of Design. Times and dates are subject to change. For meetings with the option of attending in-person\, masks are required – check here for up-to-date information on COVID protocols. View current lecture schedule for any updates HERE
URL:https://aiatriangle.org/event/joint-lecture-guy-nordenson/
LOCATION:NC State College of Design – Burns Auditorium\, 2221 Katherine Stinson Drive\, Raleigh\, NC\, United States
CATEGORIES:Joint Lecture Series
ORGANIZER;CN="Shawn Protz":MAILTO:ssprotz@ncsu.edu
END:VEVENT
BEGIN:VEVENT
DTSTART;TZID=America/New_York:20220207T180000
DTEND;TZID=America/New_York:20220207T190000
DTSTAMP:20260423T122807
CREATED:20211129T135848Z
LAST-MODIFIED:20220112T195654Z
UID:10000299-1644256800-1644260400@aiatriangle.org
SUMMARY:Joint Lecture - Virginia San Fratello
DESCRIPTION:2022 Spring Joint Lecture Series \nVirginia San Fratello \nNCSU BEDA Grad | Rael San Fratello & Emerging Objects (Bay Area) | San Jose State \n\nMonday\, February 7\, 2022 | 6:00 pm \nCE credit pending approval \nOption to view in-person at Burns Auditorium or online via Zoom meeting \nREGISTER FOR ZOOM MEETING HERE \nLectures are presented by NC State College of Design. Times and dates are subject to change. For meetings with the option of attending in-person\, masks are required – check here for up-to-date information on COVID protocols. View current lecture schedule for any updates HERE
URL:https://aiatriangle.org/event/35360/
LOCATION:NC State College of Design – Burns Auditorium\, 2221 Katherine Stinson Drive\, Raleigh\, NC\, United States
CATEGORIES:Joint Lecture Series
ORGANIZER;CN="Shawn Protz":MAILTO:ssprotz@ncsu.edu
END:VEVENT
END:VCALENDAR