BEGIN:VCALENDAR
VERSION:2.0
PRODID:-//AIA Triangle - ECPv6.15.20//NONSGML v1.0//EN
CALSCALE:GREGORIAN
METHOD:PUBLISH
X-ORIGINAL-URL:https://aiatriangle.org
X-WR-CALDESC:Events for AIA Triangle
REFRESH-INTERVAL;VALUE=DURATION:PT1H
X-Robots-Tag:noindex
X-PUBLISHED-TTL:PT1H
BEGIN:VTIMEZONE
TZID:America/New_York
BEGIN:DAYLIGHT
TZOFFSETFROM:-0500
TZOFFSETTO:-0400
TZNAME:EDT
DTSTART:20210314T070000
END:DAYLIGHT
BEGIN:STANDARD
TZOFFSETFROM:-0400
TZOFFSETTO:-0500
TZNAME:EST
DTSTART:20211107T060000
END:STANDARD
BEGIN:DAYLIGHT
TZOFFSETFROM:-0500
TZOFFSETTO:-0400
TZNAME:EDT
DTSTART:20220313T070000
END:DAYLIGHT
BEGIN:STANDARD
TZOFFSETFROM:-0400
TZOFFSETTO:-0500
TZNAME:EST
DTSTART:20221106T060000
END:STANDARD
BEGIN:DAYLIGHT
TZOFFSETFROM:-0500
TZOFFSETTO:-0400
TZNAME:EDT
DTSTART:20230312T070000
END:DAYLIGHT
BEGIN:STANDARD
TZOFFSETFROM:-0400
TZOFFSETTO:-0500
TZNAME:EST
DTSTART:20231105T060000
END:STANDARD
END:VTIMEZONE
BEGIN:VEVENT
DTSTART;TZID=America/New_York:20220228T180000
DTEND;TZID=America/New_York:20220228T190000
DTSTAMP:20260423T165405
CREATED:20211129T141753Z
LAST-MODIFIED:20220112T200354Z
UID:10000283-1646071200-1646074800@aiatriangle.org
SUMMARY:Joint Lecture - Guy Nordenson
DESCRIPTION:2022 Spring Joint Lecture Series \nGuy Nordenson  \nRobert Burns Endowed Lecture (Structural Innovation) \nGuy Nordenson and Associates (New York) | Structures of Coastal Resistance & Princeton \n\nMonday\, February 28\, 2022 | 6:00 pm \nCE credit pending approval \nOption to attend in-person at Burns Auditorium  \nor online via Zoom meeting \nREGISTER FOR ZOOM MEETING HERE \nLectures are presented by NC State College of Design. Times and dates are subject to change. For meetings with the option of attending in-person\, masks are required – check here for up-to-date information on COVID protocols. View current lecture schedule for any updates HERE
URL:https://aiatriangle.org/event/joint-lecture-guy-nordenson/
LOCATION:NC State College of Design – Burns Auditorium\, 2221 Katherine Stinson Drive\, Raleigh\, NC\, United States
CATEGORIES:Joint Lecture Series
ORGANIZER;CN="Shawn Protz":MAILTO:ssprotz@ncsu.edu
END:VEVENT
BEGIN:VEVENT
DTSTART;TZID=America/New_York:20220207T180000
DTEND;TZID=America/New_York:20220207T190000
DTSTAMP:20260423T165405
CREATED:20211129T135848Z
LAST-MODIFIED:20220112T195654Z
UID:10000299-1644256800-1644260400@aiatriangle.org
SUMMARY:Joint Lecture - Virginia San Fratello
DESCRIPTION:2022 Spring Joint Lecture Series \nVirginia San Fratello \nNCSU BEDA Grad | Rael San Fratello & Emerging Objects (Bay Area) | San Jose State \n\nMonday\, February 7\, 2022 | 6:00 pm \nCE credit pending approval \nOption to view in-person at Burns Auditorium or online via Zoom meeting \nREGISTER FOR ZOOM MEETING HERE \nLectures are presented by NC State College of Design. Times and dates are subject to change. For meetings with the option of attending in-person\, masks are required – check here for up-to-date information on COVID protocols. View current lecture schedule for any updates HERE
URL:https://aiatriangle.org/event/35360/
LOCATION:NC State College of Design – Burns Auditorium\, 2221 Katherine Stinson Drive\, Raleigh\, NC\, United States
CATEGORIES:Joint Lecture Series
ORGANIZER;CN="Shawn Protz":MAILTO:ssprotz@ncsu.edu
END:VEVENT
END:VCALENDAR