BEGIN:VCALENDAR
VERSION:2.0
PRODID:-//AIA Triangle - ECPv6.15.20//NONSGML v1.0//EN
CALSCALE:GREGORIAN
METHOD:PUBLISH
X-ORIGINAL-URL:https://aiatriangle.org
X-WR-CALDESC:Events for AIA Triangle
REFRESH-INTERVAL;VALUE=DURATION:PT1H
X-Robots-Tag:noindex
X-PUBLISHED-TTL:PT1H
BEGIN:VTIMEZONE
TZID:America/New_York
BEGIN:DAYLIGHT
TZOFFSETFROM:-0500
TZOFFSETTO:-0400
TZNAME:EDT
DTSTART:20180311T070000
END:DAYLIGHT
BEGIN:STANDARD
TZOFFSETFROM:-0400
TZOFFSETTO:-0500
TZNAME:EST
DTSTART:20181104T060000
END:STANDARD
BEGIN:DAYLIGHT
TZOFFSETFROM:-0500
TZOFFSETTO:-0400
TZNAME:EDT
DTSTART:20190310T070000
END:DAYLIGHT
BEGIN:STANDARD
TZOFFSETFROM:-0400
TZOFFSETTO:-0500
TZNAME:EST
DTSTART:20191103T060000
END:STANDARD
BEGIN:DAYLIGHT
TZOFFSETFROM:-0500
TZOFFSETTO:-0400
TZNAME:EDT
DTSTART:20200308T070000
END:DAYLIGHT
BEGIN:STANDARD
TZOFFSETFROM:-0400
TZOFFSETTO:-0500
TZNAME:EST
DTSTART:20201101T060000
END:STANDARD
BEGIN:DAYLIGHT
TZOFFSETFROM:-0500
TZOFFSETTO:-0400
TZNAME:EDT
DTSTART:20210314T070000
END:DAYLIGHT
BEGIN:STANDARD
TZOFFSETFROM:-0400
TZOFFSETTO:-0500
TZNAME:EST
DTSTART:20211107T060000
END:STANDARD
BEGIN:DAYLIGHT
TZOFFSETFROM:-0500
TZOFFSETTO:-0400
TZNAME:EDT
DTSTART:20220313T070000
END:DAYLIGHT
BEGIN:STANDARD
TZOFFSETFROM:-0400
TZOFFSETTO:-0500
TZNAME:EST
DTSTART:20221106T060000
END:STANDARD
BEGIN:DAYLIGHT
TZOFFSETFROM:-0500
TZOFFSETTO:-0400
TZNAME:EDT
DTSTART:20230312T070000
END:DAYLIGHT
BEGIN:STANDARD
TZOFFSETFROM:-0400
TZOFFSETTO:-0500
TZNAME:EST
DTSTART:20231105T060000
END:STANDARD
END:VTIMEZONE
BEGIN:VEVENT
DTSTART;TZID=America/New_York:20220124T180000
DTEND;TZID=America/New_York:20220124T190000
DTSTAMP:20260425T061829
CREATED:20210820T145146Z
LAST-MODIFIED:20211202T190427Z
UID:10000178-1643047200-1643050800@aiatriangle.org
SUMMARY:Joint Lecture - Bryan Bell
DESCRIPTION:2021 Fall Joint Lecture Series \nBryan Bell \nDesign Corps & NC State \nMonday\, January 24\, 2022 | 6:00 pm \nCE credit pending approval \nOption to view in-person at Burns Auditorium or online via Zoom meeting \nREGISTER FOR ZOOM MEETING HERE
URL:https://aiatriangle.org/event/joint-lecture-bryan-bell/
LOCATION:NC State Joint Lectures\, Burns Auditorium\, 2221 Katharine Stinson Drive\, Raleigh\, NC\, 27607\, United States
CATEGORIES:Joint Lecture Series
END:VEVENT
BEGIN:VEVENT
DTSTART;TZID=America/New_York:20211025T180000
DTEND;TZID=America/New_York:20211025T190000
DTSTAMP:20260425T061829
CREATED:20210820T143014Z
LAST-MODIFIED:20210827T150049Z
UID:10000172-1635184800-1635188400@aiatriangle.org
SUMMARY:Joint Lecture - Caroline Shannon
DESCRIPTION:Fall 2021 Joint Lecture Series \nCaroline Shannon \nHoweler + Yoon Architecture \nMonday\, October 25 | 6:00 pm \nCE credit pending approval \nOption to view in-person at Burns Auditorium or online via Zoom meeting \nREGISTER FOR ZOOM MEETING HERE \n 
URL:https://aiatriangle.org/event/joint-lecture-caroline-shannon/
LOCATION:NC State Joint Lectures\, Burns Auditorium\, 2221 Katharine Stinson Drive\, Raleigh\, NC\, 27607\, United States
CATEGORIES:Joint Lecture Series
END:VEVENT
BEGIN:VEVENT
DTSTART;TZID=America/New_York:20211018T180000
DTEND;TZID=America/New_York:20211018T190000
DTSTAMP:20260425T061829
CREATED:20210820T142204Z
LAST-MODIFIED:20210827T145309Z
UID:10000286-1634580000-1634583600@aiatriangle.org
SUMMARY:Joint Lecture - Antoine Bryant
DESCRIPTION:Fall 2021 Joint Lecture Series \nAntoine Bryant \nDetroit Planning & Development Department Director \nMonday\, October 18 | 6:00 pm \nCE credit pending approval \nOption to view in-person at Burns Auditorium or online via Zoom \nREGISTER FOR ZOOM MEETING HERE
URL:https://aiatriangle.org/event/joint-lecture-antoine-bryant/
LOCATION:NC State Joint Lectures\, Burns Auditorium\, 2221 Katharine Stinson Drive\, Raleigh\, NC\, 27607\, United States
CATEGORIES:Joint Lecture Series
END:VEVENT
BEGIN:VEVENT
DTSTART;TZID=America/New_York:20200127T180000
DTEND;TZID=America/New_York:20200127T193000
DTSTAMP:20260425T061829
CREATED:20200114T024839Z
LAST-MODIFIED:20200303T212905Z
UID:10000031-1580148000-1580153400@aiatriangle.org
SUMMARY:Joint Lecture Series - Lorcan O'Herlihy
DESCRIPTION:AIA TRIANGLE/NC STATE COLLEGE OF DESIGN\nJOINT LECTURE \nLorcan O’Herlihy \nPrincipal\, Lorcan O’Herlihy Architects \nJanuary 27 | 6:00 pm to 7:30 pm | Burns Auditorium\nJoin the College of Design at 6 PM in Burns Auditorium on Monday\, January 27th for a lecture from Lorcan O’Herlihy\, Founding Principal at Lorcan O’Herlihy Architects. Part of the Joint Lecture Series with AIA Triangle.\nTimes and dates are subject to change\, and more lectures are added – please check NC State College of Design website for any updates to scheduled lectures.
URL:https://aiatriangle.org/event/joint-lecture-series-lorcan-oherlihy/
LOCATION:NC State Joint Lectures\, Burns Auditorium\, 2221 Katharine Stinson Drive\, Raleigh\, NC\, 27607\, United States
CATEGORIES:Joint Lecture Series
END:VEVENT
BEGIN:VEVENT
DTSTART;TZID=America/New_York:20191104T180000
DTEND;TZID=America/New_York:20191104T193000
DTSTAMP:20260425T061829
CREATED:20190826T222838Z
LAST-MODIFIED:20200303T213716Z
UID:10000065-1572890400-1572895800@aiatriangle.org
SUMMARY:AIA Triangle and NC State College of Design Joint Lecture - Margaret Griffin\, FAIA
DESCRIPTION:AIA TRIANGLE AND NC STATE COLLEGE OF DESIGN \n JOINT LECTURE SERIES \nNovember 4\, 2019 | 6:00 pm to 7:30 PM \nMargaret Griffin\, FAIA | Griffin Enright Architects \n\n\nJoin the College of Design at 6 PM in Burns Auditorium on Monday\, November 4th for a lecture from Margaret Griffin\, FAIA\, Principal at Griffin Enright Architects. Part of the Joint Lecture Series with AIA Triangle. \n\n\n 
URL:https://aiatriangle.org/event/aia-triangle-and-nc-state-joint-lecture-margaret-griffin-faia/
LOCATION:NC State Joint Lectures\, Burns Auditorium\, 2221 Katharine Stinson Drive\, Raleigh\, NC\, 27607\, United States
CATEGORIES:Joint Lecture Series
ORGANIZER;CN="Nikki Evans":MAILTO:anevans3@ncsu.edu
END:VEVENT
BEGIN:VEVENT
DTSTART;TZID=America/New_York:20191021T180000
DTEND;TZID=America/New_York:20191021T193000
DTSTAMP:20260425T061829
CREATED:20190826T222520Z
LAST-MODIFIED:20200303T214006Z
UID:10000235-1571680800-1571686200@aiatriangle.org
SUMMARY:AIA Triangle and NC State College of Design Joint Lecture - Mimi Hoang\, AIA
DESCRIPTION:AIA TRIANGLE AND NC STATE COLLEGE OF DESIGN \nJOINT LECTURE SERIES \nOctober 21\, 2019 | 6:00 pm to 7:30 pm \nMimi Hoang\, AIA \nJoin the College of Design at 6 PM in Burns Auditorium on Monday\, October 21st for a lecture from Mimi Hoang\, AIA\, Principal at nARCHITECTS. Part of the Joint Lecture Series with AIA Triangle. \nMORE INFO
URL:https://aiatriangle.org/event/aia-triangle-and-nc-state-joint-lecture-4/
LOCATION:NC State Joint Lectures\, Burns Auditorium\, 2221 Katharine Stinson Drive\, Raleigh\, NC\, 27607\, United States
CATEGORIES:Joint Lecture Series
ORGANIZER;CN="Nikki Evans":MAILTO:anevans3@ncsu.edu
END:VEVENT
BEGIN:VEVENT
DTSTART;TZID=America/New_York:20191007T180000
DTEND;TZID=America/New_York:20191007T193000
DTSTAMP:20260425T061829
CREATED:20190826T221607Z
LAST-MODIFIED:20200303T214101Z
UID:10000022-1570471200-1570476600@aiatriangle.org
SUMMARY:AIA Triangle and NC State College of Design Joint Lecture - Heather Roberge
DESCRIPTION:AIA TRIANGLE AND NC STATE COLLEGE OF DESIGN \nJOINT LECTURE SERIES \nOctober 7 | 6:00 pm to 7:30 pm \nHeather Roberge \n\nJoin the College of Design at 6 PM in Burns Auditorium on Monday\, October 7th for a lecture from Heather Roberge\, Principal at Murmur and Chair of the UCLA Department of Architecture and Urban Design. Part of the Joint Lecture Series with AIA Triangle.\n\nMORE INFO \n 
URL:https://aiatriangle.org/event/aia-triangle-and-nc-state-joint-lecture-3/
LOCATION:NC State Joint Lectures\, Burns Auditorium\, 2221 Katharine Stinson Drive\, Raleigh\, NC\, 27607\, United States
CATEGORIES:Joint Lecture Series
ORGANIZER;CN="Nikki Evans":MAILTO:anevans3@ncsu.edu
END:VEVENT
BEGIN:VEVENT
DTSTART;TZID=America/New_York:20190930T180000
DTEND;TZID=America/New_York:20190930T193000
DTSTAMP:20260425T061829
CREATED:20190826T221122Z
LAST-MODIFIED:20200303T214337Z
UID:10000023-1569866400-1569871800@aiatriangle.org
SUMMARY:AIA Triangle and NC State College of Design Joint Lecture - Patrick Rand\, FAIA
DESCRIPTION:AIA TRIANGLE AND NC STATE COLLEGE OF DESIGN \nJOINT LECTURE SERIES \nSeptember 30 | 6:00 pm to 7:30 pm \nPatrick Rand\, FAIA \n\nJoin the College of Design at 6 PM in Burns Auditorium on Monday\, September 30th for a lecture from Patrick Rand\, FAIA\, Professor of Architecture at NC State University. Part of the Joint Lecture Series with AIA Triangle.\nMORE INFO \n\n  \n 
URL:https://aiatriangle.org/event/aia-triangle-and-nc-state-joint-lecture-2/
LOCATION:NC State Joint Lectures\, Burns Auditorium\, 2221 Katharine Stinson Drive\, Raleigh\, NC\, 27607\, United States
CATEGORIES:Joint Lecture Series
ORGANIZER;CN="Nikki Evans":MAILTO:anevans3@ncsu.edu
END:VEVENT
BEGIN:VEVENT
DTSTART;TZID=America/New_York:20190923T180000
DTEND;TZID=America/New_York:20190923T193000
DTSTAMP:20260425T061829
CREATED:20190826T215728Z
LAST-MODIFIED:20200303T231727Z
UID:10000008-1569261600-1569267000@aiatriangle.org
SUMMARY:AIA Triangle and NC State College of Design Joint Lecture - Frank Harmon\, FAIA
DESCRIPTION:AIA TRIANGLE AND NC STATE JOINT LECTURE SERIES \nSeptember 23\, 2019 | 6:00 pm \nNC State Burns Auditorium | Kamphoefner Hall \nFrank Harmon\, FAIA | Frank Harmon Architect \nJoin the College of Design at 6 PM in Burns Auditorium on Monday\, September 23rd for a lecture from Frank Harmon\, FAIA\, of Frank Harmon Architect. Part of the Joint Lecture Series with AIA Triangle. Frank Harmon will discuss and read from his new book Native Places: Drawing as a Way to See. He will then sign copies afterward which will be available for purchase. \nMORE INFO \n  \n  \n 
URL:https://aiatriangle.org/event/aia-triangle-and-nc-state-joint-lecture/
LOCATION:NC State Joint Lectures\, Burns Auditorium\, 2221 Katharine Stinson Drive\, Raleigh\, NC\, 27607\, United States
CATEGORIES:Joint Lecture Series
ORGANIZER;CN="Nikki Evans":MAILTO:anevans3@ncsu.edu
END:VEVENT
END:VCALENDAR