BEGIN:VCALENDAR
VERSION:2.0
PRODID:-//AIA Triangle - ECPv6.15.20//NONSGML v1.0//EN
CALSCALE:GREGORIAN
METHOD:PUBLISH
X-WR-CALNAME:AIA Triangle
X-ORIGINAL-URL:https://aiatriangle.org
X-WR-CALDESC:Events for AIA Triangle
REFRESH-INTERVAL;VALUE=DURATION:PT1H
X-Robots-Tag:noindex
X-PUBLISHED-TTL:PT1H
BEGIN:VTIMEZONE
TZID:America/New_York
BEGIN:DAYLIGHT
TZOFFSETFROM:-0500
TZOFFSETTO:-0400
TZNAME:EDT
DTSTART:20200308T070000
END:DAYLIGHT
BEGIN:STANDARD
TZOFFSETFROM:-0400
TZOFFSETTO:-0500
TZNAME:EST
DTSTART:20201101T060000
END:STANDARD
BEGIN:DAYLIGHT
TZOFFSETFROM:-0500
TZOFFSETTO:-0400
TZNAME:EDT
DTSTART:20210314T070000
END:DAYLIGHT
BEGIN:STANDARD
TZOFFSETFROM:-0400
TZOFFSETTO:-0500
TZNAME:EST
DTSTART:20211107T060000
END:STANDARD
BEGIN:DAYLIGHT
TZOFFSETFROM:-0500
TZOFFSETTO:-0400
TZNAME:EDT
DTSTART:20220313T070000
END:DAYLIGHT
BEGIN:STANDARD
TZOFFSETFROM:-0400
TZOFFSETTO:-0500
TZNAME:EST
DTSTART:20221106T060000
END:STANDARD
END:VTIMEZONE
BEGIN:VEVENT
DTSTART;TZID=America/New_York:20210930T120000
DTEND;TZID=America/New_York:20210930T130000
DTSTAMP:20260423T181604
CREATED:20210830T180930Z
LAST-MODIFIED:20210901T134541Z
UID:10000170-1633003200-1633006800@aiatriangle.org
SUMMARY:Lunch & Learn - The Understanding of Architectural Cast Stone Detailing
DESCRIPTION:AIA Triangle Lunch & Learn Program \nSponsored by \n \nThe Understanding of Architectural Cast Stone Detailing \n (1 AIA/HSW Credit) \nThursday\, September 30\, 2021 | 12:00 pm – 1:00 pm \nNC State University Club | 4200 Hillsborough Street | Raleigh\, NC 27606  \nFace masks are required inside the University Club for this program \nAIA Triangle Members/AIA Triangle Annual Partners: $0 | Non-members: $25 \nAttendees will receive information about how to properly detail Cast Stone for a variety of project types. Building movement and dead loads as a function of the design requirements for veneers are discussed. The proper use of anchors\, types of mortar\, sealant joints and kerfs on exterior veneer applications are also addressed in this informative session. Attendees will be able to understand appropriate specification of Cast Stone for architectural applications. \nLearning Objectives \n\nParticipants will learn the relationship of building movement and dead loads to Cast Stone installation\nParticipants will understand the use of anchors\, mortar and sealant joints and kerfs in Cast Stone veneers\nParticipants will understand the properties of Architectural Cast Stone\nParticipants will learn design and installation techniques as they relate to anchors and exterior Cast Stone veneers\n\nPresented by: \nCraig Lyon\, Custom Cast Stone\, Architectural Products Manager \nCraig has 25 years experience in architectural cast stone manufacturing.  With Custom Cast Stone\, he has handled everything from accounting\, sales\, and product development.  On a technical level he has worked with aggregate evaluation\, mold fabrication\, and cast stone installation.  He is a member of the Board of Directors for the Cast Stone Institute and serves as the Chairperson for the AIA Committee and Thin Stone Development Committee.  He also serves as a voting member on The Masonry Society’s Architectural Cast Stone committee for TMS Standards 404-504-604 \n\n\nFace masks are required inside the University Club for this program\nAIA Member/AIA Triangle Annual Partner: $0 | Non-Member $25\nSo we may have an accurate count for food\, RSVP is required by 10:00 am on September 28th
URL:https://aiatriangle.org/event/lunch-learn-the-understanding-of-architectural-cast-stone-detailing/
LOCATION:NC State University Club\, 4200 Hillsborough Street\, Raleigh\, NC\, 27606\, United States
CATEGORIES:Lunch and Learn
ORGANIZER;CN="Chris Stetkiewicz":MAILTO:info@aiatriangle.org
END:VEVENT
END:VCALENDAR