BEGIN:VCALENDAR
VERSION:2.0
PRODID:-//AIA Triangle - ECPv6.15.20//NONSGML v1.0//EN
CALSCALE:GREGORIAN
METHOD:PUBLISH
X-ORIGINAL-URL:https://aiatriangle.org
X-WR-CALDESC:Events for AIA Triangle
REFRESH-INTERVAL;VALUE=DURATION:PT1H
X-Robots-Tag:noindex
X-PUBLISHED-TTL:PT1H
BEGIN:VTIMEZONE
TZID:America/New_York
BEGIN:DAYLIGHT
TZOFFSETFROM:-0500
TZOFFSETTO:-0400
TZNAME:EDT
DTSTART:20240310T070000
END:DAYLIGHT
BEGIN:STANDARD
TZOFFSETFROM:-0400
TZOFFSETTO:-0500
TZNAME:EST
DTSTART:20241103T060000
END:STANDARD
BEGIN:DAYLIGHT
TZOFFSETFROM:-0500
TZOFFSETTO:-0400
TZNAME:EDT
DTSTART:20250309T070000
END:DAYLIGHT
BEGIN:STANDARD
TZOFFSETFROM:-0400
TZOFFSETTO:-0500
TZNAME:EST
DTSTART:20251102T060000
END:STANDARD
BEGIN:DAYLIGHT
TZOFFSETFROM:-0500
TZOFFSETTO:-0400
TZNAME:EDT
DTSTART:20260308T070000
END:DAYLIGHT
BEGIN:STANDARD
TZOFFSETFROM:-0400
TZOFFSETTO:-0500
TZNAME:EST
DTSTART:20261101T060000
END:STANDARD
END:VTIMEZONE
BEGIN:VEVENT
DTSTART;TZID=America/New_York:20250627T090000
DTEND;TZID=America/New_York:20250627T123000
DTSTAMP:20260425T125238
CREATED:20250521T205621Z
LAST-MODIFIED:20250603T135308Z
UID:10000641-1751014800-1751027400@aiatriangle.org
SUMMARY:NC Zoo Asia Exhibit: Case Study and Tour
DESCRIPTION:Building Enclosure Council – Research Triangle and Charlotte Chapters Present: \nNC Zoo Asia Exhibit: Case Study and Tour\nFriday\, June 27th\nNC Zoo\, Stedman Education Center\, Asheboro NC \nJoin us for a case study and project tour presented by Little Diversified Architectural Consulting and Rodgers Builders of the recently constructed Asia Exhibit before the official opening to the public in 2026!  This expansion project\, as part of the NC Connect Bond funding and generous donations from their Zoo Society Members\, will highlight habitats for iconic species such as tigers\, Komodo dragons\, Visayan warty pigs\, Asian small-clawed otters\, king cobras\, and white-cheeked gibbons.  The 12.5-acre project site\, located in the heart of the 2\,000-acre zoo\, consists of over 8 structures including an entrance bridge\, 300-person café\, gift shop\, viewing pavilion\, animal habitats\, and support buildings\, all designed to incorporate the textures\, shapes\, technology\, and cultural references from the animals’ native origins.  This event collaboration between the Charlotte and Research Triangle Building Enclosure Council chapters will take place on Friday June 27th and begin at the Stedman Education Center at the NC Zoo.  3 AIA CEUs (pending). \nEvent Schedule:\n9:00am                Registration & Breakfast\n9:30am                Project Presentation\n11:00am             Asia Exhibit Tour (Tram to tour location boards immediately after presentation)\n12:30pm             Event Ends \nRegistration: members/non-members $30 (includes Zoo Entry and Tram ticket)\, space is limited\, registration opens May 30th! \nClick here for information and to register. 
URL:https://aiatriangle.org/event/nc-zoo-asia-exhibit-case-study-and-tour/
LOCATION:NC Zoo\, Stedman Education Center\, 4401 Zoo Parkway\, Asheboro\, NC\, 27205\, United States
CATEGORIES:BEC Program/Event
END:VEVENT
END:VCALENDAR