BEGIN:VCALENDAR
VERSION:2.0
PRODID:-//AIA Triangle - ECPv6.15.20//NONSGML v1.0//EN
CALSCALE:GREGORIAN
METHOD:PUBLISH
X-WR-CALNAME:AIA Triangle
X-ORIGINAL-URL:https://aiatriangle.org
X-WR-CALDESC:Events for AIA Triangle
REFRESH-INTERVAL;VALUE=DURATION:PT1H
X-Robots-Tag:noindex
X-PUBLISHED-TTL:PT1H
BEGIN:VTIMEZONE
TZID:America/New_York
BEGIN:DAYLIGHT
TZOFFSETFROM:-0500
TZOFFSETTO:-0400
TZNAME:EDT
DTSTART:20210314T070000
END:DAYLIGHT
BEGIN:STANDARD
TZOFFSETFROM:-0400
TZOFFSETTO:-0500
TZNAME:EST
DTSTART:20211107T060000
END:STANDARD
BEGIN:DAYLIGHT
TZOFFSETFROM:-0500
TZOFFSETTO:-0400
TZNAME:EDT
DTSTART:20220313T070000
END:DAYLIGHT
BEGIN:STANDARD
TZOFFSETFROM:-0400
TZOFFSETTO:-0500
TZNAME:EST
DTSTART:20221106T060000
END:STANDARD
BEGIN:DAYLIGHT
TZOFFSETFROM:-0500
TZOFFSETTO:-0400
TZNAME:EDT
DTSTART:20230312T070000
END:DAYLIGHT
BEGIN:STANDARD
TZOFFSETFROM:-0400
TZOFFSETTO:-0500
TZNAME:EST
DTSTART:20231105T060000
END:STANDARD
BEGIN:DAYLIGHT
TZOFFSETFROM:-0500
TZOFFSETTO:-0400
TZNAME:EDT
DTSTART:20240310T070000
END:DAYLIGHT
BEGIN:STANDARD
TZOFFSETFROM:-0400
TZOFFSETTO:-0500
TZNAME:EST
DTSTART:20241103T060000
END:STANDARD
END:VTIMEZONE
BEGIN:VEVENT
DTSTART;TZID=America/New_York:20230426T090000
DTEND;TZID=America/New_York:20230426T173000
DTSTAMP:20260423T060014
CREATED:20230309T182653Z
LAST-MODIFIED:20230422T154055Z
UID:10000457-1682499600-1682530200@aiatriangle.org
SUMMARY:Multi Family Accessibility (Earn 8 HSW)
DESCRIPTION:MULTI FAMILY ACCESSIBILITY (8 AIA LU/HSW)\n\n\nWednesday\, April 26\, 2023 | 9:00 AM – 5:30 PM\n\n\nMAXIMUM CAPACITY IS 120 ATTENDEES \n\n\n(Registration Deadline: Friday\, April 21 @ 5:00 PM)\n\n\nIn-person only | Lunch will be provided\n\n\nNC Emergency Management\n\n\n1636 Gold Star Drive | Raleigh\, NC 27607\n\n\n\n\nAIA Members/AIA Triangle Annual Partners: $130\nAIA Members with ‘Associate AIA’ designation: $70\nNon-members: $175\n\nREFUND POLICY \nRefunds must be requested in writing (by email) 5 business days prior to the program date. The refund amount will be paid by check.  AIA Triangle withholds the right to deny or approve any refund based on condition or circumstance. \n\nParticipants must bring valid driver’s license to present at security gate\nNo on-site registrations sold on the day of the program (pre-registration only)\nBecause of security list\, registrants will not be allowed to exchange registration with a different person if unable to attend. (See refund policy above)\n\n\nRequirements that impact multi-family housing accessibility\, as found in the Fair Housing Accessibility Guidelines\, the 2018 NC Building Code and its Accessibility Standard A117.1 – 2009\, the 2010 ADA Standards and new safe harbor standards approved by the US Department of Housing and Urban Development (HUD) for compliance with the Federal Fair Housing Act Accessibility Guidelines. \n\nUpon completion of this program\, participants will review relevant areas from the 2010 ADA Standards for Accessible Design will also be reviewed. Participants will examine problem application areas in applying these requirements to public and common-use areas including exterior amenities\, exterior accessible routes\, accessible parking\, and interior features (mail rooms\, fitness centers\, community rooms\, kitchens\, etc.)\nParticipants will understand the differences of the new North Carolina Building Code and its impact on Residential Occupancies.\nParticipants will recognize requirements within residential units with focus on the different requirements applicable to Type A and Type B Units including unit entries\, door thresholds\, kitchen clearances\, appliances\, bathroom clearances\, fixtures\, patios/balconies\, and operable parts within the dwelling unit.\nParticipants will understand how Section 504 of the Rehabilitation Act of 1973 and the Uniform Federal Accessibility Standards (UFAS) impact publicly funded projects including the North Carolina Housing Finance Agency. Participants will further identify and distinguish settlements and court cases along with common issues on accessibility plan reviews.\nParticipants will understand the differences between A117.1 – 2009 and A117.1 – 2017 (the updated Accessibility Standard being referenced in jurisdictions referencing the 2021 edition of the International Building Code (IBC)\nParticipants will understand Department of Justice’s Accessibility Inspection Protocol (DOJ is the Federal Agency that enforces the Federal Fair Housing Act Accessibility Guidelines)\n\n\nDominic Martinelli\, Vice President\, Accessibility Services \n\nDominic Marinelli has been with the United Spinal Association for over 30 years. Mr. Marinelli provides continuing education to members of the American Institute of Architects (AIA) and the Society of American Registered Architects (SARA). He is a Contract Instructor for the International Codes Council (ICC) and an Adjunct Faculty Member at Pratt’s Center for Continuing & Professional Studies in New York City.\n\n\n\n  \nMr. Marinelli is a certified Accessibility Specialist/Plans Examiner by the International Code Council and serves on various committees including American National Standard Institute Residential Committee which he serves as Chair. He also represented the United Spinal Association on the US Access Board’s Emergency Transportable Housing Advisory Committee.\n  \nMr. Marinelli holds a Master of Science from the State University of New York at Buffalo. He is certified in code enforcement by the New York State Department of State Codes Division and as an Accessibility Specialist/Plans Examiner by the International Codes Council (ICC).
URL:https://aiatriangle.org/event/multi-family-accessibility-earn-8-hsw/
LOCATION:North Carolina Emergency Management\, 1636 Gold Star Drive\, Raleigh\, NC\, 27699\, United States
CATEGORIES:CE Program
ORGANIZER;CN="AIA Triangle":MAILTO:info@aiatriangle.org
END:VEVENT
BEGIN:VEVENT
DTSTART;TZID=America/New_York:20221011T090000
DTEND;TZID=America/New_York:20221011T160000
DTSTAMP:20260423T060014
CREATED:20220720T153325Z
LAST-MODIFIED:20220815T192933Z
UID:10000366-1665478800-1665504000@aiatriangle.org
SUMMARY:FEMA Disaster Assistance Training
DESCRIPTION:FEMA Disaster Assistance Training\n\n\nTuesday\, October 11 | 9:00 AM – 4:00 PM \n\n\n(Registration Deadline: Friday October 7 @ 5:00 PM)\n\n\nNC Emergency Management\n\n\n1636 Gold Star Drive | Raleigh\, NC 27607\n\n\n6 AIA LU/HSW credits\n\n\nAIA Members: $195 | ONLY AIA Members with ‘Associate AIA‘ designation: $125 \n\n\nNon-AIA Members: $275\n\n\nRegistration Includes: Morning Coffee | Lunch | Print Materials\n\n\n\nSPACE IS LIMITED TO 75 PARTICIPANTS \n\n\n\n\n\n\n\n\n\nThis program will provide training to architects\, engineers\, and others in the building profession to efficiently and effectively\, evaluate buildings and infrastructure following a hurricane or other disaster\, either natural or manmade\, so that residents and employees can return to their homes and businesses as quickly as possible. \nThrough this program\, we will train and equip professionals with the knowledge\, resources\, and credentials to gain access to disaster sites\, collaborate with public safety escorts and accompany inspection teams during evaluations to make assessments\, evaluations\, and recommendations. This course and certification process will add new volunteers to the established database of certified volunteers so that they can be mobilized in the event of a disaster. In addition\, the course can be taken by those who need to renew their Cal OES certification for an additional five years. \n\n\n\nLEARNING OBJECTIVES\n\n\n1) Participants will learn the protocol and chain of command of the National Incident Management System that enables architects\, engineers and building inspectors to contribute to disaster preparedness\, response\, and recovery\n\n\n2) Participants will describe and assess common damage and safety of infrastructure post-disaster\n\n\n3) Participants will demonstrate their understanding of the Applied Technology Council’s ATC-45 Post-hurricane Safety Evaluation of Buildings and ATC 45 Safety Evaluation of Buildings after Windstorms and Floods damage assessment procedures\n\n\n4) Licensed architects\, engineers\, and ICC-certified building inspectors will receive a Cal-OES\n\n\n \n\n\nPRESENTED BY\n\n\nKlaus Perkins PE\, SE\, CDT\, LEED AP BD+C\n\n\nDepartment Head – Structural\, Associate Principal | Clark Nexsen\n\n\nKlaus Perkins is an Associate Principal and Structural Department Head with Clark Nexsen\, Inc. and holds professional engineering licenses in North Carolina\, Virginia\, California\, and Florida. He is a Structures Specialist for North Carolina USAR Task Force 8\, the Mid-Atlantic Regional Coordinator for the NCSEA SEER Committee\, and a Cal OES Assessor\, Coordinator\, and Instructor. Klaus was involved in the 2020 Puerto Rico Earthquake EMAC response and conducted a rapid assessment of over two hundred damaged structures.\n\n\n \n\n\n\nREGISTRATION \n\nAIA Member $195 | ONLY AIA Members with ‘Associate AIA’ designation $125\nNon-AIA Member $275\nDeadline to register is Friday\, October 7 @ 5:00 pm (ET)\nRegistrants must bring picture ID to present at the security gate to access the NC Emergency Management facility\nRegistration includes: Morning Coffee | Lunch | Print Materials\n\n\nRefunds must be requested in writing (by email) 7 business days prior to the program date. The refund amount will be paid by check or credit card depending on the original payment method and may be subject to a service fee. AIA Triangle withholds the right to deny or approve any refund based on condition or circumstance.
URL:https://aiatriangle.org/event/fema-disaster-assistance-training/
LOCATION:North Carolina Emergency Management\, 1636 Gold Star Drive\, Raleigh\, NC\, 27699\, United States
CATEGORIES:CE Program
ORGANIZER;CN="Chris Stetkiewicz":MAILTO:info@aiatriangle.org
END:VEVENT
END:VCALENDAR