BEGIN:VCALENDAR
VERSION:2.0
PRODID:-//AIA Triangle - ECPv6.15.20//NONSGML v1.0//EN
CALSCALE:GREGORIAN
METHOD:PUBLISH
X-ORIGINAL-URL:https://aiatriangle.org
X-WR-CALDESC:Events for AIA Triangle
REFRESH-INTERVAL;VALUE=DURATION:PT1H
X-Robots-Tag:noindex
X-PUBLISHED-TTL:PT1H
BEGIN:VTIMEZONE
TZID:America/New_York
BEGIN:DAYLIGHT
TZOFFSETFROM:-0500
TZOFFSETTO:-0400
TZNAME:EDT
DTSTART:20220313T070000
END:DAYLIGHT
BEGIN:STANDARD
TZOFFSETFROM:-0400
TZOFFSETTO:-0500
TZNAME:EST
DTSTART:20221106T060000
END:STANDARD
BEGIN:DAYLIGHT
TZOFFSETFROM:-0500
TZOFFSETTO:-0400
TZNAME:EDT
DTSTART:20230312T070000
END:DAYLIGHT
BEGIN:STANDARD
TZOFFSETFROM:-0400
TZOFFSETTO:-0500
TZNAME:EST
DTSTART:20231105T060000
END:STANDARD
BEGIN:DAYLIGHT
TZOFFSETFROM:-0500
TZOFFSETTO:-0400
TZNAME:EDT
DTSTART:20240310T070000
END:DAYLIGHT
BEGIN:STANDARD
TZOFFSETFROM:-0400
TZOFFSETTO:-0500
TZNAME:EST
DTSTART:20241103T060000
END:STANDARD
END:VTIMEZONE
BEGIN:VEVENT
DTSTART;TZID=America/New_York:20230504T163000
DTEND;TZID=America/New_York:20230504T173000
DTSTAMP:20260423T042551
CREATED:20230209T154912Z
LAST-MODIFIED:20230427T174313Z
UID:10000449-1683217800-1683221400@aiatriangle.org
SUMMARY:CE & BBQ Festival: Vanguards in Color
DESCRIPTION:AIA Triangle CE & BBQ Festival\n\n\nSponsored by Zackery Michael Commercial Construction\n\n\nVanguards in Color (1 AIA LU credit)\n\n\nZackery Michael Office | 2449 Lynn Road\, Raleigh\, NC\n\n\nMay 4\, 2023 | 4:30 PM – 5:30 PM \n4:30 PM – 5:30 PM Continuing education program \n5:30 PM- 7:30 PM Zackery Michaels Annual BBQ Festival\n\n\n\n\n\n\n\n\n\n\nThis course focuses on the importance of color selection in architectural design as illustrated through the work of influential architects and designers\, while exploring the Benjamin Moore Color Trends 2023 palette and concept. \n\n\n\n\n\nLEARNING OBJECTIVES\n\n\n\n\nRecognize the importance of color selection in interior design as illustrated through the work of two influential interior designers who used color as a characteristic of their projects\, impacting the future of interior design. \nUsing various structures as examples\, understand the role that color plays in architecture and how selected architects used color in creative and unexpected ways.\nConnect the color selection process to the importance of specifying products with performance attributes that will bring color and design vision to life.\nBe cognizant of the ways in which Light Reflectance Value (LRV) is critical to understand how a given color will react to the lighting in a space. Understand the concepts and points of inspiration that influenced the development of the Color Trends 2023 palette.\n\n\n\n\nPRESENTED BY\n\n\nJames Brice Architect + Designer Representative- VA & Central NC\n\n\nJames Brice is an Architectural + Design Representative for Benjamin Moore with over twenty-five years experience in the architectural products industry\, during which time he has worn many hats\, including designer\, salesperson\, project manager\, product developer\, marketer\, trainer\, and brand evangelist. In his current role with Benjamin Moore\, James draws upon his experience and diverse skill-set to support the architecture and design community in the southeast region\, providing product and color education\, technical consultations\, and specification writing.\n\n\n\nIN-PERSON REGISTRATION – REGISTER HERE
URL:https://aiatriangle.org/event/ce-happy-hour-vanguards-in-color/
LOCATION:Zackery Michael Construction\, 2449 Lynn Road\, Raleigh\, NC\, 27612\, United States
CATEGORIES:Lunch and Learn
ORGANIZER;CN="AIA Triangle":MAILTO:info@aiatriangle.org
END:VEVENT
END:VCALENDAR