BEGIN:VCALENDAR
VERSION:2.0
PRODID:-//AIA Triangle - ECPv6.15.20//NONSGML v1.0//EN
CALSCALE:GREGORIAN
METHOD:PUBLISH
X-WR-CALNAME:AIA Triangle
X-ORIGINAL-URL:https://aiatriangle.org
X-WR-CALDESC:Events for AIA Triangle
REFRESH-INTERVAL;VALUE=DURATION:PT1H
X-Robots-Tag:noindex
X-PUBLISHED-TTL:PT1H
BEGIN:VTIMEZONE
TZID:America/New_York
BEGIN:DAYLIGHT
TZOFFSETFROM:-0500
TZOFFSETTO:-0400
TZNAME:EDT
DTSTART:20180311T070000
END:DAYLIGHT
BEGIN:STANDARD
TZOFFSETFROM:-0400
TZOFFSETTO:-0500
TZNAME:EST
DTSTART:20181104T060000
END:STANDARD
BEGIN:DAYLIGHT
TZOFFSETFROM:-0500
TZOFFSETTO:-0400
TZNAME:EDT
DTSTART:20190310T070000
END:DAYLIGHT
BEGIN:STANDARD
TZOFFSETFROM:-0400
TZOFFSETTO:-0500
TZNAME:EST
DTSTART:20191103T060000
END:STANDARD
BEGIN:DAYLIGHT
TZOFFSETFROM:-0500
TZOFFSETTO:-0400
TZNAME:EDT
DTSTART:20200308T070000
END:DAYLIGHT
BEGIN:STANDARD
TZOFFSETFROM:-0400
TZOFFSETTO:-0500
TZNAME:EST
DTSTART:20201101T060000
END:STANDARD
END:VTIMEZONE
BEGIN:VEVENT
DTSTART;TZID=America/New_York:20191027T140000
DTEND;TZID=America/New_York:20191027T160000
DTSTAMP:20260423T192725
CREATED:20191017T165513Z
LAST-MODIFIED:20200303T213733Z
UID:10000027-1572184800-1572192000@aiatriangle.org
SUMMARY:YAF/EP - Hello Fall\, Family Friendly Social
DESCRIPTION:Hello Fall – A Family Friendly Social \nOctober 27\, 2019 | 2:00 pm to 4:00 pm \nPage Farms\, 6100 Mount Herman Road\, Raleigh\, NC 27617 \nSnacks and Refreshments Provided \nFREE for all AIA Triangle Members and Sponsors \nRSVP REQUIRED BY OCTOBER 25TH \nJoin the Young Architects Forum & Emerging Professionals at Page Farms to pick your own pumpkin from the vine\, explore the corn maze\, take a hayride\, play in the corn crib\, slide down the hay stack slide\, ride the cow train\, enjoy the farm animals\, have a duck run race\, and much more! Must RSVP with number of guests by Friday\, October 25th. \n 
URL:https://aiatriangle.org/event/yaf-ep-hello-fall-family-friendly-social/
LOCATION:Page Farms\, 6100 Mount Herman Road\, Raleigh\, NC\, 27617\, United States
CATEGORIES:YAF
END:VEVENT
END:VCALENDAR