BEGIN:VCALENDAR
VERSION:2.0
PRODID:-//AIA Triangle - ECPv6.15.20//NONSGML v1.0//EN
CALSCALE:GREGORIAN
METHOD:PUBLISH
X-ORIGINAL-URL:https://aiatriangle.org
X-WR-CALDESC:Events for AIA Triangle
REFRESH-INTERVAL;VALUE=DURATION:PT1H
X-Robots-Tag:noindex
X-PUBLISHED-TTL:PT1H
BEGIN:VTIMEZONE
TZID:America/New_York
BEGIN:DAYLIGHT
TZOFFSETFROM:-0500
TZOFFSETTO:-0400
TZNAME:EDT
DTSTART:20180311T070000
END:DAYLIGHT
BEGIN:STANDARD
TZOFFSETFROM:-0400
TZOFFSETTO:-0500
TZNAME:EST
DTSTART:20181104T060000
END:STANDARD
BEGIN:DAYLIGHT
TZOFFSETFROM:-0500
TZOFFSETTO:-0400
TZNAME:EDT
DTSTART:20190310T070000
END:DAYLIGHT
BEGIN:STANDARD
TZOFFSETFROM:-0400
TZOFFSETTO:-0500
TZNAME:EST
DTSTART:20191103T060000
END:STANDARD
BEGIN:DAYLIGHT
TZOFFSETFROM:-0500
TZOFFSETTO:-0400
TZNAME:EDT
DTSTART:20200308T070000
END:DAYLIGHT
BEGIN:STANDARD
TZOFFSETFROM:-0400
TZOFFSETTO:-0500
TZNAME:EST
DTSTART:20201101T060000
END:STANDARD
BEGIN:DAYLIGHT
TZOFFSETFROM:-0500
TZOFFSETTO:-0400
TZNAME:EDT
DTSTART:20210314T070000
END:DAYLIGHT
BEGIN:STANDARD
TZOFFSETFROM:-0400
TZOFFSETTO:-0500
TZNAME:EST
DTSTART:20211107T060000
END:STANDARD
BEGIN:DAYLIGHT
TZOFFSETFROM:-0500
TZOFFSETTO:-0400
TZNAME:EDT
DTSTART:20220313T070000
END:DAYLIGHT
BEGIN:STANDARD
TZOFFSETFROM:-0400
TZOFFSETTO:-0500
TZNAME:EST
DTSTART:20221106T060000
END:STANDARD
BEGIN:DAYLIGHT
TZOFFSETFROM:-0500
TZOFFSETTO:-0400
TZNAME:EDT
DTSTART:20230312T070000
END:DAYLIGHT
BEGIN:STANDARD
TZOFFSETFROM:-0400
TZOFFSETTO:-0500
TZNAME:EST
DTSTART:20231105T060000
END:STANDARD
END:VTIMEZONE
BEGIN:VEVENT
DTSTART;TZID=America/New_York:20220426T090000
DTEND;TZID=America/New_York:20220426T170000
DTSTAMP:20260425T075427
CREATED:20220309T192330Z
LAST-MODIFIED:20220415T125940Z
UID:10000295-1650963600-1650992400@aiatriangle.org
SUMMARY:Multi Family Accessibility (8 LU/HSW Credits)
DESCRIPTION:SOLD OUT \nWe have reached capacity for this program. \n No on-site registrations will be accepted on the day of the program \nMULTI FAMILY ACCESSIBLITY (8 AIA LU/HSW) \nTuesday\, April 26\, 2022 | 9:00 AM – 5:00 PM  \nMAXIMUM CAPACITY IS 120 ATTENDEES  \n(Registration Deadline: Friday\, April 22 @ 5:00 PM) \nIn-person only | Lunch will be provided \nPNC Arena Meeting Room \n1400 Edwards Mill Road | Raleigh\, NC 27607 \n\nAIA Members/AIA Triangle Annual Partners: $130\nAIA Members with ‘Associate AIA’ designation: $70\nNon-members: $175\n\nREFUND POLICY \nRefunds must be requested in writing (by email) 7 business days prior to the program date. The refund amount will be paid by check or with credit card depending on the original payment method and may be subject to a service fee. AIA Triangle withholds the right to deny or approve any refund based on condition or circumstance. \n\nThis 8-hour course will provide attendees with a review of the accessibility requirements that impact multi-family housing accessibility\, as found in the Fair Housing Accessibility Guidelines\, the 2018 NC Building Code and its Accessibility Standard A117.1 – 2009\, the 2010 ADA Standards and new safe harbor standards approved by the US Department of Housing and Urban Development (HUD) for compliance with the Federal Fair Housing Act Accessibility Guidelines. \n\nUpon completion of this program\, participants will review relevant areas from the 2010 ADA Standards for Accessible Design will also be reviewed.\nParticipants will examine problem application areas in applying these requirements to public and common-use areas including exterior amenities\, exterior accessible routes\, accessible parking\, and interior features (mail rooms\, fitness centers\, community rooms\, kitchens\, etc.)\nParticipants will understand the differences of the new North Carolina Building Code and its impact on Residential Occupancies\nParticipants will recognize requirements within residential units with focus on the different requirements applicable to Type A and Type B Units including unit entries\, door thresholds\, kitchen clearances\, appliances\, bathroom clearances\, fixtures\, patios/balconies\, and operable parts within the dwelling unit.\nParticipants will understand how Section 504 of the Rehabilitation Act of 1973 and the Uniform Federal Accessibility Standards (UFAS) impact publicly funded projects including the North Carolina Housing Finance Agency\nParticipants will further identify and distinguish settlements and court cases along with common issues on accessibility plan reviews.\n\n\nDominic Martinelli\, Vice President\, Accessibility Services \n\n\n\n\n\nDominic Marinelli has been with the United Spinal Association for over 30 years. Mr. Marinelli provides continuing education to members of the American Institute of Architects (AIA) and the Society of American Registered Architects (SARA). He is a Contract Instructor for the International Codes Council (ICC) and an Adjunct Faculty Member at Pratt’s Center for Continuing & Professional Studies in New York City.\n  \nMr. Marinelli is a certified Accessibility Specialist/Plans Examiner by the International Code Council and serves on various committees including American National Standard Institute Residential Committee which he serves as Chair. He also represented the United Spinal Association on the US Access Board’s Emergency Transportable Housing Advisory Committee.\n  \nMr. Marinelli holds a Master of Science from the State University of New York at Buffalo. He is certified in code enforcement by the New York State Department of State Codes Division and as an Accessibility Specialist/Plans Examiner by the International Codes Council (ICC).
URL:https://aiatriangle.org/event/multi-family-accessibility-8-lu-hsw-credits/
LOCATION:PNC Arena\, 1400 Edwards Mill Road\, Raleigh\, NC\, United States
CATEGORIES:CE Program
ORGANIZER;CN="Chris Stetkiewicz":MAILTO:info@aiatriangle.org
END:VEVENT
BEGIN:VEVENT
DTSTART;TZID=America/New_York:20190911T093000
DTEND;TZID=America/New_York:20190911T173000
DTSTAMP:20260425T075427
CREATED:20190827T003027Z
LAST-MODIFIED:20200304T005608Z
UID:10000067-1568194200-1568223000@aiatriangle.org
SUMMARY:Multi Family Accessibility
DESCRIPTION:REGISTRATION FOR THIS PROGRAM HAS CLOSED \n Multi-Family Accessibility \nSeptember 11\, 2019 | 9:30 am – 5:30 pm (Registration begins at 9:00 am) \nPNC Arena | 1400 Edwards Mill Road | Raleigh \n8 HSW Credits  | Lunch Provided \nAIA Members/Sponsors:  $130 | AIA Member with Assoc. AIA Designation: $70 \nNon Members: $150 | Students: $60 \nThis 8-hour course will provide attendees with a review of the accessibility requirements that impact multi-family housing accessibility\, as found in the 2018 NC Building Code and the 2009 ANSI A117.1 standard. \nLEARNING OBJECTIVES \n\nUpon completion of this program\, participants will review relevant areas from the 2010 ADA Standards for Accessible Design will also be reviewed.\nParticipants will examine problem application areas in applying these requirements to public and common-use areas including exterior amenities\, exterior accessible routes\, accessible parking and interior features (mail rooms\, fitness centers\, community rooms\, kitchens\, etc.)\nParticipants will understand the differences of the new North Carolina Building Code and its impact on Residential Occupancies. Participants will recognize requirements within residential units with focus on the different requirements applicable to Type A and Type B Units including unit entries\, door thresholds\, kitchen clearances\, appliances\, bathroom clearances\, fixtures\, patios/balconies and operable parts within the dwelling unit.\nParticipants will understand how Section 504 of the Rehabilitation Act of 1973 and the Uniform Federal Accessibility Standards (UFAS) impact publicly-funded projects including the North Carolina Housing Finance Agency. Participants will further identify and distinguish settlements and court cases along with common issues on accessibility plan reviews.\n\nPRESENTED BY \nDominic Martinelli\, Vice President\, Accessibility Services \nDominic Marinelli has been with the United Spinal Association for 31 years. \nAccessibility Services is a program of the United Spinal Association (formerly the Eastern Paralyzed Veterans Association).  Since our founding in 1946 we have participated in the drafting as well as the interpretation of the Fair Housing Act Accessibility Guidelines\, the 1991 ADA Standards and the 2010 ADA Standards as well as the American National Standards Institute Committee for Accessibility and Usability to Buildings and Facilities to develop A117.1\, the accessibility standard referenced by building code’s throughout the country.  \nThe team also works to develop the accessibility requirements of the International Building Code (IBC) and the International Existing Building Code (IEBC) with the International Codes Council (ICC) \n\nIMPORTANT REMINDERS: \n\nBe sure to watch Friday Facts and check the website prior to the program for any last-minute program updates or announcements\nSo we may have accurate counts\, if for some reason you are unable to attend the program\, please email chris@aiatriangle.org\n\nRegistration Refund Policy \nRequests for refunds must be submitted in writing no later than 14 days prior to the date of the program. Requests for refunds may be emailed to info@aiatriangle.org for consideration. The approved refund amount will be paid by check or credit card depending on original payment method and may be subject to a service fee.  AIA Triangle withholds the right to deny or approve any refund based on condition or circumstance. \nBy registering for this event you understand that you may be photographed during the course of the event and consent to publication of any such images (online\, digital\, or analog).
URL:https://aiatriangle.org/event/multi-family-accessibility/
LOCATION:PNC Arena\, 1400 Edwards Mill Road\, Raleigh\, NC\, United States
CATEGORIES:CE Program
ORGANIZER;CN="Chris Stetkiewicz":MAILTO:info@aiatriangle.org
END:VEVENT
END:VCALENDAR