BEGIN:VCALENDAR
VERSION:2.0
PRODID:-//AIA Triangle - ECPv6.15.20//NONSGML v1.0//EN
CALSCALE:GREGORIAN
METHOD:PUBLISH
X-ORIGINAL-URL:https://aiatriangle.org
X-WR-CALDESC:Events for AIA Triangle
REFRESH-INTERVAL;VALUE=DURATION:PT1H
X-Robots-Tag:noindex
X-PUBLISHED-TTL:PT1H
BEGIN:VTIMEZONE
TZID:America/New_York
BEGIN:DAYLIGHT
TZOFFSETFROM:-0500
TZOFFSETTO:-0400
TZNAME:EDT
DTSTART:20240310T070000
END:DAYLIGHT
BEGIN:STANDARD
TZOFFSETFROM:-0400
TZOFFSETTO:-0500
TZNAME:EST
DTSTART:20241103T060000
END:STANDARD
BEGIN:DAYLIGHT
TZOFFSETFROM:-0500
TZOFFSETTO:-0400
TZNAME:EDT
DTSTART:20250309T070000
END:DAYLIGHT
BEGIN:STANDARD
TZOFFSETFROM:-0400
TZOFFSETTO:-0500
TZNAME:EST
DTSTART:20251102T060000
END:STANDARD
BEGIN:DAYLIGHT
TZOFFSETFROM:-0500
TZOFFSETTO:-0400
TZNAME:EDT
DTSTART:20260308T070000
END:DAYLIGHT
BEGIN:STANDARD
TZOFFSETFROM:-0400
TZOFFSETTO:-0500
TZNAME:EST
DTSTART:20261101T060000
END:STANDARD
BEGIN:DAYLIGHT
TZOFFSETFROM:-0500
TZOFFSETTO:-0400
TZNAME:EDT
DTSTART:20270314T070000
END:DAYLIGHT
BEGIN:STANDARD
TZOFFSETFROM:-0400
TZOFFSETTO:-0500
TZNAME:EST
DTSTART:20271107T060000
END:STANDARD
END:VTIMEZONE
BEGIN:VEVENT
DTSTART;TZID=America/New_York:20260220T083000
DTEND;TZID=America/New_York:20260220T120000
DTSTAMP:20260424T195757
CREATED:20251205T030049Z
LAST-MODIFIED:20260209T175946Z
UID:10000678-1771576200-1771588800@aiatriangle.org
SUMMARY:4th Annual Women in Architecture Breakfast
DESCRIPTION:4th Annual Women in Architecture BreakfastFeaturing Morgan Chawaga of “The Healthy Architect”Friday\, February 20\, 20268:30 AM – 12:00 PMPrestonwood Country Club | 300 Prestonwood Pkwy Cary\, NC 275132 LUTicketsMembers – $50 | Non-Members – $80Tickets are now SOLD OUT.To be placed on a waitlist and notified if tickets become available\, please email us.Students – Are you a student interested in attending?Contact us to get on a waitlist for complimentary\, sponsored tickets. \n  \nNegotiating Your Value So Everyone Wins \nUnlock your potential in the AEC industry by mastering the art of negotiation. This session empowers architects at all career stages to recognize and assert their value. Through practical insights and strategies\, you’ll learn how to approach compensation discussions and professional growth opportunities\, while advancing with confidence. Perfect for emerging professionals and seasoned architects alike\, this workshop provides actionable tools to help you drive meaningful conversations that enhance your projects\, your career and foster a more inclusive\, value-driven work. Join us to start building a career where your contributions are fully recognized and rewarded.After the conference\, attendees will return to their firms equipped with a renewed sense of self-worth and practical negotiation strategies that elevate both individual careers and firm standards. By implementing these skills\, attendees can advocate more effectively for fair compensation and professional growth opportunities. This not only benefits their personal development but also contributes to a workplace culture where value is recognized\, improving employee retention and job satisfaction across the industry. Ultimately\, this session fosters a more resilient\, equitable AEC field by empowering architects to drive impactful change from within their practices. \n\n\n\n \n\n\n\n  \n\n \nAbout Morgan Chawaga\, Career + Business Coach and Founder of The Healthy Architect \nMorgan Chawaga is a career and business coach and the founder of The Healthy Architect\, dedicated to helping architects create MORE IMPACT and MORE INCOME. Through her evidence-based coaching\, Morgan has successfully guided architects to secure job offers with salaries up to $70\,000 above their current earnings\, double their revenue in less than 6 months\, and become firm owners\, all while achieving 32-hour work weeks. With a focus on strategic negotiation and work life balance\, she empowers her clients to thrive both personally and professionally. Through her coaching\, architects – both employees and employers – are making and living MORE. \nInstagram: @the_healthy_architect_ | Facebook: Morgan Chawaga | Website: www.thehealthyarchitect.org | Podcast: The Healthy Architect\, LCC \n\n\n\n\n \n\n\n \n\n\n \n\n\n \n\n\n\nThank you to our 2026 WIA Breakfast Sponsors! \n \nReach out to us at info@aiatriangle.org for more information on sponsorship. Thank you for your support!
URL:https://aiatriangle.org/event/fourth-annual-women-in-architecture-breakfast/
LOCATION:Prestonwood Country Club\, 300 Prestonwood Pkwy\, Cary\, NC\, 27513\, United States
CATEGORIES:Women in Architecture
END:VEVENT
BEGIN:VEVENT
DTSTART;TZID=America/New_York:20250314T083000
DTEND;TZID=America/New_York:20250314T120000
DTSTAMP:20260424T195757
CREATED:20241206T193148Z
LAST-MODIFIED:20250307T183934Z
UID:10000597-1741941000-1741953600@aiatriangle.org
SUMMARY:3rd Annual Women in Architecture Breakfast - NEW DATE!
DESCRIPTION:3rd Annual Women in Architecture Breakfast – NEW DATE!\n\n\nStrength in Action: Women Redefining Leadership in Architecture\n\n\n\n\n\nFriday\, March 14\, 2025 | 8:30 AM – 12:00 PM\n\n\nPrestonwood County Club | 300 Prestonwood Pkwy | Cary\, NC 27513\n\n\nDeadline for individual registration is Friday\, March 7th at 5:00 PM Sponsor registration is closed. \n\n\n\n\n\n\n \n\n\n\n\n\n\n\n\nReady to advance your career and connect with inspiring leaders in architecture? Join AIA Triangle Women in Architecture for the third annual WIA Breakfast on Friday\, February 21\, 2025. This year’s theme\, Strength in Action: Women Redefining Leadership in Architecture\, celebrates the unique strengths women bring to the profession and their role in reshaping the industry in innovative ways. The event kicks off with a keynote highlighting how women are leading in diverse and impactful ways across our industry. Following the keynote\, a panel of accomplished women—including small\, midsize\, and large firms—will share career stories\, challenges\, and lessons learned in a dynamic discussion with participants. The morning concludes with breakout table discussions\, offering attendees the chance to reflect\, exchange ideas\, and connect with peers\, mentors\, and industry leaders. Topics will include discovering strengths\, overcoming barriers\, redefining leadership\, and closing the gap. Don’t miss this inspiring opportunity to celebrate the leadership and impact of women in our region. Grab your seat now! This event has sold out two years in a row!\n\n\n\nMEETING SCHEDULE \n\n\n\n\n8:30 AM – 9:00 AM: Registration \n9:00 am – 9:30 AM: Breakfast & Networking \n9:30 AM – 10:45 AM: Keynote & Panel \n10:45 AM – 11:45 AM: Breakout Table Discussions  \n11:45 AM – 12:00 PM: Conclusion \n\n\n\n Keynote & Facilitator: Je’Nen M. Chastain\, MBA\, Founder of Apostrophe Consulting Je’Nen launched her Raleigh-based consulting practice in 2019\, following 10 years working in architectural practice in the Bay Area. Blending her background in architecture and an MBA in social entrepreneurship\, she now focuses on helping AEC leaders drive strategic growth and transformation within their companies. Since founding Apostrophe Consulting\, she has supported over 30 businesses and 300 leaders nationwide in achieving their goals. To learn more visit: Apostrophe Consulting\n\n\n  Panelists: Angela Watson\, FAIA – President and CEO at Shepley Bulfinch Angela became CEO of Shepley Bulfinch in 2021\, leading the firm into its next era while honoring its 150-year legacy. A nationally recognized design leader with over 20 years of experience\, she also represents Shepley Bulfinch on the AIA Large Firm Round Table contributing to vital conversations on industry leadership. Cathy Morrison\, CEO – Partner at Neighboring Concepts As CEO of Neighboring Concepts\, Cathy is leading this purpose-driven\, midsize firm into its next chapter. An active leader with NCARB and the North Carolina Board of Architecture\, she also spearheads the firm’s healthcare projects. The firm was recently honored with the Equitable and Inclusive Practice Award by AIA North Carolina and NC NOMA. Megan Kaufmann\, AIA – Founder and Principal of KC Studios  Megan is the founder and principal of KC Studios\, a Raleigh-based architecture practice she launched in 2017. Since its founding\, the firm has grown into a team of five\, specializing in commercial and healthcare projects across North Carolina. As an entrepreneur and architect\, Megan is passionate about supporting women in practice.  What you’ll gain from this event: \n\nBuild connections with a community that shares your values.\nHear inspiring stories from women leading in the profession.\nTake time to reflect on your own story and recognize your strengths.\n\n\n\n\nTESTIMONIAL: “Being a sole proprietor can be lonely and by participating in the breakfast\, I have had the opportunity to catch up with my fellow practitioners\, meet new people and discuss challenges and successes that I am experiencing. After the breakfast\, I feel supported and inspired…ready to take on the next challenge.”   -Heather Washburn\, calico studio \n\n\n\n\nIndividual tickets are still available for purchase! If you purchased a ticket for the original date and are not able to join us on March 14\, please click here to begin the refund process.  \nSign Up for the 2025 WIA Triangle Mentorship Circles below!
URL:https://aiatriangle.org/event/3rd-annual-women-in-architecture-breakfast/
LOCATION:Prestonwood Country Club\, 300 Prestonwood Pkwy\, Cary\, NC\, 27513\, United States
CATEGORIES:Women in Architecture
END:VEVENT
END:VCALENDAR