BEGIN:VCALENDAR
VERSION:2.0
PRODID:-//AIA Triangle - ECPv6.15.20//NONSGML v1.0//EN
CALSCALE:GREGORIAN
METHOD:PUBLISH
X-WR-CALNAME:AIA Triangle
X-ORIGINAL-URL:https://aiatriangle.org
X-WR-CALDESC:Events for AIA Triangle
REFRESH-INTERVAL;VALUE=DURATION:PT1H
X-Robots-Tag:noindex
X-PUBLISHED-TTL:PT1H
BEGIN:VTIMEZONE
TZID:America/New_York
BEGIN:DAYLIGHT
TZOFFSETFROM:-0500
TZOFFSETTO:-0400
TZNAME:EDT
DTSTART:20200308T070000
END:DAYLIGHT
BEGIN:STANDARD
TZOFFSETFROM:-0400
TZOFFSETTO:-0500
TZNAME:EST
DTSTART:20201101T060000
END:STANDARD
BEGIN:DAYLIGHT
TZOFFSETFROM:-0500
TZOFFSETTO:-0400
TZNAME:EDT
DTSTART:20210314T070000
END:DAYLIGHT
BEGIN:STANDARD
TZOFFSETFROM:-0400
TZOFFSETTO:-0500
TZNAME:EST
DTSTART:20211107T060000
END:STANDARD
BEGIN:DAYLIGHT
TZOFFSETFROM:-0500
TZOFFSETTO:-0400
TZNAME:EDT
DTSTART:20220313T070000
END:DAYLIGHT
BEGIN:STANDARD
TZOFFSETFROM:-0400
TZOFFSETTO:-0500
TZNAME:EST
DTSTART:20221106T060000
END:STANDARD
END:VTIMEZONE
BEGIN:VEVENT
DTSTART;VALUE=DATE:20210806
DTEND;VALUE=DATE:20210807
DTSTAMP:20260423T163629
CREATED:20200226T212158Z
LAST-MODIFIED:20210429T163503Z
UID:10000141-1628208000-1628294399@aiatriangle.org
SUMMARY:CANstruction 2021
DESCRIPTION:|  \n Friday\, August 6\, 2021 | Raleigh Union Station \nCANstruction’s mission is to provide hunger relief assistance by collecting canned food for distribution to local food banks while promoting the design/build industry. \nThe theme for CANstruction this year is TRANSPORTATION – promoting awareness of public/alternative transportation in our local community. CANstruction build day is August 6th at Raleigh Union Station. We’re excited to announce our builds will be on display in Union Station for two weeks!  MORE INFORMATION \n 
URL:https://aiatriangle.org/event/canstruction-2021/
LOCATION:Raleigh Union Station\, 510 W. Martin Street\, Raleigh\, NC\, 27603\, United States
CATEGORIES:CANstruction
ORGANIZER;CN="Jessica Urso":MAILTO:jurso@mcdonaldyork.com
END:VEVENT
END:VCALENDAR