BEGIN:VCALENDAR
VERSION:2.0
PRODID:-//AIA Triangle - ECPv6.15.20//NONSGML v1.0//EN
CALSCALE:GREGORIAN
METHOD:PUBLISH
X-ORIGINAL-URL:https://aiatriangle.org
X-WR-CALDESC:Events for AIA Triangle
REFRESH-INTERVAL;VALUE=DURATION:PT1H
X-Robots-Tag:noindex
X-PUBLISHED-TTL:PT1H
BEGIN:VTIMEZONE
TZID:America/New_York
BEGIN:DAYLIGHT
TZOFFSETFROM:-0500
TZOFFSETTO:-0400
TZNAME:EDT
DTSTART:20220313T070000
END:DAYLIGHT
BEGIN:STANDARD
TZOFFSETFROM:-0400
TZOFFSETTO:-0500
TZNAME:EST
DTSTART:20221106T060000
END:STANDARD
BEGIN:DAYLIGHT
TZOFFSETFROM:-0500
TZOFFSETTO:-0400
TZNAME:EDT
DTSTART:20230312T070000
END:DAYLIGHT
BEGIN:STANDARD
TZOFFSETFROM:-0400
TZOFFSETTO:-0500
TZNAME:EST
DTSTART:20231105T060000
END:STANDARD
BEGIN:DAYLIGHT
TZOFFSETFROM:-0500
TZOFFSETTO:-0400
TZNAME:EDT
DTSTART:20240310T070000
END:DAYLIGHT
BEGIN:STANDARD
TZOFFSETFROM:-0400
TZOFFSETTO:-0500
TZNAME:EST
DTSTART:20241103T060000
END:STANDARD
BEGIN:DAYLIGHT
TZOFFSETFROM:-0500
TZOFFSETTO:-0400
TZNAME:EDT
DTSTART:20250309T070000
END:DAYLIGHT
BEGIN:STANDARD
TZOFFSETFROM:-0400
TZOFFSETTO:-0500
TZNAME:EST
DTSTART:20251102T060000
END:STANDARD
BEGIN:DAYLIGHT
TZOFFSETFROM:-0500
TZOFFSETTO:-0400
TZNAME:EDT
DTSTART:20260308T070000
END:DAYLIGHT
BEGIN:STANDARD
TZOFFSETFROM:-0400
TZOFFSETTO:-0500
TZNAME:EST
DTSTART:20261101T060000
END:STANDARD
BEGIN:DAYLIGHT
TZOFFSETFROM:-0500
TZOFFSETTO:-0400
TZNAME:EDT
DTSTART:20270314T070000
END:DAYLIGHT
BEGIN:STANDARD
TZOFFSETFROM:-0400
TZOFFSETTO:-0500
TZNAME:EST
DTSTART:20271107T060000
END:STANDARD
END:VTIMEZONE
BEGIN:VEVENT
DTSTART;TZID=America/New_York:20260319T160000
DTEND;TZID=America/New_York:20260319T180000
DTSTAMP:20260424T180639
CREATED:20260226T175423Z
LAST-MODIFIED:20260226T204031Z
UID:10000692-1773936000-1773943200@aiatriangle.org
SUMMARY:BEC 2026 Member Social
DESCRIPTION:Building Enclosure Council\n2026 Member Social\nThursday\, March 19\, 2026\n4:00 – 6:00 p.m. \nFree! Register at https://becresearchtriangle.starchapter.com/meetinginfo.php
URL:https://aiatriangle.org/event/bec-2026-member-social/
LOCATION:R&D Brewing\, 1399 Capital Boulevard\, Raleigh\, NC\, 27603\, United States
END:VEVENT
BEGIN:VEVENT
DTSTART;TZID=America/New_York:20230307T163000
DTEND;TZID=America/New_York:20230307T190000
DTSTAMP:20260424T180639
CREATED:20230208T191109Z
LAST-MODIFIED:20230222T140850Z
UID:10000448-1678206600-1678215600@aiatriangle.org
SUMMARY:WIA/NAWIC Happy Hour
DESCRIPTION:AIA Triangle WIA & NAWIC Event\n\n\nHappy Hour\n\n\nTuesday\, March 7\, 2023 | 4:30 PM – 7:00 PM\n\n\nR&D Brewing | 1399 Capital Boulevard\, Raleigh\, NC\n\n\n\n\n\nRSVP HERE
URL:https://aiatriangle.org/event/wia-nawic-happy-hour/
LOCATION:R&D Brewing\, 1399 Capital Boulevard\, Raleigh\, NC\, 27603\, United States
CATEGORIES:Women in Architecture
ORGANIZER;CN="Chris Stetkiewicz":MAILTO:info@aiatriangle.org
END:VEVENT
END:VCALENDAR