BEGIN:VCALENDAR
VERSION:2.0
PRODID:-//AIA Triangle - ECPv6.15.20//NONSGML v1.0//EN
CALSCALE:GREGORIAN
METHOD:PUBLISH
X-ORIGINAL-URL:https://aiatriangle.org
X-WR-CALDESC:Events for AIA Triangle
REFRESH-INTERVAL;VALUE=DURATION:PT1H
X-Robots-Tag:noindex
X-PUBLISHED-TTL:PT1H
BEGIN:VTIMEZONE
TZID:America/New_York
BEGIN:DAYLIGHT
TZOFFSETFROM:-0500
TZOFFSETTO:-0400
TZNAME:EDT
DTSTART:20210314T070000
END:DAYLIGHT
BEGIN:STANDARD
TZOFFSETFROM:-0400
TZOFFSETTO:-0500
TZNAME:EST
DTSTART:20211107T060000
END:STANDARD
BEGIN:DAYLIGHT
TZOFFSETFROM:-0500
TZOFFSETTO:-0400
TZNAME:EDT
DTSTART:20220313T070000
END:DAYLIGHT
BEGIN:STANDARD
TZOFFSETFROM:-0400
TZOFFSETTO:-0500
TZNAME:EST
DTSTART:20221106T060000
END:STANDARD
BEGIN:DAYLIGHT
TZOFFSETFROM:-0500
TZOFFSETTO:-0400
TZNAME:EDT
DTSTART:20230312T070000
END:DAYLIGHT
BEGIN:STANDARD
TZOFFSETFROM:-0400
TZOFFSETTO:-0500
TZNAME:EST
DTSTART:20231105T060000
END:STANDARD
END:VTIMEZONE
BEGIN:VEVENT
DTSTART;TZID=America/New_York:20220521T130000
DTEND;TZID=America/New_York:20220521T150000
DTSTAMP:20260423T163447
CREATED:20220512T172531Z
LAST-MODIFIED:20220512T174551Z
UID:10000358-1653138000-1653145200@aiatriangle.org
SUMMARY:Leadership Forum - SEEDS Open House and Grand Opening Celebration
DESCRIPTION:SEEDS Open House & Grand Opening Celebration of\n\n\nAIA Triangle Leadership Forum Class of 2021 Project!\n\n\n\n \nCelebrate SEEDS 28th Anniversary! \nExplore the farm at your leisure at the Open House \nSaturday\, May 21 | 1:00 PM – 3:00 PM \nSEEDS | 706 Gilbert Street | Durham\, NC 27701 \nJoin us for the Open House at SEEDS and check out the AIA Triangle Leadership Forum Class of 2021’s design/build service projects. Enjoy exploring the two-acre garden\, celebrate SEEDS 28th anniversary\, and meet some of the students that learn and grow there.  Volunteer opportunities are available on Saturday\, May 14th and Saturday May 21st. \nJOIN US AT SEEDS! \nRSVP HERE \n\nSEEDS is a non-profit organization housing a two-acre urban garden and kitchen classroom in the heart of Durham. SEEDS develops the capacity of young people to respect life\, the earth\, and each other through growing\, cooking\, and sharing food.  Learn more about SEEDS HERE \nAIAT Leadership Forum Class of 2021 consists of eight architects\, designers\, and engineers that have undergone leadership training over the last year and are culminating training through a design/build project at SEEDS. The open house will reveal the chicken coop our team has been working on designing and building over the past several weeks. The addition of this coop will allow SEEDS to incorporate livestock into their experiential teaching program. We are also working on completing a few other smaller scale projects on site to help improve SEEDS visibility from the street and create a more user-friendly space on campus.  \n\n\n\n\nVOLUNTEER OPPORTUNITIES TO HELP MAKE AN IMPACT AT SEEDS!\n\n\n\n\n\n\nSaturday\, May 14th | 9:00 AM – 4:00 PM\nDo you like working with your hands?  Would you like to learn more about chicken coop construction?  Join us to participate in construction of chicken coop on site at SEEDS!  Email Colin McCarville colin.mccarville@ibigroup.com to volunteer on Saturday\, May 14th. \nSaturday\, May 21st | 9:00 AM – 11:30 AM\nHelp put the finishing touches on the chicken coop\, add some landscaping\, prepare foundation for site signage\, or pull some weeds around the two-acre farm!  After some morning volunteering\, enjoy lunch and a cold beverage at one of the many great venues nearby and come back to celebrate at the open house!   \nPlease sign up to volunteer! \n VOLUNTEER HERE
URL:https://aiatriangle.org/event/leadership-forum-seeds-open-house-and-grand-opening-celebration/
LOCATION:Seeds\, 706 Gilbert Street\, Durham\, NC\, 27701\, United States
CATEGORIES:Leadership Forum
ORGANIZER;CN="Colin McCarville":MAILTO:cpm616@gmail.com
END:VEVENT
END:VCALENDAR