BEGIN:VCALENDAR
VERSION:2.0
PRODID:-//AIA Triangle - ECPv6.15.20//NONSGML v1.0//EN
CALSCALE:GREGORIAN
METHOD:PUBLISH
X-ORIGINAL-URL:https://aiatriangle.org
X-WR-CALDESC:Events for AIA Triangle
REFRESH-INTERVAL;VALUE=DURATION:PT1H
X-Robots-Tag:noindex
X-PUBLISHED-TTL:PT1H
BEGIN:VTIMEZONE
TZID:America/New_York
BEGIN:DAYLIGHT
TZOFFSETFROM:-0500
TZOFFSETTO:-0400
TZNAME:EDT
DTSTART:20220313T070000
END:DAYLIGHT
BEGIN:STANDARD
TZOFFSETFROM:-0400
TZOFFSETTO:-0500
TZNAME:EST
DTSTART:20221106T060000
END:STANDARD
BEGIN:DAYLIGHT
TZOFFSETFROM:-0500
TZOFFSETTO:-0400
TZNAME:EDT
DTSTART:20230312T070000
END:DAYLIGHT
BEGIN:STANDARD
TZOFFSETFROM:-0400
TZOFFSETTO:-0500
TZNAME:EST
DTSTART:20231105T060000
END:STANDARD
BEGIN:DAYLIGHT
TZOFFSETFROM:-0500
TZOFFSETTO:-0400
TZNAME:EDT
DTSTART:20240310T070000
END:DAYLIGHT
BEGIN:STANDARD
TZOFFSETFROM:-0400
TZOFFSETTO:-0500
TZNAME:EST
DTSTART:20241103T060000
END:STANDARD
END:VTIMEZONE
BEGIN:VEVENT
DTSTART;TZID=America/New_York:20231116T160000
DTEND;TZID=America/New_York:20231116T170000
DTSTAMP:20260425T113254
CREATED:20231019T203327Z
LAST-MODIFIED:20231019T203433Z
UID:10000524-1700150400-1700154000@aiatriangle.org
SUMMARY:Women in Architecture - Building Tour - Steve Troxler Agricultural Sciences Center
DESCRIPTION:  \n\n\n\nAIA Triangle Women in Architecture\n\n\nBuilding Tour – Steve Troxler Agricultural Sciences Center\n\n\nThursday\, November 16\, 2023\n\n\n4:00 – 5:00 PM\n\n\nSteve Troxler Agricultural Sciences Center\n\n\n4400 Reedy Creek Rd | Raleigh NC\, 27607\n\n\nRegistration Required — Tour Is Limited to 40 Attendees!\n\n\n\n\n\n\n\n\nPlease join WIA for a tour of the Steve Troxler Agricultural Sciences Center. Designed by HH Architecture\, The Steve Troxler Agricultural Sciences Center was awarded first place for the 2022 Triangle Business Journal Space Awards in the Top State/County/Municipal Project category. The tour will start promptly at 4:00 p.m. and end at 5:00 p.m. The tour is free but registration is required\, as space is limited to 40 participants.
URL:https://aiatriangle.org/event/women-in-architecture-building-tour/
LOCATION:Steve Troxler Agricultural Sciences Center\, 4400 Reedy Creek Rd\, Raleigh\, NC\, 27607
CATEGORIES:Women in Architecture
END:VEVENT
END:VCALENDAR